| Back to Multiple platform build/check report for BioC 3.15 |
|
This page was generated on 2022-10-19 13:21:23 -0400 (Wed, 19 Oct 2022).
| Hostname | OS | Arch (*) | R version | Installed pkgs |
|---|---|---|---|---|
| nebbiolo1 | Linux (Ubuntu 20.04.5 LTS) | x86_64 | 4.2.1 (2022-06-23) -- "Funny-Looking Kid" | 4386 |
| palomino3 | Windows Server 2022 Datacenter | x64 | 4.2.1 (2022-06-23 ucrt) -- "Funny-Looking Kid" | 4138 |
| merida1 | macOS 10.14.6 Mojave | x86_64 | 4.2.1 (2022-06-23) -- "Funny-Looking Kid" | 4205 |
| Click on any hostname to see more info about the system (e.g. compilers) (*) as reported by 'uname -p', except on Windows and Mac OS X | ||||
|
To the developers/maintainers of the DESeq2 package: - Please allow up to 24 hours (and sometimes 48 hours) for your latest push to git@git.bioconductor.org:packages/DESeq2.git to reflect on this report. See How and When does the builder pull? When will my changes propagate? for more information. - Make sure to use the following settings in order to reproduce any error or warning you see on this page. |
| Package 514/2140 | Hostname | OS / Arch | INSTALL | BUILD | CHECK | BUILD BIN | ||||||||
| DESeq2 1.36.0 (landing page) Michael Love
| nebbiolo1 | Linux (Ubuntu 20.04.5 LTS) / x86_64 | OK | OK | OK | |||||||||
| palomino3 | Windows Server 2022 Datacenter / x64 | OK | OK | OK | OK | |||||||||
| merida1 | macOS 10.14.6 Mojave / x86_64 | OK | OK | OK | OK | |||||||||
| Package: DESeq2 |
| Version: 1.36.0 |
| Command: F:\biocbuild\bbs-3.15-bioc\R\bin\R.exe CMD check --no-multiarch --install=check:DESeq2.install-out.txt --library=F:\biocbuild\bbs-3.15-bioc\R\library --no-vignettes --timings DESeq2_1.36.0.tar.gz |
| StartedAt: 2022-10-18 23:38:01 -0400 (Tue, 18 Oct 2022) |
| EndedAt: 2022-10-18 23:47:50 -0400 (Tue, 18 Oct 2022) |
| EllapsedTime: 589.0 seconds |
| RetCode: 0 |
| Status: OK |
| CheckDir: DESeq2.Rcheck |
| Warnings: 0 |
##############################################################################
##############################################################################
###
### Running command:
###
### F:\biocbuild\bbs-3.15-bioc\R\bin\R.exe CMD check --no-multiarch --install=check:DESeq2.install-out.txt --library=F:\biocbuild\bbs-3.15-bioc\R\library --no-vignettes --timings DESeq2_1.36.0.tar.gz
###
##############################################################################
##############################################################################
* using log directory 'F:/biocbuild/bbs-3.15-bioc/meat/DESeq2.Rcheck'
* using R version 4.2.1 (2022-06-23 ucrt)
* using platform: x86_64-w64-mingw32 (64-bit)
* using session charset: UTF-8
* using option '--no-vignettes'
* checking for file 'DESeq2/DESCRIPTION' ... OK
* checking extension type ... Package
* this is package 'DESeq2' version '1.36.0'
* package encoding: UTF-8
* checking package namespace information ... OK
* checking package dependencies ... OK
* checking if this is a source package ... OK
* checking if there is a namespace ... OK
* checking for hidden files and directories ... OK
* checking for portable file names ... OK
* checking whether package 'DESeq2' can be installed ... OK
* checking installed package size ... OK
* checking package directory ... OK
* checking 'build' directory ... OK
* checking DESCRIPTION meta-information ... OK
* checking top-level files ... OK
* checking for left-over files ... OK
* checking index information ... OK
* checking package subdirectories ... OK
* checking R files for non-ASCII characters ... OK
* checking R files for syntax errors ... OK
* checking whether the package can be loaded ... OK
* checking whether the package can be loaded with stated dependencies ... OK
* checking whether the package can be unloaded cleanly ... OK
* checking whether the namespace can be loaded with stated dependencies ... OK
* checking whether the namespace can be unloaded cleanly ... OK
* checking dependencies in R code ... OK
* checking S3 generic/method consistency ... OK
* checking replacement functions ... OK
* checking foreign function calls ... OK
* checking R code for possible problems ... OK
* checking Rd files ... OK
* checking Rd metadata ... OK
* checking Rd cross-references ... OK
* checking for missing documentation entries ... OK
* checking for code/documentation mismatches ... OK
* checking Rd \usage sections ... OK
* checking Rd contents ... OK
* checking for unstated dependencies in examples ... OK
* checking line endings in C/C++/Fortran sources/headers ... OK
* checking line endings in Makefiles ... OK
* checking compilation flags in Makevars ... OK
* checking for GNU extensions in Makefiles ... OK
* checking for portable use of $(BLAS_LIBS) and $(LAPACK_LIBS) ... OK
* checking use of PKG_*FLAGS in Makefiles ... OK
* checking compiled code ... NOTE
Note: information on .o files for x64 is not available
File 'F:/biocbuild/bbs-3.15-bioc/R/library/DESeq2/libs/x64/DESeq2.dll':
Found 'abort', possibly from 'abort' (C), 'runtime' (Fortran)
Found 'exit', possibly from 'exit' (C), 'stop' (Fortran)
Compiled code should not call entry points which might terminate R nor
write to stdout/stderr instead of to the console, nor use Fortran I/O
nor system RNGs. The detected symbols are linked into the code but
might come from libraries and not actually be called.
See 'Writing portable packages' in the 'Writing R Extensions' manual.
* checking files in 'vignettes' ... OK
* checking examples ... OK
Examples with CPU (user + system) or elapsed time > 5s
user system elapsed
results 8.42 0.04 8.47
* checking for unstated dependencies in 'tests' ... OK
* checking tests ...
Running 'testthat.R'
OK
* checking for unstated dependencies in vignettes ... OK
* checking package vignettes in 'inst/doc' ... OK
* checking running R code from vignettes ... SKIPPED
* checking re-building of vignette outputs ... SKIPPED
* checking PDF version of manual ... OK
* DONE
Status: 1 NOTE
See
'F:/biocbuild/bbs-3.15-bioc/meat/DESeq2.Rcheck/00check.log'
for details.
DESeq2.Rcheck/00install.out
############################################################################## ############################################################################## ### ### Running command: ### ### F:\biocbuild\bbs-3.15-bioc\R\bin\R.exe CMD INSTALL DESeq2 ### ############################################################################## ############################################################################## * installing to library 'F:/biocbuild/bbs-3.15-bioc/R/library' * installing *source* package 'DESeq2' ... ** using staged installation ** libs g++ -std=gnu++11 -I"F:/biocbuild/bbs-3.15-bioc/R/include" -DNDEBUG -I'F:/biocbuild/bbs-3.15-bioc/R/library/Rcpp/include' -I'F:/biocbuild/bbs-3.15-bioc/R/library/RcppArmadillo/include' -I"C:/rtools42/x86_64-w64-mingw32.static.posix/include" -O2 -Wall -mfpmath=sse -msse2 -mstackrealign -c DESeq2.cpp -o DESeq2.o g++ -std=gnu++11 -I"F:/biocbuild/bbs-3.15-bioc/R/include" -DNDEBUG -I'F:/biocbuild/bbs-3.15-bioc/R/library/Rcpp/include' -I'F:/biocbuild/bbs-3.15-bioc/R/library/RcppArmadillo/include' -I"C:/rtools42/x86_64-w64-mingw32.static.posix/include" -O2 -Wall -mfpmath=sse -msse2 -mstackrealign -c RcppExports.cpp -o RcppExports.o g++ -std=gnu++11 -shared -s -static-libgcc -o DESeq2.dll tmp.def DESeq2.o RcppExports.o -LF:/biocbuild/bbs-3.15-bioc/R/bin/x64 -lRlapack -LF:/biocbuild/bbs-3.15-bioc/R/bin/x64 -lRblas -lgfortran -lm -lquadmath -LC:/rtools42/x86_64-w64-mingw32.static.posix/lib/x64 -LC:/rtools42/x86_64-w64-mingw32.static.posix/lib -LF:/biocbuild/bbs-3.15-bioc/R/bin/x64 -lR installing to F:/biocbuild/bbs-3.15-bioc/R/library/00LOCK-DESeq2/00new/DESeq2/libs/x64 ** R ** inst ** byte-compile and prepare package for lazy loading ** help *** installing help indices ** building package indices ** installing vignettes ** testing if installed package can be loaded from temporary location ** testing if installed package can be loaded from final location ** testing if installed package keeps a record of temporary installation path * DONE (DESeq2)
DESeq2.Rcheck/tests/testthat.Rout
R version 4.2.1 (2022-06-23 ucrt) -- "Funny-Looking Kid"
Copyright (C) 2022 The R Foundation for Statistical Computing
Platform: x86_64-w64-mingw32/x64 (64-bit)
R is free software and comes with ABSOLUTELY NO WARRANTY.
You are welcome to redistribute it under certain conditions.
Type 'license()' or 'licence()' for distribution details.
R is a collaborative project with many contributors.
Type 'contributors()' for more information and
'citation()' on how to cite R or R packages in publications.
Type 'demo()' for some demos, 'help()' for on-line help, or
'help.start()' for an HTML browser interface to help.
Type 'q()' to quit R.
> library("testthat")
> library("DESeq2")
Loading required package: S4Vectors
Loading required package: stats4
Loading required package: BiocGenerics
Attaching package: 'BiocGenerics'
The following objects are masked from 'package:stats':
IQR, mad, sd, var, xtabs
The following objects are masked from 'package:base':
Filter, Find, Map, Position, Reduce, anyDuplicated, append,
as.data.frame, basename, cbind, colnames, dirname, do.call,
duplicated, eval, evalq, get, grep, grepl, intersect, is.unsorted,
lapply, mapply, match, mget, order, paste, pmax, pmax.int, pmin,
pmin.int, rank, rbind, rownames, sapply, setdiff, sort, table,
tapply, union, unique, unsplit, which.max, which.min
Attaching package: 'S4Vectors'
The following objects are masked from 'package:base':
I, expand.grid, unname
Loading required package: IRanges
Attaching package: 'IRanges'
The following object is masked from 'package:grDevices':
windows
Loading required package: GenomicRanges
Loading required package: GenomeInfoDb
Loading required package: SummarizedExperiment
Loading required package: MatrixGenerics
Loading required package: matrixStats
Attaching package: 'MatrixGenerics'
The following objects are masked from 'package:matrixStats':
colAlls, colAnyNAs, colAnys, colAvgsPerRowSet, colCollapse,
colCounts, colCummaxs, colCummins, colCumprods, colCumsums,
colDiffs, colIQRDiffs, colIQRs, colLogSumExps, colMadDiffs,
colMads, colMaxs, colMeans2, colMedians, colMins, colOrderStats,
colProds, colQuantiles, colRanges, colRanks, colSdDiffs, colSds,
colSums2, colTabulates, colVarDiffs, colVars, colWeightedMads,
colWeightedMeans, colWeightedMedians, colWeightedSds,
colWeightedVars, rowAlls, rowAnyNAs, rowAnys, rowAvgsPerColSet,
rowCollapse, rowCounts, rowCummaxs, rowCummins, rowCumprods,
rowCumsums, rowDiffs, rowIQRDiffs, rowIQRs, rowLogSumExps,
rowMadDiffs, rowMads, rowMaxs, rowMeans2, rowMedians, rowMins,
rowOrderStats, rowProds, rowQuantiles, rowRanges, rowRanks,
rowSdDiffs, rowSds, rowSums2, rowTabulates, rowVarDiffs, rowVars,
rowWeightedMads, rowWeightedMeans, rowWeightedMedians,
rowWeightedSds, rowWeightedVars
Loading required package: Biobase
Welcome to Bioconductor
Vignettes contain introductory material; view with
'browseVignettes()'. To cite Bioconductor, see
'citation("Biobase")', and for packages 'citation("pkgname")'.
Attaching package: 'Biobase'
The following object is masked from 'package:MatrixGenerics':
rowMedians
The following objects are masked from 'package:matrixStats':
anyMissing, rowMedians
> test_check("DESeq2")
warning: solve(): system is singular (rcond: 2.4542e-17); attempting approx solution
warning: solve(): system is singular (rcond: 4.1485e-17); attempting approx solution
warning: solve(): system is singular (rcond: 6.60856e-17); attempting approx solution
warning: solve(): system is singular (rcond: 8.04428e-17); attempting approx solution
warning: solve(): system is singular (rcond: 1.00017e-16); attempting approx solution
warning: solve(): system is singular (rcond: 2.11853e-17); attempting approx solution
warning: solve(): system is singular (rcond: 1.38737e-17); attempting approx solution
warning: solve(): system is singular (rcond: 1.4018e-17); attempting approx solution
warning: solve(): system is singular (rcond: 1.42504e-17); attempting approx solution
warning: solve(): system is singular (rcond: 1.45356e-17); attempting approx solution
warning: solve(): system is singular (rcond: 3.32062e-17); attempting approx solution
warning: solve(): system is singular (rcond: 8.47034e-17); attempting approx solution
warning: solve(): system is singular (rcond: 1.38737e-17); attempting approx solution
warning: solve(): system is singular (rcond: 1.4018e-17); attempting approx solution
warning: solve(): system is singular (rcond: 1.42504e-17); attempting approx solution
warning: solve(): system is singular (rcond: 1.45356e-17); attempting approx solution
warning: solve(): system is singular (rcond: 3.32062e-17); attempting approx solution
warning: solve(): system is singular (rcond: 8.47034e-17); attempting approx solution
warning: solve(): system is singular (rcond: 1.38737e-17); attempting approx solution
warning: solve(): system is singular (rcond: 1.4018e-17); attempting approx solution
warning: solve(): system is singular (rcond: 1.42504e-17); attempting approx solution
warning: solve(): system is singular (rcond: 1.45356e-17); attempting approx solution
warning: solve(): system is singular (rcond: 3.32062e-17); attempting approx solution
warning: solve(): system is singular (rcond: 8.47034e-17); attempting approx solution
warning: solve(): system is singular (rcond: 1.38737e-17); attempting approx solution
warning: solve(): system is singular (rcond: 1.4018e-17); attempting approx solution
warning: solve(): system is singular (rcond: 1.42504e-17); attempting approx solution
warning: solve(): system is singular (rcond: 1.45356e-17); attempting approx solution
warning: solve(): system is singular (rcond: 3.32062e-17); attempting approx solution
warning: solve(): system is singular (rcond: 8.47034e-17); attempting approx solution
[ FAIL 0 | WARN 0 | SKIP 3 | PASS 231 ]
══ Skipped tests ═══════════════════════════════════════════════════════════════
• empty test (3)
[ FAIL 0 | WARN 0 | SKIP 3 | PASS 231 ]
Warning message:
call dbDisconnect() when finished working with a connection
>
> proc.time()
user system elapsed
197.54 4.85 307.90
DESeq2.Rcheck/DESeq2-Ex.timings
| name | user | system | elapsed | |
| DESeq | 4.53 | 0.16 | 4.71 | |
| DESeqDataSet | 1.02 | 0.00 | 1.01 | |
| coef | 2.75 | 0.03 | 2.78 | |
| collapseReplicates | 0.33 | 0.00 | 0.33 | |
| counts | 0.28 | 0.00 | 0.28 | |
| design | 0.14 | 0.00 | 0.14 | |
| dispersionFunction | 1.88 | 0.00 | 1.87 | |
| estimateDispersions | 1.14 | 0.00 | 1.14 | |
| estimateDispersionsGeneEst | 1.08 | 0.00 | 1.08 | |
| estimateSizeFactors | 0.69 | 0.02 | 0.71 | |
| estimateSizeFactorsForMatrix | 0.15 | 0.00 | 0.15 | |
| fpkm | 0.89 | 0.00 | 0.89 | |
| fpm | 0.60 | 0.03 | 0.63 | |
| integrateWithSingleCell | 0 | 0 | 0 | |
| lfcShrink | 3.61 | 0.01 | 3.62 | |
| makeExampleDESeqDataSet | 0.17 | 0.00 | 0.17 | |
| nbinomLRT | 2.08 | 0.04 | 2.11 | |
| nbinomWaldTest | 1.78 | 0.03 | 1.81 | |
| normalizationFactors | 2.03 | 0.02 | 2.05 | |
| plotCounts | 0.36 | 0.00 | 0.36 | |
| plotDispEsts | 1.09 | 0.01 | 1.11 | |
| plotMA | 2.06 | 0.04 | 2.11 | |
| plotPCA | 2.07 | 0.03 | 2.09 | |
| plotSparsity | 0.36 | 0.00 | 0.36 | |
| results | 8.42 | 0.04 | 8.47 | |
| rlog | 1.15 | 0.02 | 1.17 | |
| summary | 2.33 | 0.01 | 2.34 | |
| unmix | 0.33 | 0.00 | 0.33 | |
| varianceStabilizingTransformation | 0.78 | 0.00 | 0.78 | |
| vst | 0.91 | 0.00 | 0.91 | |