| Back to Multiple platform build/check report for BioC 3.15 |
|
This page was generated on 2022-03-18 11:07:16 -0400 (Fri, 18 Mar 2022).
| Hostname | OS | Arch (*) | R version | Installed pkgs |
|---|---|---|---|---|
| nebbiolo1 | Linux (Ubuntu 20.04.4 LTS) | x86_64 | R Under development (unstable) (2022-02-17 r81757) -- "Unsuffered Consequences" | 4334 |
| riesling1 | Windows Server 2019 Standard | x64 | R Under development (unstable) (2021-11-21 r81221) -- "Unsuffered Consequences" | 4097 |
| palomino3 | Windows Server 2022 Datacenter | x64 | R Under development (unstable) (2022-02-17 r81757 ucrt) -- "Unsuffered Consequences" | 4083 |
| merida1 | macOS 10.14.6 Mojave | x86_64 | R Under development (unstable) (2022-03-02 r81842) -- "Unsuffered Consequences" | 4134 |
| Click on any hostname to see more info about the system (e.g. compilers) (*) as reported by 'uname -p', except on Windows and Mac OS X | ||||
|
To the developers/maintainers of the CountClust package: - Please allow up to 24 hours (and sometimes 48 hours) for your latest push to git@git.bioconductor.org:packages/CountClust.git to reflect on this report. See How and When does the builder pull? When will my changes propagate? here for more information. - Make sure to use the following settings in order to reproduce any error or warning you see on this page. |
| Package 411/2090 | Hostname | OS / Arch | INSTALL | BUILD | CHECK | BUILD BIN | ||||||||
Kushal Dey
| nebbiolo1 | Linux (Ubuntu 20.04.4 LTS) / x86_64 | OK | ERROR | skipped | |||||||||
| riesling1 | Windows Server 2019 Standard / x64 | OK | ERROR | skipped | skipped | |||||||||
| palomino3 | Windows Server 2022 Datacenter / x64 | OK | ERROR | skipped | skipped | |||||||||
| merida1 | macOS 10.14.6 Mojave / x86_64 | OK | ERROR | skipped | skipped | |||||||||
| Package: CountClust |
| Version: 1.23.1 |
| Command: D:\biocbuild\bbs-3.15-bioc\R\bin\R.exe CMD INSTALL CountClust |
| StartedAt: 2022-03-17 15:30:38 -0400 (Thu, 17 Mar 2022) |
| EndedAt: 2022-03-17 15:31:43 -0400 (Thu, 17 Mar 2022) |
| EllapsedTime: 64.9 seconds |
| RetCode: 0 |
| Status: OK |
##############################################################################
##############################################################################
###
### Running command:
###
### D:\biocbuild\bbs-3.15-bioc\R\bin\R.exe CMD INSTALL CountClust
###
##############################################################################
##############################################################################
* installing to library 'D:/biocbuild/bbs-3.15-bioc/R/library'
* installing *source* package 'CountClust' ...
** using staged installation
** R
** data
*** moving datasets to lazyload DB
** inst
** byte-compile and prepare package for lazy loading
** help
*** installing help indices
converting help for package 'CountClust'
finding HTML links ... done
AbundanceGoM html
BatchCorrectedCounts html
ExtractHighCorFeatures html
ExtractTopFeatures html
FitGoM html
GTExV6Brain.FitGoM html
MouseDeng2014.FitGoM html
MouseJaitinSpleen.FitGoM html
RemoveSparseFeatures html
StructureGGplot html
compGoM html
compare_omega html
ex.counts html
handleNA html
nullmodel_GoM html
** building package indices
** installing vignettes
** testing if installed package can be loaded from temporary location
Warning: Package 'CountClust' is deprecated and will be removed from
Bioconductor version 3.16
** testing if installed package can be loaded from final location
Warning: Package 'CountClust' is deprecated and will be removed from
Bioconductor version 3.16
** testing if installed package keeps a record of temporary installation path
* DONE (CountClust)
Making 'packages.html' ... done