| Back to Multiple platform build/check report for BioC 3.15 |
|
This page was generated on 2022-03-18 11:07:17 -0400 (Fri, 18 Mar 2022).
| Hostname | OS | Arch (*) | R version | Installed pkgs |
|---|---|---|---|---|
| nebbiolo1 | Linux (Ubuntu 20.04.4 LTS) | x86_64 | R Under development (unstable) (2022-02-17 r81757) -- "Unsuffered Consequences" | 4334 |
| riesling1 | Windows Server 2019 Standard | x64 | R Under development (unstable) (2021-11-21 r81221) -- "Unsuffered Consequences" | 4097 |
| palomino3 | Windows Server 2022 Datacenter | x64 | R Under development (unstable) (2022-02-17 r81757 ucrt) -- "Unsuffered Consequences" | 4083 |
| merida1 | macOS 10.14.6 Mojave | x86_64 | R Under development (unstable) (2022-03-02 r81842) -- "Unsuffered Consequences" | 4134 |
| Click on any hostname to see more info about the system (e.g. compilers) (*) as reported by 'uname -p', except on Windows and Mac OS X | ||||
|
To the developers/maintainers of the CRISPRseek package: - Please allow up to 24 hours (and sometimes 48 hours) for your latest push to git@git.bioconductor.org:packages/CRISPRseek.git to reflect on this report. See How and When does the builder pull? When will my changes propagate? here for more information. - Make sure to use the following settings in order to reproduce any error or warning you see on this page. |
| Package 422/2090 | Hostname | OS / Arch | INSTALL | BUILD | CHECK | BUILD BIN | ||||||||
| CRISPRseek 1.35.6 (landing page) Lihua Julie Zhu
| nebbiolo1 | Linux (Ubuntu 20.04.4 LTS) / x86_64 | OK | OK | OK | |||||||||
| riesling1 | Windows Server 2019 Standard / x64 | OK | OK | OK | OK | |||||||||
| palomino3 | Windows Server 2022 Datacenter / x64 | OK | OK | OK | OK | |||||||||
| merida1 | macOS 10.14.6 Mojave / x86_64 | OK | OK | TIMEOUT | OK | |||||||||
| Package: CRISPRseek |
| Version: 1.35.6 |
| Command: rm -rf CRISPRseek.buildbin-libdir && mkdir CRISPRseek.buildbin-libdir && D:\biocbuild\bbs-3.15-bioc\R\bin\R.exe CMD INSTALL --build --library=CRISPRseek.buildbin-libdir CRISPRseek_1.35.6.tar.gz |
| StartedAt: 2022-03-17 21:02:47 -0400 (Thu, 17 Mar 2022) |
| EndedAt: 2022-03-17 21:03:54 -0400 (Thu, 17 Mar 2022) |
| EllapsedTime: 67.7 seconds |
| RetCode: 0 |
| Status: OK |
| PackageFile: CRISPRseek_1.35.6.zip |
| PackageFileSize: 11.04 MiB |
##############################################################################
##############################################################################
###
### Running command:
###
### rm -rf CRISPRseek.buildbin-libdir && mkdir CRISPRseek.buildbin-libdir && D:\biocbuild\bbs-3.15-bioc\R\bin\R.exe CMD INSTALL --build --library=CRISPRseek.buildbin-libdir CRISPRseek_1.35.6.tar.gz
###
##############################################################################
##############################################################################
* installing *source* package 'CRISPRseek' ...
** using staged installation
** R
** inst
** byte-compile and prepare package for lazy loading
** help
*** installing help indices
converting help for package 'CRISPRseek'
finding HTML links ... done
CRISPRseek-package html
annotateOffTargets html
buildFeatureVectorForScoring html
calculategRNAEfficiency html
compare2Sequences html
deepCpf1 html
filterOffTarget html
filtergRNAs html
findgRNAs html
getOfftargetScore html
isPatternUnique html
offTargetAnalysis html
offTargetAnalysisWithoutBSgenome html
predictRelativeFreqIndels html
searchHits html
searchHits2 html
translatePattern html
uniqueREs html
writeHits html
writeHits2 html
** building package indices
** installing vignettes
** testing if installed package can be loaded from temporary location
** testing if installed package can be loaded from final location
** testing if installed package keeps a record of temporary installation path
* MD5 sums
packaged installation of 'CRISPRseek' as CRISPRseek_1.35.6.zip
* DONE (CRISPRseek)