| Back to Multiple platform build/check report for BioC 3.15 |
|
This page was generated on 2022-02-18 11:08:42 -0500 (Fri, 18 Feb 2022).
| Hostname | OS | Arch (*) | R version | Installed pkgs |
|---|---|---|---|---|
| nebbiolo1 | Linux (Ubuntu 20.04.4 LTS) | x86_64 | R Under development (unstable) (2022-01-05 r81451) -- "Unsuffered Consequences" | 4192 |
| riesling1 | Windows Server 2019 Standard | x64 | R Under development (unstable) (2021-11-21 r81221) -- "Unsuffered Consequences" | 4087 |
| palomino3 | Windows Server 2022 Datacenter | x64 | R Under development (unstable) (2021-12-21 r81400 ucrt) -- "Unsuffered Consequences" | 4031 |
| merida1 | macOS 10.14.6 Mojave | x86_64 | R Under development (unstable) (2022-02-15 r81747) -- "Unsuffered Consequences" | 3924 |
| Click on any hostname to see more info about the system (e.g. compilers) (*) as reported by 'uname -p', except on Windows and Mac OS X | ||||
|
To the developers/maintainers of the CAnD package: - Please allow up to 24 hours (and sometimes 48 hours) for your latest push to git@git.bioconductor.org:packages/CAnD.git to reflect on this report. See How and When does the builder pull? When will my changes propagate? here for more information. - Make sure to use the following settings in order to reproduce any error or warning you see on this page. |
| Package 242/2086 | Hostname | OS / Arch | INSTALL | BUILD | CHECK | BUILD BIN | ||||||||
| CAnD 1.27.0 (landing page) Caitlin McHugh
| nebbiolo1 | Linux (Ubuntu 20.04.4 LTS) / x86_64 | OK | OK | OK | |||||||||
| riesling1 | Windows Server 2019 Standard / x64 | OK | OK | OK | OK | |||||||||
| palomino3 | Windows Server 2022 Datacenter / x64 | OK | OK | OK | OK | |||||||||
| merida1 | macOS 10.14.6 Mojave / x86_64 | OK | ERROR | skipped | skipped | |||||||||
| Package: CAnD |
| Version: 1.27.0 |
| Command: rm -rf CAnD.buildbin-libdir && mkdir CAnD.buildbin-libdir && F:\biocbuild\bbs-3.15-bioc\R\bin\R.exe CMD INSTALL --build --library=CAnD.buildbin-libdir CAnD_1.27.0.tar.gz |
| StartedAt: 2022-02-18 04:42:10 -0500 (Fri, 18 Feb 2022) |
| EndedAt: 2022-02-18 04:42:23 -0500 (Fri, 18 Feb 2022) |
| EllapsedTime: 13.5 seconds |
| RetCode: 0 |
| Status: OK |
| PackageFile: CAnD_1.27.0.zip |
| PackageFileSize: 469.7 KiB |
##############################################################################
##############################################################################
###
### Running command:
###
### rm -rf CAnD.buildbin-libdir && mkdir CAnD.buildbin-libdir && F:\biocbuild\bbs-3.15-bioc\R\bin\R.exe CMD INSTALL --build --library=CAnD.buildbin-libdir CAnD_1.27.0.tar.gz
###
##############################################################################
##############################################################################
* installing *source* package 'CAnD' ...
** using staged installation
** R
** data
** inst
** byte-compile and prepare package for lazy loading
** help
*** installing help indices
converting help for package 'CAnD'
finding HTML links ... done
BonfCorr-method html
CAnD html
CAnDResult-class html
ancestries html
barPlotAncest html
calc_combP html
getDiffMatrices html
overallStatistic-method html
overallpValue-method html
pValues-method html
plotPvals html
test-method html
** building package indices
** installing vignettes
** testing if installed package can be loaded from temporary location
** testing if installed package can be loaded from final location
** testing if installed package keeps a record of temporary installation path
* MD5 sums
packaged installation of 'CAnD' as CAnD_1.27.0.zip
* DONE (CAnD)