| Back to Multiple platform build/check report for BioC 3.15 |
|
This page was generated on 2022-10-19 13:21:12 -0400 (Wed, 19 Oct 2022).
| Hostname | OS | Arch (*) | R version | Installed pkgs |
|---|---|---|---|---|
| nebbiolo1 | Linux (Ubuntu 20.04.5 LTS) | x86_64 | 4.2.1 (2022-06-23) -- "Funny-Looking Kid" | 4386 |
| palomino3 | Windows Server 2022 Datacenter | x64 | 4.2.1 (2022-06-23 ucrt) -- "Funny-Looking Kid" | 4138 |
| merida1 | macOS 10.14.6 Mojave | x86_64 | 4.2.1 (2022-06-23) -- "Funny-Looking Kid" | 4205 |
| Click on any hostname to see more info about the system (e.g. compilers) (*) as reported by 'uname -p', except on Windows and Mac OS X | ||||
|
To the developers/maintainers of the CAGEfightR package: - Please allow up to 24 hours (and sometimes 48 hours) for your latest push to git@git.bioconductor.org:packages/CAGEfightR.git to reflect on this report. See How and When does the builder pull? When will my changes propagate? for more information. - Make sure to use the following settings in order to reproduce any error or warning you see on this page. |
| Package 241/2140 | Hostname | OS / Arch | INSTALL | BUILD | CHECK | BUILD BIN | ||||||||
| CAGEfightR 1.16.0 (landing page) Malte Thodberg
| nebbiolo1 | Linux (Ubuntu 20.04.5 LTS) / x86_64 | OK | OK | OK | |||||||||
| palomino3 | Windows Server 2022 Datacenter / x64 | OK | OK | OK | OK | |||||||||
| merida1 | macOS 10.14.6 Mojave / x86_64 | OK | OK | OK | OK | |||||||||
| Package: CAGEfightR |
| Version: 1.16.0 |
| Command: F:\biocbuild\bbs-3.15-bioc\R\bin\R.exe CMD check --no-multiarch --install=check:CAGEfightR.install-out.txt --library=F:\biocbuild\bbs-3.15-bioc\R\library --no-vignettes --timings CAGEfightR_1.16.0.tar.gz |
| StartedAt: 2022-10-18 22:37:31 -0400 (Tue, 18 Oct 2022) |
| EndedAt: 2022-10-18 22:44:41 -0400 (Tue, 18 Oct 2022) |
| EllapsedTime: 429.4 seconds |
| RetCode: 0 |
| Status: OK |
| CheckDir: CAGEfightR.Rcheck |
| Warnings: 0 |
##############################################################################
##############################################################################
###
### Running command:
###
### F:\biocbuild\bbs-3.15-bioc\R\bin\R.exe CMD check --no-multiarch --install=check:CAGEfightR.install-out.txt --library=F:\biocbuild\bbs-3.15-bioc\R\library --no-vignettes --timings CAGEfightR_1.16.0.tar.gz
###
##############################################################################
##############################################################################
* using log directory 'F:/biocbuild/bbs-3.15-bioc/meat/CAGEfightR.Rcheck'
* using R version 4.2.1 (2022-06-23 ucrt)
* using platform: x86_64-w64-mingw32 (64-bit)
* using session charset: UTF-8
* using option '--no-vignettes'
* checking for file 'CAGEfightR/DESCRIPTION' ... OK
* checking extension type ... Package
* this is package 'CAGEfightR' version '1.16.0'
* package encoding: UTF-8
* checking package namespace information ... OK
* checking package dependencies ... OK
* checking if this is a source package ... OK
* checking if there is a namespace ... OK
* checking for hidden files and directories ... OK
* checking for portable file names ... OK
* checking whether package 'CAGEfightR' can be installed ... OK
* checking installed package size ... OK
* checking package directory ... OK
* checking 'build' directory ... OK
* checking DESCRIPTION meta-information ... OK
* checking top-level files ... OK
* checking for left-over files ... OK
* checking index information ... OK
* checking package subdirectories ... OK
* checking R files for non-ASCII characters ... OK
* checking R files for syntax errors ... OK
* checking whether the package can be loaded ... OK
* checking whether the package can be loaded with stated dependencies ... OK
* checking whether the package can be unloaded cleanly ... OK
* checking whether the namespace can be loaded with stated dependencies ... OK
* checking whether the namespace can be unloaded cleanly ... OK
* checking dependencies in R code ... OK
* checking S3 generic/method consistency ... OK
* checking replacement functions ... OK
* checking foreign function calls ... OK
* checking R code for possible problems ... OK
* checking Rd files ... OK
* checking Rd metadata ... OK
* checking Rd cross-references ... OK
* checking for missing documentation entries ... OK
* checking for code/documentation mismatches ... OK
* checking Rd \usage sections ... OK
* checking Rd contents ... OK
* checking for unstated dependencies in examples ... OK
* checking contents of 'data' directory ... OK
* checking data for non-ASCII characters ... OK
* checking LazyData ... OK
* checking data for ASCII and uncompressed saves ... OK
* checking files in 'vignettes' ... OK
* checking examples ... OK
Examples with CPU (user + system) or elapsed time > 5s
user system elapsed
findLinks 5.28 0.10 47.34
trackLinks 2.29 0.05 22.78
* checking for unstated dependencies in vignettes ... OK
* checking package vignettes in 'inst/doc' ... OK
* checking running R code from vignettes ... SKIPPED
* checking re-building of vignette outputs ... SKIPPED
* checking PDF version of manual ... OK
* DONE
Status: OK
CAGEfightR.Rcheck/00install.out
############################################################################## ############################################################################## ### ### Running command: ### ### F:\biocbuild\bbs-3.15-bioc\R\bin\R.exe CMD INSTALL CAGEfightR ### ############################################################################## ############################################################################## * installing to library 'F:/biocbuild/bbs-3.15-bioc/R/library' * installing *source* package 'CAGEfightR' ... ** using staged installation ** R ** data *** moving datasets to lazyload DB ** inst ** byte-compile and prepare package for lazy loading ** help *** installing help indices ** building package indices ** installing vignettes ** testing if installed package can be loaded from temporary location ** testing if installed package can be loaded from final location ** testing if installed package keeps a record of temporary installation path * DONE (CAGEfightR)
CAGEfightR.Rcheck/CAGEfightR-Ex.timings
| name | user | system | elapsed | |
| assignGeneID | 3.96 | 0.14 | 4.13 | |
| assignMissingID | 1.48 | 0.03 | 1.51 | |
| assignTxID | 0.86 | 0.00 | 0.86 | |
| assignTxType | 0 | 0 | 0 | |
| balanceBC | 0 | 0 | 0 | |
| balanceD | 0 | 0 | 0 | |
| bwCommonGenome | 0 | 0 | 0 | |
| bwGenomeCompatibility | 0 | 0 | 0 | |
| bwValid | 0.02 | 0.00 | 0.02 | |
| calcBidirectionality | 1.38 | 0.02 | 1.39 | |
| calcComposition | 1.67 | 0.03 | 1.70 | |
| calcPooled | 0.08 | 0.03 | 0.11 | |
| calcShape | 2.25 | 0.15 | 2.40 | |
| calcSupport | 0.09 | 0.02 | 0.11 | |
| calcTPM | 0.14 | 0.00 | 0.14 | |
| calcTotalTags | 0.05 | 0.01 | 0.06 | |
| checkCTSSs | 0 | 0 | 0 | |
| checkPeaked | 0.06 | 0.00 | 0.06 | |
| checkPooled | 0.08 | 0.00 | 0.08 | |
| clusterBidirectionally | 0 | 0 | 0 | |
| clusterUnidirectionally | 1.58 | 0.02 | 1.59 | |
| combineClusters | 0.71 | 0.01 | 0.74 | |
| convertBAM2BigWig | 0 | 0 | 0 | |
| convertBED2BigWig | 0 | 0 | 0 | |
| convertGRanges2GPos | 0.12 | 0.00 | 0.13 | |
| exampleDesign | 0.02 | 0.03 | 0.05 | |
| findLinks | 5.28 | 0.10 | 47.34 | |
| findStretches | 0.52 | 0.00 | 0.52 | |
| quantifyCTSSs | 0 | 0 | 0 | |
| quantifyCTSSs2 | 0 | 0 | 0 | |
| quantifyClusters | 0.58 | 0.03 | 0.61 | |
| quantifyGenes | 1.43 | 0.03 | 1.46 | |
| quickEnhancers | 0 | 0 | 0 | |
| quickGenes | 0 | 0 | 0 | |
| quickTSSs | 0 | 0 | 0 | |
| shapeEntropy | 0 | 0 | 0 | |
| shapeIQR | 0 | 0 | 0 | |
| shapeMean | 0 | 0 | 0 | |
| shapeMultimodality | 0 | 0 | 0 | |
| subsetByBidirectionality | 0.33 | 0.02 | 0.34 | |
| subsetByComposition | 1.36 | 0.00 | 1.36 | |
| subsetBySupport | 0.11 | 0.00 | 0.11 | |
| swapRanges | 0.23 | 0.00 | 0.23 | |
| swapScores | 0.11 | 0.00 | 0.11 | |
| trackBalance | 0 | 0 | 0 | |
| trackCTSS | 3.76 | 0.03 | 3.81 | |
| trackClusters | 2.00 | 0.03 | 2.04 | |
| trackLinks | 2.29 | 0.05 | 22.78 | |
| trimToPeak | 0.81 | 0.03 | 0.84 | |
| trimToPercentiles | 1.94 | 0.03 | 1.96 | |
| tuneTagClustering | 0 | 0 | 0 | |
| utilsAggregateRows | 0.56 | 0.22 | 0.79 | |
| utilsDeStrand | 0.14 | 0.00 | 0.14 | |
| utilsScoreOverlaps | 0.07 | 0.00 | 0.06 | |
| utilsSimplifyTxDb | 0 | 0 | 0 | |