| Back to Multiple platform build/check report for BioC 3.15 |
|
This page was generated on 2022-03-18 11:07:01 -0400 (Fri, 18 Mar 2022).
| Hostname | OS | Arch (*) | R version | Installed pkgs |
|---|---|---|---|---|
| nebbiolo1 | Linux (Ubuntu 20.04.4 LTS) | x86_64 | R Under development (unstable) (2022-02-17 r81757) -- "Unsuffered Consequences" | 4334 |
| riesling1 | Windows Server 2019 Standard | x64 | R Under development (unstable) (2021-11-21 r81221) -- "Unsuffered Consequences" | 4097 |
| palomino3 | Windows Server 2022 Datacenter | x64 | R Under development (unstable) (2022-02-17 r81757 ucrt) -- "Unsuffered Consequences" | 4083 |
| merida1 | macOS 10.14.6 Mojave | x86_64 | R Under development (unstable) (2022-03-02 r81842) -- "Unsuffered Consequences" | 4134 |
| Click on any hostname to see more info about the system (e.g. compilers) (*) as reported by 'uname -p', except on Windows and Mac OS X | ||||
|
To the developers/maintainers of the BiocParallel package: - Please allow up to 24 hours (and sometimes 48 hours) for your latest push to git@git.bioconductor.org:packages/BiocParallel.git to reflect on this report. See How and When does the builder pull? When will my changes propagate? here for more information. - Make sure to use the following settings in order to reproduce any error or warning you see on this page. |
| Package 163/2090 | Hostname | OS / Arch | INSTALL | BUILD | CHECK | BUILD BIN | ||||||||
| BiocParallel 1.29.17 (landing page) Bioconductor Package Maintainer
| nebbiolo1 | Linux (Ubuntu 20.04.4 LTS) / x86_64 | OK | OK | ERROR | |||||||||
| riesling1 | Windows Server 2019 Standard / x64 | OK | OK | OK | OK | |||||||||
| palomino3 | Windows Server 2022 Datacenter / x64 | OK | OK | ERROR | OK | |||||||||
| merida1 | macOS 10.14.6 Mojave / x86_64 | OK | OK | ERROR | OK | |||||||||
| Package: BiocParallel |
| Version: 1.29.17 |
| Command: set _R_INSTALL_TIME_PATCHES_=no&& rm -rf BiocParallel.buildbin-libdir && mkdir BiocParallel.buildbin-libdir && D:\biocbuild\bbs-3.15-bioc\R\bin\R.exe CMD INSTALL --build --library=BiocParallel.buildbin-libdir BiocParallel_1.29.17.tar.gz |
| StartedAt: 2022-03-17 20:55:25 -0400 (Thu, 17 Mar 2022) |
| EndedAt: 2022-03-17 20:56:40 -0400 (Thu, 17 Mar 2022) |
| EllapsedTime: 74.6 seconds |
| RetCode: 0 |
| Status: OK |
| PackageFile: BiocParallel_1.29.17.zip |
| PackageFileSize: 1.806 MiB |
##############################################################################
##############################################################################
###
### Running command:
###
### set _R_INSTALL_TIME_PATCHES_=no&& rm -rf BiocParallel.buildbin-libdir && mkdir BiocParallel.buildbin-libdir && D:\biocbuild\bbs-3.15-bioc\R\bin\R.exe CMD INSTALL --build --library=BiocParallel.buildbin-libdir BiocParallel_1.29.17.tar.gz
###
##############################################################################
##############################################################################
* installing *source* package 'BiocParallel' ...
** using staged installation
**********************************************
WARNING: this package has a configure script
It probably needs manual configuration
**********************************************
** libs
"C:/rtools40/mingw64/bin/"g++ -std=gnu++11 -I"D:/biocbuild/bbs-3.15-bioc/R/include" -DNDEBUG -I'D:/biocbuild/bbs-3.15-bioc/R/library/BH/include' -I"C:/extsoft/include" -O2 -Wall -mfpmath=sse -msse2 -mstackrealign -fno-reorder-blocks-and-partition -c ipcmutex.cpp -o ipcmutex.o
In file included from D:/biocbuild/bbs-3.15-bioc/R/library/BH/include/boost/mpl/aux_/na_assert.hpp:23,
from D:/biocbuild/bbs-3.15-bioc/R/library/BH/include/boost/mpl/arg.hpp:25,
from D:/biocbuild/bbs-3.15-bioc/R/library/BH/include/boost/mpl/placeholders.hpp:24,
from D:/biocbuild/bbs-3.15-bioc/R/library/BH/include/boost/mpl/apply.hpp:24,
from D:/biocbuild/bbs-3.15-bioc/R/library/BH/include/boost/mpl/aux_/fold_impl.hpp:19,
from D:/biocbuild/bbs-3.15-bioc/R/library/BH/include/boost/mpl/fold.hpp:20,
from D:/biocbuild/bbs-3.15-bioc/R/library/BH/include/boost/mpl/remove_if.hpp:18,
from D:/biocbuild/bbs-3.15-bioc/R/library/BH/include/boost/mpl/remove.hpp:18,
from D:/biocbuild/bbs-3.15-bioc/R/library/BH/include/boost/function_types/components.hpp:44,
from D:/biocbuild/bbs-3.15-bioc/R/library/BH/include/boost/function_types/is_member_function_pointer.hpp:14,
from D:/biocbuild/bbs-3.15-bioc/R/library/BH/include/boost/tti/detail/dmem_fun.hpp:10,
from D:/biocbuild/bbs-3.15-bioc/R/library/BH/include/boost/tti/has_member_function.hpp:15,
from D:/biocbuild/bbs-3.15-bioc/R/library/BH/include/boost/uuid/random_generator.hpp:20,
from D:/biocbuild/bbs-3.15-bioc/R/library/BH/include/boost/uuid/uuid_generators.hpp:17,
from ipcmutex.cpp:3:
D:/biocbuild/bbs-3.15-bioc/R/library/BH/include/boost/mpl/assert.hpp:194:21: warning: unnecessary parentheses in declaration of 'assert_arg' [-Wparentheses]
failed ************ (Pred::************
^
D:/biocbuild/bbs-3.15-bioc/R/library/BH/include/boost/mpl/assert.hpp:199:21: warning: unnecessary parentheses in declaration of 'assert_not_arg' [-Wparentheses]
failed ************ (boost::mpl::not_<Pred>::************
^
In file included from D:/biocbuild/bbs-3.15-bioc/R/library/BH/include/boost/interprocess/detail/windows_intermodule_singleton.hpp:24,
from D:/biocbuild/bbs-3.15-bioc/R/library/BH/include/boost/interprocess/detail/shared_dir_helpers.hpp:30,
from D:/biocbuild/bbs-3.15-bioc/R/library/BH/include/boost/interprocess/shared_memory_object.hpp:30,
from D:/biocbuild/bbs-3.15-bioc/R/library/BH/include/boost/interprocess/managed_shared_memory.hpp:27,
from ipcmutex.cpp:13:
D:/biocbuild/bbs-3.15-bioc/R/library/BH/include/boost/container/string.hpp: In member function 'boost::interprocess::ipcdetail::ref_count_ptr* boost::interprocess::ipcdetail::intermodule_singleton_helpers::windows_semaphore_based_map::find(const char*)':
D:/biocbuild/bbs-3.15-bioc/R/library/BH/include/boost/container/string.hpp:406:43: warning: '<anonymous>.boost::container::dtl::basic_string_base<boost::container::new_allocator<char> >::long_t::start' may be used uninitialized in this function [-Wmaybe-uninitialized]
{ return this->members_.plong_repr()->start; }
^~~~~
D:/biocbuild/bbs-3.15-bioc/R/library/BH/include/boost/container/string.hpp: In member function 'bool boost::interprocess::ipcdetail::intermodule_singleton_helpers::windows_semaphore_based_map::erase(const char*)':
D:/biocbuild/bbs-3.15-bioc/R/library/BH/include/boost/container/string.hpp:406:43: warning: '<anonymous>.boost::container::dtl::basic_string_base<boost::container::new_allocator<char> >::long_t::start' may be used uninitialized in this function [-Wmaybe-uninitialized]
{ return this->members_.plong_repr()->start; }
^~~~~
C:/rtools40/mingw64/bin/g++ -shared -s -static-libgcc -o BiocParallel.dll tmp.def ipcmutex.o -LC:/extsoft/lib/x64 -LC:/extsoft/lib -LD:/biocbuild/bbs-3.15-bioc/R/bin/x64 -lR
installing to D:/biocbuild/bbs-3.15-bioc/meat/BiocParallel.buildbin-libdir/00LOCK-BiocParallel/00new/BiocParallel/libs/x64
** R
** inst
** byte-compile and prepare package for lazy loading
** help
*** installing help indices
converting help for package 'BiocParallel'
finding HTML links ... done
BatchJobsParam-class html
BatchtoolsParam-class html
BiocParallel-package html
BiocParallelParam-class html
DeveloperInterface html
DoparParam-class html
MulticoreParam-class html
SerialParam-class html
SnowParam-class html
bpaggregate html
bpiterate html
bplapply html
bploop html
bpmapply html
bpok html
bpoptions html
bpschedule html
bptry html
bpvalidate html
bpvec html
bpvectorize html
ipcmutex html
register html
** building package indices
** installing vignettes
** testing if installed package can be loaded from temporary location
** testing if installed package can be loaded from final location
** testing if installed package keeps a record of temporary installation path
* MD5 sums
packaged installation of 'BiocParallel' as BiocParallel_1.29.17.zip
* DONE (BiocParallel)