| Back to Multiple platform build/check report for BioC 3.15 |
|
This page was generated on 2022-03-18 11:07:01 -0400 (Fri, 18 Mar 2022).
| Hostname | OS | Arch (*) | R version | Installed pkgs |
|---|---|---|---|---|
| nebbiolo1 | Linux (Ubuntu 20.04.4 LTS) | x86_64 | R Under development (unstable) (2022-02-17 r81757) -- "Unsuffered Consequences" | 4334 |
| riesling1 | Windows Server 2019 Standard | x64 | R Under development (unstable) (2021-11-21 r81221) -- "Unsuffered Consequences" | 4097 |
| palomino3 | Windows Server 2022 Datacenter | x64 | R Under development (unstable) (2022-02-17 r81757 ucrt) -- "Unsuffered Consequences" | 4083 |
| merida1 | macOS 10.14.6 Mojave | x86_64 | R Under development (unstable) (2022-03-02 r81842) -- "Unsuffered Consequences" | 4134 |
| Click on any hostname to see more info about the system (e.g. compilers) (*) as reported by 'uname -p', except on Windows and Mac OS X | ||||
|
To the developers/maintainers of the BioCor package: - Please allow up to 24 hours (and sometimes 48 hours) for your latest push to git@git.bioconductor.org:packages/BioCor.git to reflect on this report. See How and When does the builder pull? When will my changes propagate? here for more information. - Make sure to use the following settings in order to reproduce any error or warning you see on this page. |
| Package 162/2090 | Hostname | OS / Arch | INSTALL | BUILD | CHECK | BUILD BIN | ||||||||
| BioCor 1.19.1 (landing page) LluĂs Revilla Sancho
| nebbiolo1 | Linux (Ubuntu 20.04.4 LTS) / x86_64 | OK | OK | OK | |||||||||
| riesling1 | Windows Server 2019 Standard / x64 | OK | OK | OK | OK | |||||||||
| palomino3 | Windows Server 2022 Datacenter / x64 | OK | OK | OK | OK | |||||||||
| merida1 | macOS 10.14.6 Mojave / x86_64 | OK | OK | OK | OK | |||||||||
| Package: BioCor |
| Version: 1.19.1 |
| Command: D:\biocbuild\bbs-3.15-bioc\R\bin\R.exe CMD check --no-multiarch --install=check:BioCor.install-out.txt --library=D:\biocbuild\bbs-3.15-bioc\R\library --no-vignettes --timings BioCor_1.19.1.tar.gz |
| StartedAt: 2022-03-17 18:32:40 -0400 (Thu, 17 Mar 2022) |
| EndedAt: 2022-03-17 18:34:54 -0400 (Thu, 17 Mar 2022) |
| EllapsedTime: 133.8 seconds |
| RetCode: 0 |
| Status: OK |
| CheckDir: BioCor.Rcheck |
| Warnings: 0 |
############################################################################## ############################################################################## ### ### Running command: ### ### D:\biocbuild\bbs-3.15-bioc\R\bin\R.exe CMD check --no-multiarch --install=check:BioCor.install-out.txt --library=D:\biocbuild\bbs-3.15-bioc\R\library --no-vignettes --timings BioCor_1.19.1.tar.gz ### ############################################################################## ############################################################################## * using log directory 'D:/biocbuild/bbs-3.15-bioc/meat/BioCor.Rcheck' * using R Under development (unstable) (2021-11-21 r81221) * using platform: x86_64-w64-mingw32 (64-bit) * using session charset: ISO8859-1 * using option '--no-vignettes' * checking for file 'BioCor/DESCRIPTION' ... OK * this is package 'BioCor' version '1.19.1' * package encoding: UTF-8 * checking package namespace information ... OK * checking package dependencies ... OK * checking if this is a source package ... OK * checking if there is a namespace ... OK * checking for hidden files and directories ... OK * checking for portable file names ... OK * checking whether package 'BioCor' can be installed ... OK * checking installed package size ... OK * checking package directory ... OK * checking 'build' directory ... OK * checking DESCRIPTION meta-information ... OK * checking top-level files ... OK * checking for left-over files ... OK * checking index information ... OK * checking package subdirectories ... OK * checking R files for non-ASCII characters ... OK * checking R files for syntax errors ... OK * checking whether the package can be loaded ... OK * checking whether the package can be loaded with stated dependencies ... OK * checking whether the package can be unloaded cleanly ... OK * checking whether the namespace can be loaded with stated dependencies ... OK * checking whether the namespace can be unloaded cleanly ... OK * checking dependencies in R code ... OK * checking S3 generic/method consistency ... OK * checking replacement functions ... OK * checking foreign function calls ... OK * checking R code for possible problems ... OK * checking Rd files ... OK * checking Rd metadata ... OK * checking Rd cross-references ... OK * checking for missing documentation entries ... OK * checking for code/documentation mismatches ... OK * checking Rd \usage sections ... OK * checking Rd contents ... OK * checking for unstated dependencies in examples ... OK * checking R/sysdata.rda ... OK * checking files in 'vignettes' ... OK * checking examples ... OK * checking for unstated dependencies in 'tests' ... OK * checking tests ... Running 'spelling.R' Running 'testthat.R' OK * checking for unstated dependencies in vignettes ... OK * checking package vignettes in 'inst/doc' ... OK * checking running R code from vignettes ... SKIPPED * checking re-building of vignette outputs ... SKIPPED * checking PDF version of manual ... OK * DONE Status: OK
BioCor.Rcheck/00install.out
##############################################################################
##############################################################################
###
### Running command:
###
### D:\biocbuild\bbs-3.15-bioc\R\bin\R.exe CMD INSTALL BioCor
###
##############################################################################
##############################################################################
* installing to library 'D:/biocbuild/bbs-3.15-bioc/R/library'
* installing *source* package 'BioCor' ...
** using staged installation
** R
** byte-compile and prepare package for lazy loading
Creating a generic function from function 'clusterGeneSim' in package 'BioCor'
Creating a generic function from function 'clusterSim' in package 'BioCor'
Creating a generic function from function 'geneSim' in package 'BioCor'
Creating a generic function from function 'mclusterGeneSim' in package 'BioCor'
Creating a generic function from function 'mclusterSim' in package 'BioCor'
Creating a generic function from function 'mgeneSim' in package 'BioCor'
Creating a generic function from function 'mpathSim' in package 'BioCor'
Creating a generic function from function 'pathSim' in package 'BioCor'
** help
*** installing help indices
converting help for package 'BioCor'
finding HTML links ... done
AintoB html
BioCor-package html
addSimilarities html
clusterGeneSim html
clusterSim html
combinadic html
combineScores html
combineSources html
conversions html
diceSim html
duplicateIndices html
geneSim html
incidence-list-method html
inverseList html
mclusterGeneSim html
mclusterSim html
mgeneSim html
mpathSim html
pathSim html
removeDup html
seq2mat html
similarities html
weighted html
*** copying figures
** building package indices
** installing vignettes
** testing if installed package can be loaded from temporary location
** testing if installed package can be loaded from final location
** testing if installed package keeps a record of temporary installation path
* DONE (BioCor)
Making 'packages.html' ... done
BioCor.Rcheck/tests/spelling.Rout
R Under development (unstable) (2021-11-21 r81221) -- "Unsuffered Consequences"
Copyright (C) 2021 The R Foundation for Statistical Computing
Platform: x86_64-w64-mingw32/x64 (64-bit)
R is free software and comes with ABSOLUTELY NO WARRANTY.
You are welcome to redistribute it under certain conditions.
Type 'license()' or 'licence()' for distribution details.
R is a collaborative project with many contributors.
Type 'contributors()' for more information and
'citation()' on how to cite R or R packages in publications.
Type 'demo()' for some demos, 'help()' for on-line help, or
'help.start()' for an HTML browser interface to help.
Type 'q()' to quit R.
> if (requireNamespace("spelling", quietly = TRUE)) {
+ spelling::spell_check_test(vignettes = TRUE, error = FALSE, skip_on_cran = TRUE)
+ }
NULL
>
> proc.time()
user system elapsed
0.10 0.06 0.20
BioCor.Rcheck/tests/testthat.Rout
R Under development (unstable) (2021-11-21 r81221) -- "Unsuffered Consequences"
Copyright (C) 2021 The R Foundation for Statistical Computing
Platform: x86_64-w64-mingw32/x64 (64-bit)
R is free software and comes with ABSOLUTELY NO WARRANTY.
You are welcome to redistribute it under certain conditions.
Type 'license()' or 'licence()' for distribution details.
R is a collaborative project with many contributors.
Type 'contributors()' for more information and
'citation()' on how to cite R or R packages in publications.
Type 'demo()' for some demos, 'help()' for on-line help, or
'help.start()' for an HTML browser interface to help.
Type 'q()' to quit R.
> library(testthat)
> library(BioCor)
>
> test_check("BioCor")
[ FAIL 0 | WARN 0 | SKIP 0 | PASS 322 ]
>
> proc.time()
user system elapsed
8.56 0.60 9.15
BioCor.Rcheck/BioCor-Ex.timings
| name | user | system | elapsed | |
| AintoB | 0 | 0 | 0 | |
| addSimilarities | 0 | 0 | 0 | |
| clusterGeneSim | 0.95 | 0.11 | 1.06 | |
| clusterSim | 0.39 | 0.03 | 0.43 | |
| combinadic | 0 | 0 | 0 | |
| combineScores | 0 | 0 | 0 | |
| combineSources | 0 | 0 | 0 | |
| conversions | 0 | 0 | 0 | |
| diceSim | 0 | 0 | 0 | |
| duplicateIndices | 0 | 0 | 0 | |
| geneSim | 2.00 | 0.25 | 2.25 | |
| mclusterGeneSim | 0.58 | 0.03 | 0.61 | |
| mclusterSim | 0.45 | 0.01 | 0.47 | |
| mgeneSim | 1.71 | 0.20 | 1.90 | |
| mpathSim | 2.40 | 0.24 | 2.64 | |
| pathSim | 1.00 | 0.14 | 1.14 | |
| removeDup | 0 | 0 | 0 | |
| seq2mat | 0 | 0 | 0 | |
| similarities | 0.02 | 0.00 | 0.02 | |
| weighted | 0 | 0 | 0 | |