| Back to Multiple platform build/check report for BioC 3.15 |
|
This page was generated on 2022-10-19 13:21:09 -0400 (Wed, 19 Oct 2022).
| Hostname | OS | Arch (*) | R version | Installed pkgs |
|---|---|---|---|---|
| nebbiolo1 | Linux (Ubuntu 20.04.5 LTS) | x86_64 | 4.2.1 (2022-06-23) -- "Funny-Looking Kid" | 4386 |
| palomino3 | Windows Server 2022 Datacenter | x64 | 4.2.1 (2022-06-23 ucrt) -- "Funny-Looking Kid" | 4138 |
| merida1 | macOS 10.14.6 Mojave | x86_64 | 4.2.1 (2022-06-23) -- "Funny-Looking Kid" | 4205 |
| Click on any hostname to see more info about the system (e.g. compilers) (*) as reported by 'uname -p', except on Windows and Mac OS X | ||||
|
To the developers/maintainers of the BiGGR package: - Please allow up to 24 hours (and sometimes 48 hours) for your latest push to git@git.bioconductor.org:packages/BiGGR.git to reflect on this report. See How and When does the builder pull? When will my changes propagate? for more information. - Make sure to use the following settings in order to reproduce any error or warning you see on this page. |
| Package 148/2140 | Hostname | OS / Arch | INSTALL | BUILD | CHECK | BUILD BIN | ||||||||
| BiGGR 1.32.0 (landing page) Anand K. Gavai
| nebbiolo1 | Linux (Ubuntu 20.04.5 LTS) / x86_64 | OK | OK | OK | |||||||||
| palomino3 | Windows Server 2022 Datacenter / x64 | OK | OK | OK | OK | |||||||||
| merida1 | macOS 10.14.6 Mojave / x86_64 | ... NOT SUPPORTED ... | ||||||||||||
| Package: BiGGR |
| Version: 1.32.0 |
| Command: F:\biocbuild\bbs-3.15-bioc\R\bin\R.exe CMD check --no-multiarch --install=check:BiGGR.install-out.txt --library=F:\biocbuild\bbs-3.15-bioc\R\library --no-vignettes --timings BiGGR_1.32.0.tar.gz |
| StartedAt: 2022-10-18 22:16:37 -0400 (Tue, 18 Oct 2022) |
| EndedAt: 2022-10-18 22:22:01 -0400 (Tue, 18 Oct 2022) |
| EllapsedTime: 323.7 seconds |
| RetCode: 0 |
| Status: OK |
| CheckDir: BiGGR.Rcheck |
| Warnings: 0 |
##############################################################################
##############################################################################
###
### Running command:
###
### F:\biocbuild\bbs-3.15-bioc\R\bin\R.exe CMD check --no-multiarch --install=check:BiGGR.install-out.txt --library=F:\biocbuild\bbs-3.15-bioc\R\library --no-vignettes --timings BiGGR_1.32.0.tar.gz
###
##############################################################################
##############################################################################
* using log directory 'F:/biocbuild/bbs-3.15-bioc/meat/BiGGR.Rcheck'
* using R version 4.2.1 (2022-06-23 ucrt)
* using platform: x86_64-w64-mingw32 (64-bit)
* using session charset: UTF-8
* using option '--no-vignettes'
* checking for file 'BiGGR/DESCRIPTION' ... OK
* checking extension type ... Package
* this is package 'BiGGR' version '1.32.0'
* checking package namespace information ... OK
* checking package dependencies ... OK
* checking if this is a source package ... OK
* checking if there is a namespace ... OK
* checking for hidden files and directories ... NOTE
Found the following hidden files and directories:
.BBSoptions
These were most likely included in error. See section 'Package
structure' in the 'Writing R Extensions' manual.
* checking for portable file names ... OK
* checking whether package 'BiGGR' can be installed ... OK
* checking installed package size ... OK
* checking package directory ... OK
* checking 'build' directory ... OK
* checking DESCRIPTION meta-information ... OK
* checking top-level files ... OK
* checking for left-over files ... OK
* checking index information ... OK
* checking package subdirectories ... OK
* checking R files for non-ASCII characters ... OK
* checking R files for syntax errors ... OK
* checking whether the package can be loaded ... OK
* checking whether the package can be loaded with stated dependencies ... OK
* checking whether the package can be unloaded cleanly ... OK
* checking whether the namespace can be loaded with stated dependencies ... OK
* checking whether the namespace can be unloaded cleanly ... OK
* checking dependencies in R code ... NOTE
Package in Depends field not imported from: 'stringr'
These packages need to be imported from (in the NAMESPACE file)
for when this namespace is loaded but not attached.
* checking S3 generic/method consistency ... OK
* checking replacement functions ... OK
* checking foreign function calls ... OK
* checking R code for possible problems ... NOTE
.buildSubModel: no visible global function definition for 'new'
buildSBMLFromBiGG: no visible global function definition for
'read.delim'
buildSBMLFromBiGG : <anonymous>: no visible global function definition
for 'new'
buildSBMLFromBiGG: no visible global function definition for 'new'
createLIMFromSBML: no visible global function definition for 'hasArg'
gprMapping: no visible global function definition for 'str_detect'
gprMapping: no visible global function definition for 'na.omit'
gprMappingAvg: no visible global function definition for 'na.omit'
sampleFluxEnsemble: no visible global function definition for 'Xsample'
sbml2hyperdraw : <anonymous>: no visible binding for global variable
'species'
sbml2hyperdraw: no visible global function definition for 'hasArg'
sbml2hyperdraw: no visible global function definition for 'graphLayout'
sbml2hyperdraw: no visible global function definition for
'nodeDataDefaults<-'
sbml2hyperdraw: no visible global function definition for
'edgeDataDefaults<-'
sbml2hyperdraw: no visible global function definition for
'graphDataDefaults<-'
sbml2hyperdraw : <anonymous>: no visible global function definition for
'edgeData<-'
Undefined global functions or variables:
Xsample edgeData<- edgeDataDefaults<- graphDataDefaults<- graphLayout
hasArg na.omit new nodeDataDefaults<- read.delim species str_detect
Consider adding
importFrom("methods", "hasArg", "new")
importFrom("stats", "na.omit")
importFrom("utils", "read.delim")
to your NAMESPACE file (and ensure that your DESCRIPTION Imports field
contains 'methods').
* checking Rd files ... OK
* checking Rd metadata ... OK
* checking Rd cross-references ... OK
* checking for missing documentation entries ... OK
* checking for code/documentation mismatches ... OK
* checking Rd \usage sections ... OK
* checking Rd contents ... OK
* checking for unstated dependencies in examples ... OK
* checking contents of 'data' directory ... OK
* checking data for non-ASCII characters ... OK
* checking data for ASCII and uncompressed saves ... OK
* checking sizes of PDF files under 'inst/doc' ... OK
* checking installed files from 'inst/doc' ... OK
* checking files in 'vignettes' ... OK
* checking examples ... OK
Examples with CPU (user + system) or elapsed time > 5s
user system elapsed
gprMapping 157.55 2.34 159.96
gprMappingAvg 17.42 0.61 18.04
buildSBMLFromGenes 5.73 0.58 6.31
* checking for unstated dependencies in vignettes ... OK
* checking package vignettes in 'inst/doc' ... OK
* checking running R code from vignettes ... SKIPPED
* checking re-building of vignette outputs ... SKIPPED
* checking PDF version of manual ... OK
* DONE
Status: 3 NOTEs
See
'F:/biocbuild/bbs-3.15-bioc/meat/BiGGR.Rcheck/00check.log'
for details.
BiGGR.Rcheck/00install.out
############################################################################## ############################################################################## ### ### Running command: ### ### F:\biocbuild\bbs-3.15-bioc\R\bin\R.exe CMD INSTALL BiGGR ### ############################################################################## ############################################################################## * installing to library 'F:/biocbuild/bbs-3.15-bioc/R/library' * installing *source* package 'BiGGR' ... ** using staged installation ** R ** data ** inst ** byte-compile and prepare package for lazy loading ** help *** installing help indices ** building package indices ** installing vignettes ** testing if installed package can be loaded from temporary location ** testing if installed package can be loaded from final location ** testing if installed package keeps a record of temporary installation path * DONE (BiGGR)
BiGGR.Rcheck/BiGGR-Ex.timings
| name | user | system | elapsed | |
| BiGGR-package | 3.25 | 0.20 | 3.46 | |
| E.coli_iAF1260 | 1.11 | 0.27 | 1.38 | |
| E.coli_iJR904 | 0.40 | 0.05 | 0.45 | |
| E.coli_textbook | 0.11 | 0.10 | 0.22 | |
| H.pylori_ilT341 | 0.26 | 0.18 | 0.43 | |
| H.sapiens_Recon1 | 1.00 | 0.20 | 1.21 | |
| M.barkeri_iAF692 | 0.50 | 0.45 | 0.95 | |
| M.tuberculosis_iNJ661 | 0.43 | 0.13 | 0.55 | |
| P.putida_iJN746 | 0.39 | 0.17 | 0.56 | |
| Recon2 | 2.11 | 0.19 | 2.30 | |
| S.aureus_iSB619 | 0.29 | 0.09 | 0.39 | |
| S.cerevisiae_iND750 | 0.33 | 0.13 | 0.45 | |
| buildSBMLFromBiGG | 0.11 | 0.03 | 0.14 | |
| buildSBMLFromGenes | 5.73 | 0.58 | 6.31 | |
| buildSBMLFromPathways | 4.22 | 0.15 | 4.39 | |
| buildSBMLFromReactionIDs | 1.91 | 0.00 | 1.91 | |
| createLIMFromBiGG | 0.08 | 0.00 | 0.08 | |
| createLIMFromSBML | 1.08 | 0.08 | 1.16 | |
| extractGeneAssociations | 2.5 | 0.0 | 2.5 | |
| extractPathways | 2.66 | 0.02 | 2.68 | |
| getPathwaysForSBML | 3.17 | 0.00 | 3.17 | |
| getRates | 0.00 | 0.01 | 0.01 | |
| gprMapping | 157.55 | 2.34 | 159.96 | |
| gprMappingAvg | 17.42 | 0.61 | 18.04 | |
| lying.tunell.data | 0.00 | 0.02 | 0.02 | |
| rmvSpliceVariant | 2.28 | 0.00 | 2.28 | |
| sampleFluxEnsemble | 2.62 | 0.72 | 3.34 | |
| sbml2hyperdraw | 3.08 | 0.06 | 3.15 | |