| Back to Multiple platform build/check report for BioC 3.15 |
|
This page was generated on 2022-10-19 13:21:08 -0400 (Wed, 19 Oct 2022).
| Hostname | OS | Arch (*) | R version | Installed pkgs |
|---|---|---|---|---|
| nebbiolo1 | Linux (Ubuntu 20.04.5 LTS) | x86_64 | 4.2.1 (2022-06-23) -- "Funny-Looking Kid" | 4386 |
| palomino3 | Windows Server 2022 Datacenter | x64 | 4.2.1 (2022-06-23 ucrt) -- "Funny-Looking Kid" | 4138 |
| merida1 | macOS 10.14.6 Mojave | x86_64 | 4.2.1 (2022-06-23) -- "Funny-Looking Kid" | 4205 |
| Click on any hostname to see more info about the system (e.g. compilers) (*) as reported by 'uname -p', except on Windows and Mac OS X | ||||
|
To the developers/maintainers of the Basic4Cseq package: - Please allow up to 24 hours (and sometimes 48 hours) for your latest push to git@git.bioconductor.org:packages/Basic4Cseq.git to reflect on this report. See How and When does the builder pull? When will my changes propagate? for more information. - Make sure to use the following settings in order to reproduce any error or warning you see on this page. |
| Package 117/2140 | Hostname | OS / Arch | INSTALL | BUILD | CHECK | BUILD BIN | ||||||||
| Basic4Cseq 1.32.0 (landing page) Carolin Walter
| nebbiolo1 | Linux (Ubuntu 20.04.5 LTS) / x86_64 | OK | OK | OK | |||||||||
| palomino3 | Windows Server 2022 Datacenter / x64 | OK | OK | OK | OK | |||||||||
| merida1 | macOS 10.14.6 Mojave / x86_64 | OK | OK | OK | OK | |||||||||
| Package: Basic4Cseq |
| Version: 1.32.0 |
| Command: F:\biocbuild\bbs-3.15-bioc\R\bin\R.exe CMD check --no-multiarch --install=check:Basic4Cseq.install-out.txt --library=F:\biocbuild\bbs-3.15-bioc\R\library --no-vignettes --timings Basic4Cseq_1.32.0.tar.gz |
| StartedAt: 2022-10-18 22:08:20 -0400 (Tue, 18 Oct 2022) |
| EndedAt: 2022-10-18 22:12:23 -0400 (Tue, 18 Oct 2022) |
| EllapsedTime: 242.4 seconds |
| RetCode: 0 |
| Status: OK |
| CheckDir: Basic4Cseq.Rcheck |
| Warnings: 0 |
##############################################################################
##############################################################################
###
### Running command:
###
### F:\biocbuild\bbs-3.15-bioc\R\bin\R.exe CMD check --no-multiarch --install=check:Basic4Cseq.install-out.txt --library=F:\biocbuild\bbs-3.15-bioc\R\library --no-vignettes --timings Basic4Cseq_1.32.0.tar.gz
###
##############################################################################
##############################################################################
* using log directory 'F:/biocbuild/bbs-3.15-bioc/meat/Basic4Cseq.Rcheck'
* using R version 4.2.1 (2022-06-23 ucrt)
* using platform: x86_64-w64-mingw32 (64-bit)
* using session charset: UTF-8
* using option '--no-vignettes'
* checking for file 'Basic4Cseq/DESCRIPTION' ... OK
* checking extension type ... Package
* this is package 'Basic4Cseq' version '1.32.0'
* checking package namespace information ... OK
* checking package dependencies ... OK
* checking if this is a source package ... OK
* checking if there is a namespace ... OK
* checking for hidden files and directories ... OK
* checking for portable file names ... OK
* checking whether package 'Basic4Cseq' can be installed ... OK
* checking installed package size ... OK
* checking package directory ... OK
* checking 'build' directory ... OK
* checking DESCRIPTION meta-information ... OK
* checking top-level files ... OK
* checking for left-over files ... OK
* checking index information ... OK
* checking package subdirectories ... OK
* checking R files for non-ASCII characters ... OK
* checking R files for syntax errors ... OK
* checking whether the package can be loaded ... OK
* checking whether the package can be loaded with stated dependencies ... OK
* checking whether the package can be unloaded cleanly ... OK
* checking whether the namespace can be loaded with stated dependencies ... OK
* checking whether the namespace can be unloaded cleanly ... OK
* checking dependencies in R code ... OK
* checking S3 generic/method consistency ... OK
* checking replacement functions ... OK
* checking foreign function calls ... OK
* checking R code for possible problems ... OK
* checking Rd files ... OK
* checking Rd metadata ... OK
* checking Rd cross-references ... OK
* checking for missing documentation entries ... OK
* checking for code/documentation mismatches ... OK
* checking Rd \usage sections ... OK
* checking Rd contents ... OK
* checking for unstated dependencies in examples ... OK
* checking contents of 'data' directory ... OK
* checking data for non-ASCII characters ... OK
* checking data for ASCII and uncompressed saves ... OK
* checking sizes of PDF files under 'inst/doc' ... OK
* checking files in 'vignettes' ... OK
* checking examples ... OK
Examples with CPU (user + system) or elapsed time > 5s
user system elapsed
readsToFragments 4.72 0.41 5.13
* checking for unstated dependencies in vignettes ... OK
* checking package vignettes in 'inst/doc' ... OK
* checking running R code from vignettes ... SKIPPED
* checking re-building of vignette outputs ... SKIPPED
* checking PDF version of manual ... OK
* DONE
Status: OK
Basic4Cseq.Rcheck/00install.out
############################################################################## ############################################################################## ### ### Running command: ### ### F:\biocbuild\bbs-3.15-bioc\R\bin\R.exe CMD INSTALL Basic4Cseq ### ############################################################################## ############################################################################## * installing to library 'F:/biocbuild/bbs-3.15-bioc/R/library' * installing *source* package 'Basic4Cseq' ... ** using staged installation ** R ** data ** inst ** byte-compile and prepare package for lazy loading ** help *** installing help indices ** building package indices ** installing vignettes ** testing if installed package can be loaded from temporary location ** testing if installed package can be loaded from final location ** testing if installed package keeps a record of temporary installation path * DONE (Basic4Cseq)
Basic4Cseq.Rcheck/Basic4Cseq-Ex.timings
| name | user | system | elapsed | |
| Data4Cseq-class | 0 | 0 | 0 | |
| Data4Cseq | 0.09 | 0.00 | 0.10 | |
| checkRestrictionEnzymeSequence | 0 | 0 | 0 | |
| chooseNearCisFragments | 0.01 | 0.00 | 0.02 | |
| createVirtualFragmentLibrary | 0 | 0 | 0 | |
| drawDigestionFragmentHistogram | 0.05 | 0.00 | 0.04 | |
| drawHeatmap | 0 | 0 | 0 | |
| exportVisualizationFragmentData | 0 | 0 | 0 | |
| getReadDistribution | 0.20 | 0.00 | 0.21 | |
| giveEnzymeSequence | 0 | 0 | 0 | |
| importVisualizationFragmentData | 0.02 | 0.00 | 0.01 | |
| liverData | 0.00 | 0.01 | 0.02 | |
| liverDataRaw | 0 | 0 | 0 | |
| normalizeFragmentData | 0.02 | 0.00 | 0.01 | |
| plotTransInteractions | 0 | 0 | 0 | |
| prepare4CseqData | 0 | 0 | 0 | |
| printBEDFragmentLibrary | 0 | 0 | 0 | |
| printWigFile | 0 | 0 | 0 | |
| readPointsOfInterestFile | 0 | 0 | 0 | |
| readsToFragments | 4.72 | 0.41 | 5.13 | |
| simulateDigestion | 0 | 0 | 0 | |
| visualizeViewpoint | 0.05 | 0.00 | 0.04 | |