| Back to Multiple platform build/check report for BioC 3.15 |
|
This page was generated on 2022-03-18 11:06:58 -0400 (Fri, 18 Mar 2022).
| Hostname | OS | Arch (*) | R version | Installed pkgs |
|---|---|---|---|---|
| nebbiolo1 | Linux (Ubuntu 20.04.4 LTS) | x86_64 | R Under development (unstable) (2022-02-17 r81757) -- "Unsuffered Consequences" | 4334 |
| riesling1 | Windows Server 2019 Standard | x64 | R Under development (unstable) (2021-11-21 r81221) -- "Unsuffered Consequences" | 4097 |
| palomino3 | Windows Server 2022 Datacenter | x64 | R Under development (unstable) (2022-02-17 r81757 ucrt) -- "Unsuffered Consequences" | 4083 |
| merida1 | macOS 10.14.6 Mojave | x86_64 | R Under development (unstable) (2022-03-02 r81842) -- "Unsuffered Consequences" | 4134 |
| Click on any hostname to see more info about the system (e.g. compilers) (*) as reported by 'uname -p', except on Windows and Mac OS X | ||||
|
To the developers/maintainers of the BAGS package: - Please allow up to 24 hours (and sometimes 48 hours) for your latest push to git@git.bioconductor.org:packages/BAGS.git to reflect on this report. See How and When does the builder pull? When will my changes propagate? here for more information. - Make sure to use the following settings in order to reproduce any error or warning you see on this page. |
| Package 105/2090 | Hostname | OS / Arch | INSTALL | BUILD | CHECK | BUILD BIN | ||||||||
| BAGS 2.35.0 (landing page) Alejandro Quiroz-Zarate
| nebbiolo1 | Linux (Ubuntu 20.04.4 LTS) / x86_64 | OK | OK | OK | |||||||||
| riesling1 | Windows Server 2019 Standard / x64 | OK | OK | OK | OK | |||||||||
| palomino3 | Windows Server 2022 Datacenter / x64 | OK | OK | OK | OK | |||||||||
| merida1 | macOS 10.14.6 Mojave / x86_64 | OK | OK | OK | OK | |||||||||
| Package: BAGS |
| Version: 2.35.0 |
| Command: D:\biocbuild\bbs-3.15-bioc\R\bin\R.exe CMD check --no-multiarch --install=check:BAGS.install-out.txt --library=D:\biocbuild\bbs-3.15-bioc\R\library --no-vignettes --timings BAGS_2.35.0.tar.gz |
| StartedAt: 2022-03-17 18:28:57 -0400 (Thu, 17 Mar 2022) |
| EndedAt: 2022-03-17 18:30:24 -0400 (Thu, 17 Mar 2022) |
| EllapsedTime: 87.4 seconds |
| RetCode: 0 |
| Status: OK |
| CheckDir: BAGS.Rcheck |
| Warnings: 0 |
##############################################################################
##############################################################################
###
### Running command:
###
### D:\biocbuild\bbs-3.15-bioc\R\bin\R.exe CMD check --no-multiarch --install=check:BAGS.install-out.txt --library=D:\biocbuild\bbs-3.15-bioc\R\library --no-vignettes --timings BAGS_2.35.0.tar.gz
###
##############################################################################
##############################################################################
* using log directory 'D:/biocbuild/bbs-3.15-bioc/meat/BAGS.Rcheck'
* using R Under development (unstable) (2021-11-21 r81221)
* using platform: x86_64-w64-mingw32 (64-bit)
* using session charset: ISO8859-1
* using option '--no-vignettes'
* checking for file 'BAGS/DESCRIPTION' ... OK
* checking extension type ... Package
* this is package 'BAGS' version '2.35.0'
* checking package namespace information ... OK
* checking package dependencies ... OK
* checking if this is a source package ... OK
* checking if there is a namespace ... OK
* checking for hidden files and directories ... OK
* checking for portable file names ... OK
* checking whether package 'BAGS' can be installed ... OK
* checking installed package size ... OK
* checking package directory ... OK
* checking 'build' directory ... OK
* checking DESCRIPTION meta-information ... OK
* checking top-level files ... OK
* checking for left-over files ... OK
* checking index information ... OK
* checking package subdirectories ... OK
* checking R files for non-ASCII characters ... OK
* checking R files for syntax errors ... OK
* checking whether the package can be loaded ... OK
* checking whether the package can be loaded with stated dependencies ... OK
* checking whether the package can be unloaded cleanly ... OK
* checking whether the namespace can be loaded with stated dependencies ... OK
* checking whether the namespace can be unloaded cleanly ... OK
* checking dependencies in R code ... NOTE
Package in Depends field not imported from: 'Biobase'
These packages need to be imported from (in the NAMESPACE file)
for when this namespace is loaded but not attached.
* checking S3 generic/method consistency ... OK
* checking replacement functions ... OK
* checking foreign function calls ... OK
* checking R code for possible problems ... OK
* checking Rd files ... OK
* checking Rd metadata ... OK
* checking Rd cross-references ... OK
* checking for missing documentation entries ... OK
* checking for code/documentation mismatches ... OK
* checking Rd \usage sections ... OK
* checking Rd contents ... OK
* checking for unstated dependencies in examples ... OK
* checking contents of 'data' directory ... OK
* checking data for non-ASCII characters ... OK
* checking data for ASCII and uncompressed saves ... OK
* checking line endings in C/C++/Fortran sources/headers ... OK
* checking compiled code ... NOTE
Note: information on .o files for x64 is not available
File 'D:/biocbuild/bbs-3.15-bioc/R/library/BAGS/libs/x64/BAGS.dll':
Found 'abort', possibly from 'abort' (C), 'runtime' (Fortran)
Compiled code should not call entry points which might terminate R nor
write to stdout/stderr instead of to the console, nor use Fortran I/O
nor system RNGs. The detected symbols are linked into the code but
might come from libraries and not actually be called.
See 'Writing portable packages' in the 'Writing R Extensions' manual.
* checking files in 'vignettes' ... OK
* checking examples ... OK
Examples with CPU (user + system) or elapsed time > 5s
user system elapsed
Gibbs2 32.13 4.59 36.72
DataGeneSets 8.12 1.15 9.27
MCMCDataSet 7.91 0.56 8.47
* checking for unstated dependencies in vignettes ... OK
* checking package vignettes in 'inst/doc' ... OK
* checking running R code from vignettes ... SKIPPED
* checking re-building of vignette outputs ... SKIPPED
* checking PDF version of manual ... OK
* DONE
Status: 2 NOTEs
See
'D:/biocbuild/bbs-3.15-bioc/meat/BAGS.Rcheck/00check.log'
for details.
BAGS.Rcheck/00install.out
##############################################################################
##############################################################################
###
### Running command:
###
### D:\biocbuild\bbs-3.15-bioc\R\bin\R.exe CMD INSTALL BAGS
###
##############################################################################
##############################################################################
* installing to library 'D:/biocbuild/bbs-3.15-bioc/R/library'
* installing *source* package 'BAGS' ...
** using staged installation
** libs
"C:/rtools40/mingw64/bin/"gcc -I"D:/biocbuild/bbs-3.15-bioc/R/include" -DNDEBUG -I"C:/extsoft/include" -O2 -Wall -std=gnu99 -mfpmath=sse -msse2 -mstackrealign -fno-reorder-blocks-and-partition -c BAGS.c -o BAGS.o
In file included from BAGS.c:8:
FuncionesFast-Final.h: In function 'BetaFunCSDiff2':
FuncionesFast-Final.h:145:70: warning: unused variable 'YMu1' [-Wunused-variable]
double media1,media,varianza1,varianza,resultado,varaux0,varaux1,YMu1;
^~~~
FuncionesFast-Final.h: In function 'AlfaFunCS':
FuncionesFast-Final.h:166:105: warning: unused variable 'MediaDiff' [-Wunused-variable]
double CSiDiff,CNoDiff,Cest,Mu,aux1,aux4,suma,zuma,cons,rznLog,rzn,prob,alea,resultado,C,A,varianza,MediaDiff;
^~~~~~~~~
FuncionesFast-Final.h:166:94: warning: unused variable 'A' [-Wunused-variable]
double CSiDiff,CNoDiff,Cest,Mu,aux1,aux4,suma,zuma,cons,rznLog,rzn,prob,alea,resultado,C,A,varianza,MediaDiff;
^
FuncionesFast-Final.h:166:92: warning: unused variable 'C' [-Wunused-variable]
double CSiDiff,CNoDiff,Cest,Mu,aux1,aux4,suma,zuma,cons,rznLog,rzn,prob,alea,resultado,C,A,varianza,MediaDiff;
^
BAGS.c: In function 'Gibbs5':
BAGS.c:25:48: warning: unused variable 'resI' [-Wunused-variable]
double escala1,escala2,escala3,escala,rate,resI;
^~~~
BAGS.c:25:43: warning: unused variable 'rate' [-Wunused-variable]
double escala1,escala2,escala3,escala,rate,resI;
^~~~
BAGS.c:25:36: warning: unused variable 'escala' [-Wunused-variable]
double escala1,escala2,escala3,escala,rate,resI;
^~~~~~
BAGS.c:25:28: warning: unused variable 'escala3' [-Wunused-variable]
double escala1,escala2,escala3,escala,rate,resI;
^~~~~~~
BAGS.c:25:20: warning: unused variable 'escala2' [-Wunused-variable]
double escala1,escala2,escala3,escala,rate,resI;
^~~~~~~
BAGS.c:25:12: warning: unused variable 'escala1' [-Wunused-variable]
double escala1,escala2,escala3,escala,rate,resI;
^~~~~~~
BAGS.c:24:12: warning: unused variable 'formaAux' [-Wunused-variable]
double formaAux;
^~~~~~~~
BAGS.c:18:80: warning: variable 'ResSgmA' set but not used [-Wunused-but-set-variable]
double ResRho1,ResRho2,ResRho3,ResRho4,ResSgmA1,ResSgmA2,ResSgmA3,ResSgmA4,ResSgmA;
^~~~~~~
BAGS.c:15:15: warning: variable 'AaPi' set but not used [-Wunused-but-set-variable]
double Mm,AaPi,Ade,Ss,Rr,c0,prob,alea,forma1,forma2,shape1,shape2;
^~~~
BAGS.c: In function 'Gibbs4':
BAGS.c:342:48: warning: unused variable 'resI' [-Wunused-variable]
double escala1,escala2,escala3,escala,rate,resI; // Aqui tengo duda
^~~~
BAGS.c:342:43: warning: unused variable 'rate' [-Wunused-variable]
double escala1,escala2,escala3,escala,rate,resI; // Aqui tengo duda
^~~~
BAGS.c:342:36: warning: unused variable 'escala' [-Wunused-variable]
double escala1,escala2,escala3,escala,rate,resI; // Aqui tengo duda
^~~~~~
BAGS.c:342:28: warning: unused variable 'escala3' [-Wunused-variable]
double escala1,escala2,escala3,escala,rate,resI; // Aqui tengo duda
^~~~~~~
BAGS.c:342:20: warning: unused variable 'escala2' [-Wunused-variable]
double escala1,escala2,escala3,escala,rate,resI; // Aqui tengo duda
^~~~~~~
BAGS.c:342:12: warning: unused variable 'escala1' [-Wunused-variable]
double escala1,escala2,escala3,escala,rate,resI; // Aqui tengo duda
^~~~~~~
BAGS.c:341:12: warning: unused variable 'formaAux' [-Wunused-variable]
double formaAux;
^~~~~~~~
BAGS.c:335:63: warning: variable 'ResSgmA' set but not used [-Wunused-but-set-variable]
double ResRho1,ResRho2,ResRho3,ResSgmA1,ResSgmA2,ResSgmA3,ResSgmA;
^~~~~~~
BAGS.c:332:15: warning: variable 'AaPi' set but not used [-Wunused-but-set-variable]
double Mm,AaPi,Ade,Ss,Rr,c0,prob,alea,forma1,forma2,shape1,shape2;
^~~~
BAGS.c: In function 'Gibbs3':
BAGS.c:593:48: warning: unused variable 'resI' [-Wunused-variable]
double escala1,escala2,escala3,escala,rate,resI; // Aqui tengo duda
^~~~
BAGS.c:593:43: warning: unused variable 'rate' [-Wunused-variable]
double escala1,escala2,escala3,escala,rate,resI; // Aqui tengo duda
^~~~
BAGS.c:593:36: warning: unused variable 'escala' [-Wunused-variable]
double escala1,escala2,escala3,escala,rate,resI; // Aqui tengo duda
^~~~~~
BAGS.c:593:28: warning: unused variable 'escala3' [-Wunused-variable]
double escala1,escala2,escala3,escala,rate,resI; // Aqui tengo duda
^~~~~~~
BAGS.c:593:20: warning: unused variable 'escala2' [-Wunused-variable]
double escala1,escala2,escala3,escala,rate,resI; // Aqui tengo duda
^~~~~~~
BAGS.c:593:12: warning: unused variable 'escala1' [-Wunused-variable]
double escala1,escala2,escala3,escala,rate,resI; // Aqui tengo duda
^~~~~~~
BAGS.c:592:12: warning: unused variable 'formaAux' [-Wunused-variable]
double formaAux;
^~~~~~~~
BAGS.c:586:46: warning: variable 'ResSgmA' set but not used [-Wunused-but-set-variable]
double ResRho1,ResRho2,ResSgmA1,ResSgmA2,ResSgmA;
^~~~~~~
BAGS.c:583:15: warning: variable 'AaPi' set but not used [-Wunused-but-set-variable]
double Mm,AaPi,Ade,Ss,Rr,c0,prob,alea,forma1,forma2,shape1,shape2;
^~~~
BAGS.c: In function 'Gibbs2':
BAGS.c:786:48: warning: unused variable 'resI' [-Wunused-variable]
double escala1,escala2,escala3,escala,rate,resI; // Aqui tengo duda
^~~~
BAGS.c:786:43: warning: unused variable 'rate' [-Wunused-variable]
double escala1,escala2,escala3,escala,rate,resI; // Aqui tengo duda
^~~~
BAGS.c:786:36: warning: unused variable 'escala' [-Wunused-variable]
double escala1,escala2,escala3,escala,rate,resI; // Aqui tengo duda
^~~~~~
BAGS.c:786:28: warning: unused variable 'escala3' [-Wunused-variable]
double escala1,escala2,escala3,escala,rate,resI; // Aqui tengo duda
^~~~~~~
BAGS.c:786:20: warning: unused variable 'escala2' [-Wunused-variable]
double escala1,escala2,escala3,escala,rate,resI; // Aqui tengo duda
^~~~~~~
BAGS.c:786:12: warning: unused variable 'escala1' [-Wunused-variable]
double escala1,escala2,escala3,escala,rate,resI; // Aqui tengo duda
^~~~~~~
BAGS.c:785:12: warning: unused variable 'formaAux' [-Wunused-variable]
double formaAux;
^~~~~~~~
BAGS.c:779:29: warning: variable 'ResSgmA' set but not used [-Wunused-but-set-variable]
double ResRho1,ResSgmA1,ResSgmA;
^~~~~~~
BAGS.c:776:15: warning: variable 'AaPi' set but not used [-Wunused-but-set-variable]
double Mm,AaPi,Ade,Ss,Rr,c0,prob,alea,forma1,forma2,shape1,shape2;
^~~~
C:/rtools40/mingw64/bin/gcc -shared -s -static-libgcc -o BAGS.dll tmp.def BAGS.o -LC:/extsoft/lib/x64 -LC:/extsoft/lib -LD:/biocbuild/bbs-3.15-bioc/R/bin/x64 -lR
installing to D:/biocbuild/bbs-3.15-bioc/R/library/00LOCK-BAGS/00new/BAGS/libs/x64
** R
** data
** inst
** byte-compile and prepare package for lazy loading
** help
*** installing help indices
converting help for package 'BAGS'
finding HTML links ... done
AnnotationMFGO html
BAGS-internal html
BAGS-package html
DataGeneSets html
Gibbs2 html
Gibbs3 html
Gibbs4 html
Gibbs5 html
MCMCDataSet html
ReadGMT html
** building package indices
** installing vignettes
** testing if installed package can be loaded from temporary location
** testing if installed package can be loaded from final location
** testing if installed package keeps a record of temporary installation path
* DONE (BAGS)
Making 'packages.html' ...Warning in packageDescription(i, lib.loc = lib, fields = "Title", encoding = "UTF-8") :
DESCRIPTION file of package 'ROTS' is missing or broken
done
BAGS.Rcheck/BAGS-Ex.timings
| name | user | system | elapsed | |
| AnnotationMFGO | 0.01 | 0.00 | 0.02 | |
| BAGS-package | 0 | 0 | 0 | |
| DataGeneSets | 8.12 | 1.15 | 9.27 | |
| Gibbs2 | 32.13 | 4.59 | 36.72 | |
| Gibbs3 | 0 | 0 | 0 | |
| Gibbs4 | 0 | 0 | 0 | |
| Gibbs5 | 0 | 0 | 0 | |
| MCMCDataSet | 7.91 | 0.56 | 8.47 | |
| ReadGMT | 0 | 0 | 0 | |