| Back to Multiple platform build/check report for BioC 3.15 |
|
This page was generated on 2022-03-18 11:06:54 -0400 (Fri, 18 Mar 2022).
| Hostname | OS | Arch (*) | R version | Installed pkgs |
|---|---|---|---|---|
| nebbiolo1 | Linux (Ubuntu 20.04.4 LTS) | x86_64 | R Under development (unstable) (2022-02-17 r81757) -- "Unsuffered Consequences" | 4334 |
| riesling1 | Windows Server 2019 Standard | x64 | R Under development (unstable) (2021-11-21 r81221) -- "Unsuffered Consequences" | 4097 |
| palomino3 | Windows Server 2022 Datacenter | x64 | R Under development (unstable) (2022-02-17 r81757 ucrt) -- "Unsuffered Consequences" | 4083 |
| merida1 | macOS 10.14.6 Mojave | x86_64 | R Under development (unstable) (2022-03-02 r81842) -- "Unsuffered Consequences" | 4134 |
| Click on any hostname to see more info about the system (e.g. compilers) (*) as reported by 'uname -p', except on Windows and Mac OS X | ||||
|
To the developers/maintainers of the AlpsNMR package: - Please allow up to 24 hours (and sometimes 48 hours) for your latest push to git@git.bioconductor.org:packages/AlpsNMR.git to reflect on this report. See How and When does the builder pull? When will my changes propagate? here for more information. - Make sure to use the following settings in order to reproduce any error or warning you see on this page. |
| Package 44/2090 | Hostname | OS / Arch | INSTALL | BUILD | CHECK | BUILD BIN | ||||||||
| AlpsNMR 3.5.0 (landing page) Sergio Oller Moreno
| nebbiolo1 | Linux (Ubuntu 20.04.4 LTS) / x86_64 | OK | OK | ERROR | |||||||||
| riesling1 | Windows Server 2019 Standard / x64 | OK | OK | OK | OK | |||||||||
| palomino3 | Windows Server 2022 Datacenter / x64 | OK | OK | ERROR | OK | |||||||||
| merida1 | macOS 10.14.6 Mojave / x86_64 | OK | OK | ERROR | OK | |||||||||
| Package: AlpsNMR |
| Version: 3.5.0 |
| Command: D:\biocbuild\bbs-3.15-bioc\R\bin\R.exe CMD INSTALL AlpsNMR |
| StartedAt: 2022-03-17 15:59:46 -0400 (Thu, 17 Mar 2022) |
| EndedAt: 2022-03-17 16:00:52 -0400 (Thu, 17 Mar 2022) |
| EllapsedTime: 65.1 seconds |
| RetCode: 0 |
| Status: OK |
##############################################################################
##############################################################################
###
### Running command:
###
### D:\biocbuild\bbs-3.15-bioc\R\bin\R.exe CMD INSTALL AlpsNMR
###
##############################################################################
##############################################################################
* installing to library 'D:/biocbuild/bbs-3.15-bioc/R/library'
* installing *source* package 'AlpsNMR' ...
** using staged installation
** R
** data
** inst
** byte-compile and prepare package for lazy loading
** help
*** installing help indices
converting help for package 'AlpsNMR'
finding HTML links ... done
AUC_model html
AlpsNMR-package html
HMDB_blood html
HMDB_cell html
HMDB_urine html
MUVR_model_plot html
Parameters_blood html
Parameters_cell html
Parameters_urine html
Peak_detection html
Pipelines html
REDIRECT:topic Previous alias or file overwritten by alias: D:/biocbuild/bbs-3.15-bioc/R/library/00LOCK-AlpsNMR/00new/AlpsNMR/help/pipe_normalization.html
ROI_blood html
ROI_cell html
ROI_urine html
SummarizedExperiment_to_nmr_data_1r html
SummarizedExperiment_to_nmr_dataset_peak_table
html
bp_VIP_analysis html
bp_kfold_VIP_analysis html
computes_peak_width_ppm html
confusion_matrix html
file_lister html
files_to_rDolphin html
filter.nmr_dataset_family html
finding level-2 HTML links ... done
format.nmr_dataset html
format.nmr_dataset_1D html
format.nmr_dataset_peak_table html
hmdb html
is.nmr_dataset html
is.nmr_dataset_1D html
is.nmr_dataset_peak_table html
load_and_save_functions html
model_VIP html
models_stability_plot_bootstrap html
models_stability_plot_plsda html
new_nmr_dataset html
new_nmr_dataset_1D html
new_nmr_dataset_peak_table html
nmr_align_find_ref html
nmr_baseline_removal html
nmr_baseline_threshold html
nmr_batman html
nmr_batman_options html
nmr_data html
nmr_data_1r_to_SummarizedExperiment html
nmr_data_analysis html
nmr_data_analysis_method html
nmr_dataset html
nmr_dataset_1D html
nmr_dataset_family html
nmr_dataset_peak_table html
nmr_dataset_peak_table_to_SummarizedExperiment
html
nmr_diagnose-defunct html
nmr_exclude_region html
nmr_export_data_1r html
nmr_identify_regions_blood html
nmr_identify_regions_cell html
nmr_identify_regions_urine html
nmr_integrate_regions html
nmr_interpolate_1D html
nmr_meta_add html
nmr_meta_export html
nmr_meta_get html
nmr_meta_get_column html
nmr_normalize html
nmr_pca_build_model html
nmr_pca_outliers html
nmr_pca_outliers_filter html
nmr_pca_outliers_plot html
nmr_pca_outliers_robust html
nmr_pca_plots html
nmr_ppm_resolution html
nmr_read_bruker_fid html
nmr_read_samples html
nmr_zip_bruker_samples html
p_value_perm html
permutation_test_model html
permutation_test_plot html
plot.nmr_dataset_1D html
plot_bootstrap_multimodel html
plot_interactive html
plot_plsda_multimodel html
plot_plsda_samples html
plot_vip_scores html
plot_webgl html
plsda_auroc_vip_compare html
plsda_auroc_vip_method html
ppm_VIP_vector html
ppm_resolution html
print.nmr_dataset html
print.nmr_dataset_1D html
print.nmr_dataset_peak_table html
random_subsampling html
rdCV_PLS_RF html
rdCV_PLS_RF_ML html
read_bruker_sample html
regions_from_peak_table html
save_files_to_rDolphin html
save_profiling_output html
sub-.nmr_dataset html
sub-.nmr_dataset_1D html
sub-.nmr_dataset_peak_table html
to_ChemoSpec html
validate_nmr_dataset html
validate_nmr_dataset_family html
*** copying figures
** building package indices
** installing vignettes
** testing if installed package can be loaded from temporary location
** testing if installed package can be loaded from final location
** testing if installed package keeps a record of temporary installation path
* DONE (AlpsNMR)
Making 'packages.html' ...Warning in packageDescription(i, lib.loc = lib, fields = "Title", encoding = "UTF-8") :
DESCRIPTION file of package 'GCSscore' is missing or broken
done