| Back to Multiple platform build/check report for BioC 3.15 |
|
This page was generated on 2022-03-18 11:06:54 -0400 (Fri, 18 Mar 2022).
| Hostname | OS | Arch (*) | R version | Installed pkgs |
|---|---|---|---|---|
| nebbiolo1 | Linux (Ubuntu 20.04.4 LTS) | x86_64 | R Under development (unstable) (2022-02-17 r81757) -- "Unsuffered Consequences" | 4334 |
| riesling1 | Windows Server 2019 Standard | x64 | R Under development (unstable) (2021-11-21 r81221) -- "Unsuffered Consequences" | 4097 |
| palomino3 | Windows Server 2022 Datacenter | x64 | R Under development (unstable) (2022-02-17 r81757 ucrt) -- "Unsuffered Consequences" | 4083 |
| merida1 | macOS 10.14.6 Mojave | x86_64 | R Under development (unstable) (2022-03-02 r81842) -- "Unsuffered Consequences" | 4134 |
| Click on any hostname to see more info about the system (e.g. compilers) (*) as reported by 'uname -p', except on Windows and Mac OS X | ||||
|
To the developers/maintainers of the ALDEx2 package: - Please allow up to 24 hours (and sometimes 48 hours) for your latest push to git@git.bioconductor.org:packages/ALDEx2.git to reflect on this report. See How and When does the builder pull? When will my changes propagate? here for more information. - Make sure to use the following settings in order to reproduce any error or warning you see on this page. |
| Package 39/2090 | Hostname | OS / Arch | INSTALL | BUILD | CHECK | BUILD BIN | ||||||||
| ALDEx2 1.27.0 (landing page) Greg Gloor
| nebbiolo1 | Linux (Ubuntu 20.04.4 LTS) / x86_64 | OK | OK | OK | |||||||||
| riesling1 | Windows Server 2019 Standard / x64 | OK | OK | OK | OK | |||||||||
| palomino3 | Windows Server 2022 Datacenter / x64 | OK | OK | OK | OK | |||||||||
| merida1 | macOS 10.14.6 Mojave / x86_64 | OK | OK | OK | OK | |||||||||
| Package: ALDEx2 |
| Version: 1.27.0 |
| Command: D:\biocbuild\bbs-3.15-bioc\R\bin\R.exe CMD check --no-multiarch --install=check:ALDEx2.install-out.txt --library=D:\biocbuild\bbs-3.15-bioc\R\library --no-vignettes --timings ALDEx2_1.27.0.tar.gz |
| StartedAt: 2022-03-17 18:25:36 -0400 (Thu, 17 Mar 2022) |
| EndedAt: 2022-03-17 18:28:59 -0400 (Thu, 17 Mar 2022) |
| EllapsedTime: 202.8 seconds |
| RetCode: 0 |
| Status: OK |
| CheckDir: ALDEx2.Rcheck |
| Warnings: 0 |
##############################################################################
##############################################################################
###
### Running command:
###
### D:\biocbuild\bbs-3.15-bioc\R\bin\R.exe CMD check --no-multiarch --install=check:ALDEx2.install-out.txt --library=D:\biocbuild\bbs-3.15-bioc\R\library --no-vignettes --timings ALDEx2_1.27.0.tar.gz
###
##############################################################################
##############################################################################
* using log directory 'D:/biocbuild/bbs-3.15-bioc/meat/ALDEx2.Rcheck'
* using R Under development (unstable) (2021-11-21 r81221)
* using platform: x86_64-w64-mingw32 (64-bit)
* using session charset: ISO8859-1
* using option '--no-vignettes'
* checking for file 'ALDEx2/DESCRIPTION' ... OK
* checking extension type ... Package
* this is package 'ALDEx2' version '1.27.0'
* checking package namespace information ... OK
* checking package dependencies ... OK
* checking if this is a source package ... OK
* checking if there is a namespace ... OK
* checking for hidden files and directories ... OK
* checking for portable file names ... OK
* checking whether package 'ALDEx2' can be installed ... OK
* checking installed package size ... OK
* checking package directory ... OK
* checking 'build' directory ... OK
* checking DESCRIPTION meta-information ... OK
* checking top-level files ... OK
* checking for left-over files ... OK
* checking index information ... OK
* checking package subdirectories ... OK
* checking R files for non-ASCII characters ... OK
* checking R files for syntax errors ... OK
* checking whether the package can be loaded ... OK
* checking whether the package can be loaded with stated dependencies ... OK
* checking whether the package can be unloaded cleanly ... OK
* checking whether the namespace can be loaded with stated dependencies ... OK
* checking whether the namespace can be unloaded cleanly ... OK
* checking dependencies in R code ... OK
* checking S3 generic/method consistency ... OK
* checking replacement functions ... OK
* checking foreign function calls ... OK
* checking R code for possible problems ... OK
* checking Rd files ... OK
* checking Rd metadata ... OK
* checking Rd cross-references ... OK
* checking for missing documentation entries ... OK
* checking for code/documentation mismatches ... OK
* checking Rd \usage sections ... OK
* checking Rd contents ... OK
* checking for unstated dependencies in examples ... OK
* checking contents of 'data' directory ... OK
* checking data for non-ASCII characters ... OK
* checking data for ASCII and uncompressed saves ... OK
* checking files in 'vignettes' ... OK
* checking examples ... OK
Examples with CPU (user + system) or elapsed time > 5s
user system elapsed
aldex.corr 52.37 1.2 53.64
* checking for unstated dependencies in 'tests' ... OK
* checking tests ...
Running 'testthat.R'
OK
* checking for unstated dependencies in vignettes ... OK
* checking package vignettes in 'inst/doc' ... OK
* checking running R code from vignettes ... SKIPPED
* checking re-building of vignette outputs ... SKIPPED
* checking PDF version of manual ... OK
* DONE
Status: OK
ALDEx2.Rcheck/00install.out
##############################################################################
##############################################################################
###
### Running command:
###
### D:\biocbuild\bbs-3.15-bioc\R\bin\R.exe CMD INSTALL ALDEx2
###
##############################################################################
##############################################################################
* installing to library 'D:/biocbuild/bbs-3.15-bioc/R/library'
* installing *source* package 'ALDEx2' ...
** using staged installation
** R
** data
** inst
** byte-compile and prepare package for lazy loading
** help
*** installing help indices
converting help for package 'ALDEx2'
finding HTML links ... done
ALDEx2m-package html
aldex html
aldex.clr-class html
aldex.clr.function-methods html
aldex.corr html
aldex.effect html
aldex.glm html
aldex.glm.effect html
aldex.kw html
aldex.plotFeature html
aldex.set.mode html
aldex.ttest html
expectedDistance html
getDenom-method html
getDirichletInstances-method html
getDirichletReplicate-method html
getDirichletSample-method html
getFeatureNames-method html
getFeatures-method html
getMonteCarloInstances-method html
getMonteCarloReplicate-method html
getMonteCarloSample-method html
getReads-method html
getSampleIDs-method html
numConditions-method html
numFeatures-method html
numMCInstances-method html
plot.aldex html
selex html
synth2 html
** building package indices
** installing vignettes
** testing if installed package can be loaded from temporary location
** testing if installed package can be loaded from final location
** testing if installed package keeps a record of temporary installation path
* DONE (ALDEx2)
Making 'packages.html' ... done
ALDEx2.Rcheck/tests/testthat.Rout
R Under development (unstable) (2021-11-21 r81221) -- "Unsuffered Consequences"
Copyright (C) 2021 The R Foundation for Statistical Computing
Platform: x86_64-w64-mingw32/x64 (64-bit)
R is free software and comes with ABSOLUTELY NO WARRANTY.
You are welcome to redistribute it under certain conditions.
Type 'license()' or 'licence()' for distribution details.
R is a collaborative project with many contributors.
Type 'contributors()' for more information and
'citation()' on how to cite R or R packages in publications.
Type 'demo()' for some demos, 'help()' for on-line help, or
'help.start()' for an HTML browser interface to help.
Type 'q()' to quit R.
> library(testthat)
> library(ALDEx2)
Loading required package: zCompositions
Loading required package: MASS
Loading required package: NADA
Loading required package: survival
Attaching package: 'NADA'
The following object is masked from 'package:stats':
cor
Loading required package: truncnorm
>
> test_check("ALDEx2")
[ FAIL 0 | WARN 4 | SKIP 0 | PASS 22 ]
[ FAIL 0 | WARN 4 | SKIP 0 | PASS 22 ]
>
> proc.time()
user system elapsed
22.62 1.95 24.54
ALDEx2.Rcheck/ALDEx2-Ex.timings
| name | user | system | elapsed | |
| ALDEx2m-package | 0 | 0 | 0 | |
| aldex | 1.89 | 1.12 | 3.02 | |
| aldex.clr-class | 0.06 | 0.00 | 0.06 | |
| aldex.clr.function-methods | 0.05 | 0.00 | 0.05 | |
| aldex.corr | 52.37 | 1.20 | 53.64 | |
| aldex.effect | 0.14 | 0.02 | 0.16 | |
| aldex.glm | 0.74 | 0.00 | 0.73 | |
| aldex.glm.effect | 0.34 | 0.03 | 0.37 | |
| aldex.kw | 1.78 | 0.00 | 1.79 | |
| aldex.plotFeature | 0.08 | 0.00 | 0.07 | |
| aldex.set.mode | 0.05 | 0.00 | 0.05 | |
| aldex.ttest | 0.08 | 0.00 | 0.08 | |
| expectedDistance | 0.25 | 0.03 | 0.28 | |
| getDenom-method | 0.04 | 0.00 | 0.04 | |
| getDirichletInstances-method | 0.03 | 0.01 | 0.05 | |
| getDirichletReplicate-method | 0.05 | 0.00 | 0.05 | |
| getDirichletSample-method | 0.05 | 0.00 | 0.04 | |
| getFeatureNames-method | 0.03 | 0.00 | 0.03 | |
| getFeatures-method | 0.05 | 0.00 | 0.05 | |
| getMonteCarloInstances-method | 0.06 | 0.00 | 0.06 | |
| getMonteCarloReplicate-method | 0.08 | 0.00 | 0.08 | |
| getMonteCarloSample-method | 0.06 | 0.00 | 0.06 | |
| getReads-method | 0.06 | 0.00 | 0.07 | |
| getSampleIDs-method | 0.06 | 0.02 | 0.08 | |
| numConditions-method | 0.05 | 0.00 | 0.04 | |
| numFeatures-method | 0.03 | 0.00 | 0.03 | |
| numMCInstances-method | 0.03 | 0.02 | 0.05 | |
| plot.aldex | 0 | 0 | 0 | |