| Back to Multiple platform build/check report for BioC 3.15 |
|
This page was generated on 2022-03-18 11:06:54 -0400 (Fri, 18 Mar 2022).
| Hostname | OS | Arch (*) | R version | Installed pkgs |
|---|---|---|---|---|
| nebbiolo1 | Linux (Ubuntu 20.04.4 LTS) | x86_64 | R Under development (unstable) (2022-02-17 r81757) -- "Unsuffered Consequences" | 4334 |
| riesling1 | Windows Server 2019 Standard | x64 | R Under development (unstable) (2021-11-21 r81221) -- "Unsuffered Consequences" | 4097 |
| palomino3 | Windows Server 2022 Datacenter | x64 | R Under development (unstable) (2022-02-17 r81757 ucrt) -- "Unsuffered Consequences" | 4083 |
| merida1 | macOS 10.14.6 Mojave | x86_64 | R Under development (unstable) (2022-03-02 r81842) -- "Unsuffered Consequences" | 4134 |
| Click on any hostname to see more info about the system (e.g. compilers) (*) as reported by 'uname -p', except on Windows and Mac OS X | ||||
|
To the developers/maintainers of the AGDEX package: - Please allow up to 24 hours (and sometimes 48 hours) for your latest push to git@git.bioconductor.org:packages/AGDEX.git to reflect on this report. See How and When does the builder pull? When will my changes propagate? here for more information. - Make sure to use the following settings in order to reproduce any error or warning you see on this page. |
| Package 33/2090 | Hostname | OS / Arch | INSTALL | BUILD | CHECK | BUILD BIN | ||||||||
| AGDEX 1.43.0 (landing page) Cuilan lani Gao
| nebbiolo1 | Linux (Ubuntu 20.04.4 LTS) / x86_64 | OK | OK | OK | |||||||||
| riesling1 | Windows Server 2019 Standard / x64 | OK | OK | OK | OK | |||||||||
| palomino3 | Windows Server 2022 Datacenter / x64 | OK | OK | OK | OK | |||||||||
| merida1 | macOS 10.14.6 Mojave / x86_64 | OK | OK | OK | OK | |||||||||
| Package: AGDEX |
| Version: 1.43.0 |
| Command: D:\biocbuild\bbs-3.15-bioc\R\bin\R.exe CMD check --no-multiarch --install=check:AGDEX.install-out.txt --library=D:\biocbuild\bbs-3.15-bioc\R\library --no-vignettes --timings AGDEX_1.43.0.tar.gz |
| StartedAt: 2022-03-17 18:25:36 -0400 (Thu, 17 Mar 2022) |
| EndedAt: 2022-03-17 18:27:09 -0400 (Thu, 17 Mar 2022) |
| EllapsedTime: 92.5 seconds |
| RetCode: 0 |
| Status: OK |
| CheckDir: AGDEX.Rcheck |
| Warnings: 0 |
##############################################################################
##############################################################################
###
### Running command:
###
### D:\biocbuild\bbs-3.15-bioc\R\bin\R.exe CMD check --no-multiarch --install=check:AGDEX.install-out.txt --library=D:\biocbuild\bbs-3.15-bioc\R\library --no-vignettes --timings AGDEX_1.43.0.tar.gz
###
##############################################################################
##############################################################################
* using log directory 'D:/biocbuild/bbs-3.15-bioc/meat/AGDEX.Rcheck'
* using R Under development (unstable) (2021-11-21 r81221)
* using platform: x86_64-w64-mingw32 (64-bit)
* using session charset: ISO8859-1
* using option '--no-vignettes'
* checking for file 'AGDEX/DESCRIPTION' ... OK
* checking extension type ... Package
* this is package 'AGDEX' version '1.43.0'
* checking package namespace information ... OK
* checking package dependencies ... OK
* checking if this is a source package ... OK
* checking if there is a namespace ... OK
* checking for hidden files and directories ... OK
* checking for portable file names ... OK
* checking whether package 'AGDEX' can be installed ... OK
* checking installed package size ... OK
* checking package directory ... OK
* checking 'build' directory ... OK
* checking DESCRIPTION meta-information ... NOTE
Malformed Description field: should contain one or more complete sentences.
Non-standard license specification:
GPL Version 2 or later
Standardizable: TRUE
Standardized license specification:
GPL (>= 2)
* checking top-level files ... OK
* checking for left-over files ... OK
* checking index information ... OK
* checking package subdirectories ... OK
* checking R files for non-ASCII characters ... OK
* checking R files for syntax errors ... OK
* checking whether the package can be loaded ... OK
* checking whether the package can be loaded with stated dependencies ... OK
* checking whether the package can be unloaded cleanly ... OK
* checking whether the namespace can be loaded with stated dependencies ... OK
* checking whether the namespace can be unloaded cleanly ... OK
* checking dependencies in R code ... NOTE
Packages in Depends field not imported from:
'Biobase' 'GSEABase'
These packages need to be imported from (in the NAMESPACE file)
for when this namespace is loaded but not attached.
* checking S3 generic/method consistency ... OK
* checking replacement functions ... OK
* checking foreign function calls ... OK
* checking R code for possible problems ... NOTE
agdex: no visible global function definition for 'exprs'
agdex: no visible global function definition for 'qnorm'
agdex: no visible global function definition for 'pnorm'
agdex: no visible global function definition for 'sampleNames'
agdex: no visible global function definition for 'pData'
agdex.scatterplot: no visible global function definition for 'points'
agdex.scatterplot: no visible global function definition for 'lines'
agdex.scatterplot: no visible global function definition for 'prcomp'
agdex.scatterplot: no visible global function definition for 'abline'
gsc.to.index.list: no visible global function definition for 'geneIds'
prep.dex.set: no visible global function definition for 'exprs'
prep.dex.set: no visible global function definition for 'pData'
read.agdex.gset.details: no visible global function definition for
'read.table'
read.agdex.gset.list: no visible global function definition for
'read.table'
read.agdex.result: no visible global function definition for
'read.table'
read.enrich.gset.list: no visible global function definition for
'read.table'
read.gset.collection: no visible global function definition for
'read.table'
read.gset.collection: no visible global function definition for
'GeneSet'
read.gset.collection: no visible global function definition for
'geneIds<-'
read.gset.collection: no visible global function definition for
'GeneSetCollection'
write.agdex.gset.details: no visible global function definition for
'write.table'
write.agdex.result: no visible global function definition for
'write.table'
write.gset.list.result: no visible global function definition for
'write.table'
Undefined global functions or variables:
GeneSet GeneSetCollection abline exprs geneIds geneIds<- lines pData
pnorm points prcomp qnorm read.table sampleNames write.table
Consider adding
importFrom("graphics", "abline", "lines", "points")
importFrom("stats", "pnorm", "prcomp", "qnorm")
importFrom("utils", "read.table", "write.table")
to your NAMESPACE file.
* checking Rd files ... OK
* checking Rd metadata ... OK
* checking Rd cross-references ... OK
* checking for missing documentation entries ... OK
* checking for code/documentation mismatches ... OK
* checking Rd \usage sections ... OK
* checking Rd contents ... OK
* checking for unstated dependencies in examples ... OK
* checking contents of 'data' directory ... OK
* checking data for non-ASCII characters ... OK
* checking data for ASCII and uncompressed saves ... OK
* checking files in 'vignettes' ... OK
* checking examples ... OK
* checking for unstated dependencies in vignettes ... OK
* checking package vignettes in 'inst/doc' ... OK
* checking running R code from vignettes ... SKIPPED
* checking re-building of vignette outputs ... SKIPPED
* checking PDF version of manual ... OK
* DONE
Status: 3 NOTEs
See
'D:/biocbuild/bbs-3.15-bioc/meat/AGDEX.Rcheck/00check.log'
for details.
AGDEX.Rcheck/00install.out
##############################################################################
##############################################################################
###
### Running command:
###
### D:\biocbuild\bbs-3.15-bioc\R\bin\R.exe CMD INSTALL AGDEX
###
##############################################################################
##############################################################################
* installing to library 'D:/biocbuild/bbs-3.15-bioc/R/library'
* installing *source* package 'AGDEX' ...
** using staged installation
** R
** data
** byte-compile and prepare package for lazy loading
** help
*** installing help indices
converting help for package 'AGDEX'
finding HTML links ... done
AGDEX-package html
agdex html
agdex.res html
agdex.scatterplot html
get.gset.result.details html
gset.data html
human.data html
make.dex.set.object html
map.data html
mouse.data html
read.agdex.gset.details html
read.agdex.result html
write.agdex.gset.details html
write.agdex.result html
** building package indices
** installing vignettes
** testing if installed package can be loaded from temporary location
** testing if installed package can be loaded from final location
** testing if installed package keeps a record of temporary installation path
* DONE (AGDEX)
Making 'packages.html' ... done
AGDEX.Rcheck/AGDEX-Ex.timings
| name | user | system | elapsed | |
| agdex | 0.72 | 0.01 | 0.73 | |
| agdex.scatterplot | 0.03 | 0.02 | 0.05 | |
| get.gset.result.details | 0.05 | 0.00 | 0.05 | |
| gset.data | 0 | 0 | 0 | |
| human.data | 0.00 | 0.01 | 0.01 | |
| make.dex.set.object | 0.03 | 0.00 | 0.03 | |
| map.data | 0 | 0 | 0 | |
| mouse.data | 0.01 | 0.00 | 0.01 | |
| read.agdex.gset.details | 0 | 0 | 0 | |
| read.agdex.result | 0 | 0 | 0 | |
| write.agdex.gset.details | 0.02 | 0.02 | 0.03 | |
| write.agdex.result | 0 | 0 | 0 | |