| Back to Books build report for BioC 3.14 |
This page was generated on 2022-04-08 14:00:04 -0400 (Fri, 08 Apr 2022).
| Hostname | OS | Arch (*) | R version | Installed pkgs |
|---|---|---|---|---|
| nebbiolo2 | Linux (Ubuntu 20.04.4 LTS) | x86_64 | 4.1.3 (2022-03-10) -- "One Push-Up" | 4322 |
| Click on any hostname to see more info about the system (e.g. compilers) (*) as reported by 'uname -p', except on Windows and Mac OS X | ||||
|
To the developers/maintainers of the csawBook package: Make sure to use the following settings in order to reproduce any error or warning you see on this page. |
| Package 1/8 | Hostname | OS / Arch | INSTALL | BUILD | ||||||||
| csawBook 1.2.1 (landing page) Aaron Lun
| nebbiolo2 | Linux (Ubuntu 20.04.4 LTS) / x86_64 | OK | OK | ||||||||
| Package: csawBook |
| Version: 1.2.1 |
| Command: /home/biocbuild/bbs-3.14-bioc/R/bin/R CMD build --keep-empty-dirs --no-resave-data csawBook |
| StartedAt: 2022-04-08 07:01:03 -0400 (Fri, 08 Apr 2022) |
| EndedAt: 2022-04-08 08:15:07 -0400 (Fri, 08 Apr 2022) |
| EllapsedTime: 4443.1 seconds |
| RetCode: 0 |
| Status: OK |
| PackageFile: csawBook_1.2.1.tar.gz |
| PackageFileSize: 2.494 MiB |
############################################################################## ############################################################################## ### ### Running command: ### ### /home/biocbuild/bbs-3.14-bioc/R/bin/R CMD build --keep-empty-dirs --no-resave-data csawBook ### ############################################################################## ############################################################################## * checking for file ‘csawBook/DESCRIPTION’ ... OK * preparing ‘csawBook’: * checking DESCRIPTION meta-information ... OK * installing the package to build vignettes * creating vignettes ... OK * checking for LF line-endings in source and make files and shell scripts * checking for empty or unneeded directories * creating default NAMESPACE file * building ‘csawBook_1.2.1.tar.gz’