| Back to Multiple platform build/check report for BioC 3.14 | 
 | 
This page was generated on 2022-04-13 12:07:28 -0400 (Wed, 13 Apr 2022).
| Hostname | OS | Arch (*) | R version | Installed pkgs | 
|---|---|---|---|---|
| nebbiolo2 | Linux (Ubuntu 20.04.4 LTS) | x86_64 | 4.1.3 (2022-03-10) -- "One Push-Up" | 4324 | 
| tokay2 | Windows Server 2012 R2 Standard | x64 | 4.1.3 (2022-03-10) -- "One Push-Up" | 4077 | 
| machv2 | macOS 10.14.6 Mojave | x86_64 | 4.1.3 (2022-03-10) -- "One Push-Up" | 4137 | 
| Click on any hostname to see more info about the system (e.g. compilers) (*) as reported by 'uname -p', except on Windows and Mac OS X | ||||
| To the developers/maintainers of the tidySingleCellExperiment package: - Please allow up to 24 hours (and sometimes 48 hours) for your latest push to git@git.bioconductor.org:packages/tidySingleCellExperiment.git to reflect on this report. See How and When does the builder pull? When will my changes propagate? for more information. - Make sure to use the following settings in order to reproduce any error or warning you see on this page. | 
| Package 1951/2083 | Hostname | OS / Arch | INSTALL | BUILD | CHECK | BUILD BIN | ||||||||
| tidySingleCellExperiment 1.4.0  (landing page) Stefano Mangiola 
 | nebbiolo2 | Linux (Ubuntu 20.04.4 LTS) / x86_64 | OK | OK | OK |  | ||||||||
| tokay2 | Windows Server 2012 R2 Standard / x64 | OK | OK | OK | OK |  | ||||||||
| machv2 | macOS 10.14.6 Mojave / x86_64 | OK | OK | OK | OK |  | ||||||||
| Package: tidySingleCellExperiment | 
| Version: 1.4.0 | 
| Command: C:\cygwin\bin\curl.exe -O http://155.52.207.166/BBS/3.14/bioc/src/contrib/tidySingleCellExperiment_1.4.0.tar.gz && rm -rf tidySingleCellExperiment.buildbin-libdir && mkdir tidySingleCellExperiment.buildbin-libdir && C:\Users\biocbuild\bbs-3.14-bioc\R\bin\R.exe CMD INSTALL --merge-multiarch --build --library=tidySingleCellExperiment.buildbin-libdir tidySingleCellExperiment_1.4.0.tar.gz && C:\Users\biocbuild\bbs-3.14-bioc\R\bin\R.exe CMD INSTALL tidySingleCellExperiment_1.4.0.zip && rm tidySingleCellExperiment_1.4.0.tar.gz tidySingleCellExperiment_1.4.0.zip | 
| StartedAt: 2022-04-12 06:21:25 -0400 (Tue, 12 Apr 2022) | 
| EndedAt: 2022-04-12 06:22:52 -0400 (Tue, 12 Apr 2022) | 
| EllapsedTime: 87.1 seconds | 
| RetCode: 0 | 
| Status: OK | 
##############################################################################
##############################################################################
###
### Running command:
###
###   C:\cygwin\bin\curl.exe -O http://155.52.207.166/BBS/3.14/bioc/src/contrib/tidySingleCellExperiment_1.4.0.tar.gz && rm -rf tidySingleCellExperiment.buildbin-libdir && mkdir tidySingleCellExperiment.buildbin-libdir && C:\Users\biocbuild\bbs-3.14-bioc\R\bin\R.exe CMD INSTALL --merge-multiarch --build --library=tidySingleCellExperiment.buildbin-libdir tidySingleCellExperiment_1.4.0.tar.gz && C:\Users\biocbuild\bbs-3.14-bioc\R\bin\R.exe CMD INSTALL tidySingleCellExperiment_1.4.0.zip && rm tidySingleCellExperiment_1.4.0.tar.gz tidySingleCellExperiment_1.4.0.zip
###
##############################################################################
##############################################################################
  % Total    % Received % Xferd  Average Speed   Time    Time     Time  Current
                                 Dload  Upload   Total   Spent    Left  Speed
  0     0    0     0    0     0      0      0 --:--:-- --:--:-- --:--:--     0
  0  643k    0  2489    0     0  31093      0  0:00:21 --:--:--  0:00:21 31112
100  643k  100  643k    0     0   785k      0 --:--:-- --:--:-- --:--:--  785k
install for i386
* installing *source* package 'tidySingleCellExperiment' ...
** using staged installation
** R
** data
*** moving datasets to lazyload DB
** inst
** byte-compile and prepare package for lazy loading
** help
*** installing help indices
  converting help for package 'tidySingleCellExperiment'
    finding HTML links ... done
    add_class                               html  
    bind                                    html  
    finding level-2 HTML links ... done
    cell_type_df                            html  
    count                                   html  
    dplyr-methods                           html  
    drop_class                              html  
    ggplot2-methods                         html  
    join_features                           html  
    join_transcripts                        html  
    pbmc_small                              html  
    pbmc_small_nested_interactions          html  
    pipe                                    html  
    pivot-methods                           html  
    plot_ly                                 html  
    print                                   html  
    quo_names                               html  
    tibble-methods                          html  
    tidy                                    html  
    tidyr-methods                           html  
    unite-methods                           html  
*** copying figures
** building package indices
** installing vignettes
** testing if installed package can be loaded from temporary location
** testing if installed package can be loaded from final location
** testing if installed package keeps a record of temporary installation path
install for x64
* installing *source* package 'tidySingleCellExperiment' ...
** testing if installed package can be loaded
* MD5 sums
packaged installation of 'tidySingleCellExperiment' as tidySingleCellExperiment_1.4.0.zip
* DONE (tidySingleCellExperiment)
* installing to library 'C:/Users/biocbuild/bbs-3.14-bioc/R/library'
package 'tidySingleCellExperiment' successfully unpacked and MD5 sums checked