| Back to Multiple platform build/check report for BioC 3.14 |
|
This page was generated on 2022-04-13 12:07:27 -0400 (Wed, 13 Apr 2022).
| Hostname | OS | Arch (*) | R version | Installed pkgs |
|---|---|---|---|---|
| nebbiolo2 | Linux (Ubuntu 20.04.4 LTS) | x86_64 | 4.1.3 (2022-03-10) -- "One Push-Up" | 4324 |
| tokay2 | Windows Server 2012 R2 Standard | x64 | 4.1.3 (2022-03-10) -- "One Push-Up" | 4077 |
| machv2 | macOS 10.14.6 Mojave | x86_64 | 4.1.3 (2022-03-10) -- "One Push-Up" | 4137 |
| Click on any hostname to see more info about the system (e.g. compilers) (*) as reported by 'uname -p', except on Windows and Mac OS X | ||||
|
To the developers/maintainers of the synergyfinder package: - Please allow up to 24 hours (and sometimes 48 hours) for your latest push to git@git.bioconductor.org:packages/synergyfinder.git to reflect on this report. See How and When does the builder pull? When will my changes propagate? for more information. - Make sure to use the following settings in order to reproduce any error or warning you see on this page. |
| Package 1920/2083 | Hostname | OS / Arch | INSTALL | BUILD | CHECK | BUILD BIN | ||||||||
| synergyfinder 3.2.10 (landing page) Shuyu Zheng
| nebbiolo2 | Linux (Ubuntu 20.04.4 LTS) / x86_64 | OK | OK | WARNINGS | |||||||||
| tokay2 | Windows Server 2012 R2 Standard / x64 | OK | OK | WARNINGS | OK | |||||||||
| machv2 | macOS 10.14.6 Mojave / x86_64 | OK | OK | WARNINGS | OK | |||||||||
| Package: synergyfinder |
| Version: 3.2.10 |
| Command: C:\cygwin\bin\curl.exe -O http://155.52.207.166/BBS/3.14/bioc/src/contrib/synergyfinder_3.2.10.tar.gz && rm -rf synergyfinder.buildbin-libdir && mkdir synergyfinder.buildbin-libdir && C:\Users\biocbuild\bbs-3.14-bioc\R\bin\R.exe CMD INSTALL --merge-multiarch --build --library=synergyfinder.buildbin-libdir synergyfinder_3.2.10.tar.gz && C:\Users\biocbuild\bbs-3.14-bioc\R\bin\R.exe CMD INSTALL synergyfinder_3.2.10.zip && rm synergyfinder_3.2.10.tar.gz synergyfinder_3.2.10.zip |
| StartedAt: 2022-04-12 06:52:10 -0400 (Tue, 12 Apr 2022) |
| EndedAt: 2022-04-12 06:53:42 -0400 (Tue, 12 Apr 2022) |
| EllapsedTime: 92.1 seconds |
| RetCode: 0 |
| Status: OK |
##############################################################################
##############################################################################
###
### Running command:
###
### C:\cygwin\bin\curl.exe -O http://155.52.207.166/BBS/3.14/bioc/src/contrib/synergyfinder_3.2.10.tar.gz && rm -rf synergyfinder.buildbin-libdir && mkdir synergyfinder.buildbin-libdir && C:\Users\biocbuild\bbs-3.14-bioc\R\bin\R.exe CMD INSTALL --merge-multiarch --build --library=synergyfinder.buildbin-libdir synergyfinder_3.2.10.tar.gz && C:\Users\biocbuild\bbs-3.14-bioc\R\bin\R.exe CMD INSTALL synergyfinder_3.2.10.zip && rm synergyfinder_3.2.10.tar.gz synergyfinder_3.2.10.zip
###
##############################################################################
##############################################################################
% Total % Received % Xferd Average Speed Time Time Time Current
Dload Upload Total Spent Left Speed
0 0 0 0 0 0 0 0 --:--:-- --:--:-- --:--:-- 0
28 3124k 28 889k 0 0 1189k 0 0:00:02 --:--:-- 0:00:02 1189k
97 3124k 97 3054k 0 0 1746k 0 0:00:01 0:00:01 --:--:-- 1746k
100 3124k 100 3124k 0 0 1780k 0 0:00:01 0:00:01 --:--:-- 1780k
install for i386
* installing *source* package 'synergyfinder' ...
** using staged installation
** R
** data
** inst
** byte-compile and prepare package for lazy loading
** help
*** installing help indices
converting help for package 'synergyfinder'
finding HTML links ... done
Bliss html
CalculateCSS html
CalculateIC50 html
CalculateRI html
CalculateSensitivity html
CalculateSynergy html
CorrectBaseLine html
DimensionReduction html
ExtractSingleDrug html
FindModelPar html
FindModelType html
FitDoseResponse html
GenerateSurface html
HSA html
HighlightBarPlot html
ImputeIC50 html
Loewe html
NCATS_screening_data html
ONEIL_screening_data html
Plot2DrugContour html
Plot2DrugHeatmap html
Plot2DrugSurface html
PlotBarometer html
PlotDoseResponse html
PlotDoseResponseCurve html
PlotMultiDrugBar html
PlotMultiDrugSurface html
PlotSensitivitySynergy html
PlotSynergy html
PredictResponse html
ReshapeData html
ZIP html
dot-AdjustColumnName html
dot-Bootstrapping html
dot-Distance html
dot-ExtendedScores html
dot-Extract2DrugPlotData html
dot-ExtractMultiDrugPlotData html
dot-Own_log html
dot-Own_log2 html
dot-PredictResponseFromModel html
dot-Pt2mm html
dot-RoundValues html
dot-ScoreCurve html
dot-ScoreCurve_L4 html
dot-SolveExpDoesL4 html
dot-SolveExpDoesLL4 html
dot-SolveExpDose html
dot-SolveLoewe html
mathews_screening_data html
** building package indices
** installing vignettes
** testing if installed package can be loaded from temporary location
** testing if installed package can be loaded from final location
** testing if installed package keeps a record of temporary installation path
install for x64
* installing *source* package 'synergyfinder' ...
** testing if installed package can be loaded
* MD5 sums
packaged installation of 'synergyfinder' as synergyfinder_3.2.10.zip
* DONE (synergyfinder)
* installing to library 'C:/Users/biocbuild/bbs-3.14-bioc/R/library'
package 'synergyfinder' successfully unpacked and MD5 sums checked