| Back to Multiple platform build/check report for BioC 3.14 |
|
This page was generated on 2022-04-13 12:07:26 -0400 (Wed, 13 Apr 2022).
| Hostname | OS | Arch (*) | R version | Installed pkgs |
|---|---|---|---|---|
| nebbiolo2 | Linux (Ubuntu 20.04.4 LTS) | x86_64 | 4.1.3 (2022-03-10) -- "One Push-Up" | 4324 |
| tokay2 | Windows Server 2012 R2 Standard | x64 | 4.1.3 (2022-03-10) -- "One Push-Up" | 4077 |
| machv2 | macOS 10.14.6 Mojave | x86_64 | 4.1.3 (2022-03-10) -- "One Push-Up" | 4137 |
| Click on any hostname to see more info about the system (e.g. compilers) (*) as reported by 'uname -p', except on Windows and Mac OS X | ||||
|
To the developers/maintainers of the supraHex package: - Please allow up to 24 hours (and sometimes 48 hours) for your latest push to git@git.bioconductor.org:packages/supraHex.git to reflect on this report. See How and When does the builder pull? When will my changes propagate? for more information. - Make sure to use the following settings in order to reproduce any error or warning you see on this page. |
| Package 1904/2083 | Hostname | OS / Arch | INSTALL | BUILD | CHECK | BUILD BIN | ||||||||
| supraHex 1.32.0 (landing page) Hai Fang
| nebbiolo2 | Linux (Ubuntu 20.04.4 LTS) / x86_64 | OK | OK | OK | |||||||||
| tokay2 | Windows Server 2012 R2 Standard / x64 | OK | OK | OK | OK | |||||||||
| machv2 | macOS 10.14.6 Mojave / x86_64 | OK | OK | OK | OK | |||||||||
| Package: supraHex |
| Version: 1.32.0 |
| Command: C:\cygwin\bin\curl.exe -O http://155.52.207.166/BBS/3.14/bioc/src/contrib/supraHex_1.32.0.tar.gz && rm -rf supraHex.buildbin-libdir && mkdir supraHex.buildbin-libdir && C:\Users\biocbuild\bbs-3.14-bioc\R\bin\R.exe CMD INSTALL --merge-multiarch --build --library=supraHex.buildbin-libdir supraHex_1.32.0.tar.gz && C:\Users\biocbuild\bbs-3.14-bioc\R\bin\R.exe CMD INSTALL supraHex_1.32.0.zip && rm supraHex_1.32.0.tar.gz supraHex_1.32.0.zip |
| StartedAt: 2022-04-12 07:12:47 -0400 (Tue, 12 Apr 2022) |
| EndedAt: 2022-04-12 07:14:37 -0400 (Tue, 12 Apr 2022) |
| EllapsedTime: 109.7 seconds |
| RetCode: 0 |
| Status: OK |
##############################################################################
##############################################################################
###
### Running command:
###
### C:\cygwin\bin\curl.exe -O http://155.52.207.166/BBS/3.14/bioc/src/contrib/supraHex_1.32.0.tar.gz && rm -rf supraHex.buildbin-libdir && mkdir supraHex.buildbin-libdir && C:\Users\biocbuild\bbs-3.14-bioc\R\bin\R.exe CMD INSTALL --merge-multiarch --build --library=supraHex.buildbin-libdir supraHex_1.32.0.tar.gz && C:\Users\biocbuild\bbs-3.14-bioc\R\bin\R.exe CMD INSTALL supraHex_1.32.0.zip && rm supraHex_1.32.0.tar.gz supraHex_1.32.0.zip
###
##############################################################################
##############################################################################
% Total % Received % Xferd Average Speed Time Time Time Current
Dload Upload Total Spent Left Speed
0 0 0 0 0 0 0 0 --:--:-- --:--:-- --:--:-- 0
47 2933k 47 1405k 0 0 1712k 0 0:00:01 --:--:-- 0:00:01 1711k
100 2933k 100 2933k 0 0 2121k 0 0:00:01 0:00:01 --:--:-- 2122k
install for i386
* installing *source* package 'supraHex' ...
** using staged installation
** R
** data
** inst
** byte-compile and prepare package for lazy loading
** help
*** installing help indices
converting help for package 'supraHex'
finding HTML links ... done
Fang html
Golub html
Xiang html
sBMH html
sCompReorder html
sDistance html
sDmat html
sDmatCluster html
sDmatMinima html
sHexDist html
sHexGrid html
sHexGridVariant html
sHexPolygon html
sInitial html
sMapOverlay html
sNeighAny html
sNeighDirect html
sPipeline html
sTopology html
sTrainBatch html
sTrainSeq html
sTrainology html
sWriteData html
visColoralpha html
visColorbar html
visColormap html
visCompReorder html
visDmatCluster html
visDmatHeatmap html
visHeatmap html
visHeatmapAdv html
visHexAnimate html
visHexBarplot html
visHexComp html
visHexGrid html
visHexMapping html
visHexMulComp html
visHexPattern html
visKernels html
visTreeBSclust html
visTreeBootstrap html
visVp html
** building package indices
** installing vignettes
** testing if installed package can be loaded from temporary location
** testing if installed package can be loaded from final location
** testing if installed package keeps a record of temporary installation path
install for x64
* installing *source* package 'supraHex' ...
** testing if installed package can be loaded
* MD5 sums
packaged installation of 'supraHex' as supraHex_1.32.0.zip
* DONE (supraHex)
* installing to library 'C:/Users/biocbuild/bbs-3.14-bioc/R/library'
package 'supraHex' successfully unpacked and MD5 sums checked