| Back to Multiple platform build/check report for BioC 3.14 |
|
This page was generated on 2022-04-13 12:07:25 -0400 (Wed, 13 Apr 2022).
| Hostname | OS | Arch (*) | R version | Installed pkgs |
|---|---|---|---|---|
| nebbiolo2 | Linux (Ubuntu 20.04.4 LTS) | x86_64 | 4.1.3 (2022-03-10) -- "One Push-Up" | 4324 |
| tokay2 | Windows Server 2012 R2 Standard | x64 | 4.1.3 (2022-03-10) -- "One Push-Up" | 4077 |
| machv2 | macOS 10.14.6 Mojave | x86_64 | 4.1.3 (2022-03-10) -- "One Push-Up" | 4137 |
| Click on any hostname to see more info about the system (e.g. compilers) (*) as reported by 'uname -p', except on Windows and Mac OS X | ||||
|
To the developers/maintainers of the ssPATHS package: - Please allow up to 24 hours (and sometimes 48 hours) for your latest push to git@git.bioconductor.org:packages/ssPATHS.git to reflect on this report. See How and When does the builder pull? When will my changes propagate? for more information. - Make sure to use the following settings in order to reproduce any error or warning you see on this page. |
| Package 1880/2083 | Hostname | OS / Arch | INSTALL | BUILD | CHECK | BUILD BIN | ||||||||
| ssPATHS 1.8.0 (landing page) Natalie R. Davidson
| nebbiolo2 | Linux (Ubuntu 20.04.4 LTS) / x86_64 | OK | OK | OK | |||||||||
| tokay2 | Windows Server 2012 R2 Standard / x64 | OK | OK | OK | OK | |||||||||
| machv2 | macOS 10.14.6 Mojave / x86_64 | OK | OK | OK | OK | |||||||||
| Package: ssPATHS |
| Version: 1.8.0 |
| Command: C:\cygwin\bin\curl.exe -O http://155.52.207.166/BBS/3.14/bioc/src/contrib/ssPATHS_1.8.0.tar.gz && rm -rf ssPATHS.buildbin-libdir && mkdir ssPATHS.buildbin-libdir && C:\Users\biocbuild\bbs-3.14-bioc\R\bin\R.exe CMD INSTALL --merge-multiarch --build --library=ssPATHS.buildbin-libdir ssPATHS_1.8.0.tar.gz && C:\Users\biocbuild\bbs-3.14-bioc\R\bin\R.exe CMD INSTALL ssPATHS_1.8.0.zip && rm ssPATHS_1.8.0.tar.gz ssPATHS_1.8.0.zip |
| StartedAt: 2022-04-12 07:32:18 -0400 (Tue, 12 Apr 2022) |
| EndedAt: 2022-04-12 07:33:24 -0400 (Tue, 12 Apr 2022) |
| EllapsedTime: 66.6 seconds |
| RetCode: 0 |
| Status: OK |
##############################################################################
##############################################################################
###
### Running command:
###
### C:\cygwin\bin\curl.exe -O http://155.52.207.166/BBS/3.14/bioc/src/contrib/ssPATHS_1.8.0.tar.gz && rm -rf ssPATHS.buildbin-libdir && mkdir ssPATHS.buildbin-libdir && C:\Users\biocbuild\bbs-3.14-bioc\R\bin\R.exe CMD INSTALL --merge-multiarch --build --library=ssPATHS.buildbin-libdir ssPATHS_1.8.0.tar.gz && C:\Users\biocbuild\bbs-3.14-bioc\R\bin\R.exe CMD INSTALL ssPATHS_1.8.0.zip && rm ssPATHS_1.8.0.tar.gz ssPATHS_1.8.0.zip
###
##############################################################################
##############################################################################
% Total % Received % Xferd Average Speed Time Time Time Current
Dload Upload Total Spent Left Speed
0 0 0 0 0 0 0 0 --:--:-- --:--:-- --:--:-- 0
0 3578k 0 15987 0 0 132k 0 0:00:26 --:--:-- 0:00:26 132k
26 3578k 26 966k 0 0 854k 0 0:00:04 0:00:01 0:00:03 854k
75 3578k 75 2712k 0 0 1277k 0 0:00:02 0:00:02 --:--:-- 1277k
100 3578k 100 3578k 0 0 1451k 0 0:00:02 0:00:02 --:--:-- 1451k
install for i386
* installing *source* package 'ssPATHS' ...
** using staged installation
** R
** data
*** moving datasets to lazyload DB
** byte-compile and prepare package for lazy loading
** help
*** installing help indices
converting help for package 'ssPATHS'
finding HTML links ... done
expected_score_output html
gene_weights_reference html
get_classification_accuracy html
get_gene_weights html
get_hypoxia_genes html
get_new_samp_score html
new_samp_df html
tcga_expr_df html
** building package indices
** installing vignettes
** testing if installed package can be loaded from temporary location
** testing if installed package can be loaded from final location
** testing if installed package keeps a record of temporary installation path
install for x64
* installing *source* package 'ssPATHS' ...
** testing if installed package can be loaded
* MD5 sums
packaged installation of 'ssPATHS' as ssPATHS_1.8.0.zip
* DONE (ssPATHS)
* installing to library 'C:/Users/biocbuild/bbs-3.14-bioc/R/library'
package 'ssPATHS' successfully unpacked and MD5 sums checked