| Back to Multiple platform build/check report for BioC 3.14 |
|
This page was generated on 2022-04-13 12:07:24 -0400 (Wed, 13 Apr 2022).
| Hostname | OS | Arch (*) | R version | Installed pkgs |
|---|---|---|---|---|
| nebbiolo2 | Linux (Ubuntu 20.04.4 LTS) | x86_64 | 4.1.3 (2022-03-10) -- "One Push-Up" | 4324 |
| tokay2 | Windows Server 2012 R2 Standard | x64 | 4.1.3 (2022-03-10) -- "One Push-Up" | 4077 |
| machv2 | macOS 10.14.6 Mojave | x86_64 | 4.1.3 (2022-03-10) -- "One Push-Up" | 4137 |
| Click on any hostname to see more info about the system (e.g. compilers) (*) as reported by 'uname -p', except on Windows and Mac OS X | ||||
|
To the developers/maintainers of the spicyR package: - Please allow up to 24 hours (and sometimes 48 hours) for your latest push to git@git.bioconductor.org:packages/spicyR.git to reflect on this report. See How and When does the builder pull? When will my changes propagate? for more information. - Make sure to use the following settings in order to reproduce any error or warning you see on this page. |
| Package 1856/2083 | Hostname | OS / Arch | INSTALL | BUILD | CHECK | BUILD BIN | ||||||||
| spicyR 1.6.0 (landing page) Ellis Patrick
| nebbiolo2 | Linux (Ubuntu 20.04.4 LTS) / x86_64 | OK | OK | OK | |||||||||
| tokay2 | Windows Server 2012 R2 Standard / x64 | OK | OK | OK | OK | |||||||||
| machv2 | macOS 10.14.6 Mojave / x86_64 | OK | OK | OK | OK | |||||||||
| Package: spicyR |
| Version: 1.6.0 |
| Command: C:\Users\biocbuild\bbs-3.14-bioc\R\bin\R.exe CMD check --force-multiarch --install=check:spicyR.install-out.txt --library=C:\Users\biocbuild\bbs-3.14-bioc\R\library --no-vignettes --timings spicyR_1.6.0.tar.gz |
| StartedAt: 2022-04-13 03:23:58 -0400 (Wed, 13 Apr 2022) |
| EndedAt: 2022-04-13 03:44:26 -0400 (Wed, 13 Apr 2022) |
| EllapsedTime: 1228.7 seconds |
| RetCode: 0 |
| Status: OK |
| CheckDir: spicyR.Rcheck |
| Warnings: 0 |
##############################################################################
##############################################################################
###
### Running command:
###
### C:\Users\biocbuild\bbs-3.14-bioc\R\bin\R.exe CMD check --force-multiarch --install=check:spicyR.install-out.txt --library=C:\Users\biocbuild\bbs-3.14-bioc\R\library --no-vignettes --timings spicyR_1.6.0.tar.gz
###
##############################################################################
##############################################################################
* using log directory 'C:/Users/biocbuild/bbs-3.14-bioc/meat/spicyR.Rcheck'
* using R version 4.1.3 (2022-03-10)
* using platform: x86_64-w64-mingw32 (64-bit)
* using session charset: ISO8859-1
* using option '--no-vignettes'
* checking for file 'spicyR/DESCRIPTION' ... OK
* checking extension type ... Package
* this is package 'spicyR' version '1.6.0'
* package encoding: UTF-8
* checking package namespace information ... OK
* checking package dependencies ... OK
* checking if this is a source package ... OK
* checking if there is a namespace ... OK
* checking for hidden files and directories ... OK
* checking for portable file names ... OK
* checking whether package 'spicyR' can be installed ... OK
* checking installed package size ... OK
* checking package directory ... OK
* checking 'build' directory ... OK
* checking DESCRIPTION meta-information ... OK
* checking top-level files ... OK
* checking for left-over files ... OK
* checking index information ... OK
* checking package subdirectories ... OK
* checking R files for non-ASCII characters ... OK
* checking R files for syntax errors ... OK
* loading checks for arch 'i386'
** checking whether the package can be loaded ... OK
** checking whether the package can be loaded with stated dependencies ... OK
** checking whether the package can be unloaded cleanly ... OK
** checking whether the namespace can be loaded with stated dependencies ... OK
** checking whether the namespace can be unloaded cleanly ... OK
* loading checks for arch 'x64'
** checking whether the package can be loaded ... OK
** checking whether the package can be loaded with stated dependencies ... OK
** checking whether the package can be unloaded cleanly ... OK
** checking whether the namespace can be loaded with stated dependencies ... OK
** checking whether the namespace can be unloaded cleanly ... OK
* checking dependencies in R code ... OK
* checking S3 generic/method consistency ... OK
* checking replacement functions ... OK
* checking foreign function calls ... OK
* checking R code for possible problems ... NOTE
calcWeights: no visible binding for global variable 'pairwiseAssoc'
calcWeights: no visible global function definition for 'quantile'
inhomL: no visible binding for global variable 'j'
inhomL: no visible binding for global variable 'value'
inhomL: no visible binding for global variable 'i'
inhomL: no visible binding for global variable 'd'
inhomL: no visible binding for global variable 'cellTypeI'
inhomL: no visible binding for global variable 'cellTypeJ'
inhomL: no visible global function definition for '.'
inhomL: no visible binding for global variable 'wt'
inhomLPair: no visible binding for global variable 'i'
Undefined global functions or variables:
. cellTypeI cellTypeJ d i j pairwiseAssoc quantile value wt
Consider adding
importFrom("stats", "quantile")
to your NAMESPACE file.
* checking Rd files ... OK
* checking Rd metadata ... OK
* checking Rd cross-references ... OK
* checking for missing documentation entries ... OK
* checking for code/documentation mismatches ... OK
* checking Rd \usage sections ... OK
* checking Rd contents ... OK
* checking for unstated dependencies in examples ... OK
* checking contents of 'data' directory ... OK
* checking data for non-ASCII characters ... OK
* checking data for ASCII and uncompressed saves ... OK
* checking files in 'vignettes' ... OK
* checking examples ...
** running examples for arch 'i386' ... OK
Examples with CPU (user + system) or elapsed time > 5s
user system elapsed
getPairwise 478.16 22.67 496.57
spicy 15.59 0.46 16.06
** running examples for arch 'x64' ... OK
Examples with CPU (user + system) or elapsed time > 5s
user system elapsed
getPairwise 517.87 25.58 539.92
spicy 15.98 0.19 16.18
* checking for unstated dependencies in vignettes ... OK
* checking package vignettes in 'inst/doc' ... OK
* checking running R code from vignettes ... SKIPPED
* checking re-building of vignette outputs ... SKIPPED
* checking PDF version of manual ... OK
* DONE
Status: 1 NOTE
See
'C:/Users/biocbuild/bbs-3.14-bioc/meat/spicyR.Rcheck/00check.log'
for details.
spicyR.Rcheck/00install.out
##############################################################################
##############################################################################
###
### Running command:
###
### C:\cygwin\bin\curl.exe -O http://155.52.207.166/BBS/3.14/bioc/src/contrib/spicyR_1.6.0.tar.gz && rm -rf spicyR.buildbin-libdir && mkdir spicyR.buildbin-libdir && C:\Users\biocbuild\bbs-3.14-bioc\R\bin\R.exe CMD INSTALL --merge-multiarch --build --library=spicyR.buildbin-libdir spicyR_1.6.0.tar.gz && C:\Users\biocbuild\bbs-3.14-bioc\R\bin\R.exe CMD INSTALL spicyR_1.6.0.zip && rm spicyR_1.6.0.tar.gz spicyR_1.6.0.zip
###
##############################################################################
##############################################################################
% Total % Received % Xferd Average Speed Time Time Time Current
Dload Upload Total Spent Left Speed
0 0 0 0 0 0 0 0 --:--:-- --:--:-- --:--:-- 0
29 1647k 29 488k 0 0 768k 0 0:00:02 --:--:-- 0:00:02 768k
94 1647k 94 1550k 0 0 945k 0 0:00:01 0:00:01 --:--:-- 945k
100 1647k 100 1647k 0 0 961k 0 0:00:01 0:00:01 --:--:-- 961k
install for i386
* installing *source* package 'spicyR' ...
** using staged installation
** R
** data
** inst
** byte-compile and prepare package for lazy loading
** help
*** installing help indices
converting help for package 'spicyR'
finding HTML links ... done
Accessors html
SegmentedCells html
as.data.frame.SegmentedCells html
diabetesData html
getPairwise html
plot-SegmentedCells html
show-SegmentedCells html
signifPlot html
spicy html
spicyTest html
spicyTestBootstrap html
topPairs html
** building package indices
** installing vignettes
** testing if installed package can be loaded from temporary location
** testing if installed package can be loaded from final location
** testing if installed package keeps a record of temporary installation path
install for x64
* installing *source* package 'spicyR' ...
** testing if installed package can be loaded
* MD5 sums
packaged installation of 'spicyR' as spicyR_1.6.0.zip
* DONE (spicyR)
* installing to library 'C:/Users/biocbuild/bbs-3.14-bioc/R/library'
package 'spicyR' successfully unpacked and MD5 sums checked
|
spicyR.Rcheck/examples_i386/spicyR-Ex.timings
|
spicyR.Rcheck/examples_x64/spicyR-Ex.timings
|