| Back to Multiple platform build/check report for BioC 3.14 |
|
This page was generated on 2022-04-13 12:07:21 -0400 (Wed, 13 Apr 2022).
| Hostname | OS | Arch (*) | R version | Installed pkgs |
|---|---|---|---|---|
| nebbiolo2 | Linux (Ubuntu 20.04.4 LTS) | x86_64 | 4.1.3 (2022-03-10) -- "One Push-Up" | 4324 |
| tokay2 | Windows Server 2012 R2 Standard | x64 | 4.1.3 (2022-03-10) -- "One Push-Up" | 4077 |
| machv2 | macOS 10.14.6 Mojave | x86_64 | 4.1.3 (2022-03-10) -- "One Push-Up" | 4137 |
| Click on any hostname to see more info about the system (e.g. compilers) (*) as reported by 'uname -p', except on Windows and Mac OS X | ||||
|
To the developers/maintainers of the sights package: - Please allow up to 24 hours (and sometimes 48 hours) for your latest push to git@git.bioconductor.org:packages/sights.git to reflect on this report. See How and When does the builder pull? When will my changes propagate? for more information. - Make sure to use the following settings in order to reproduce any error or warning you see on this page. |
| Package 1790/2083 | Hostname | OS / Arch | INSTALL | BUILD | CHECK | BUILD BIN | ||||||||
| sights 1.20.0 (landing page) Elika Garg
| nebbiolo2 | Linux (Ubuntu 20.04.4 LTS) / x86_64 | OK | OK | OK | |||||||||
| tokay2 | Windows Server 2012 R2 Standard / x64 | OK | OK | OK | OK | |||||||||
| machv2 | macOS 10.14.6 Mojave / x86_64 | OK | OK | OK | OK | |||||||||
| Package: sights |
| Version: 1.20.0 |
| Command: C:\cygwin\bin\curl.exe -O http://155.52.207.166/BBS/3.14/bioc/src/contrib/sights_1.20.0.tar.gz && rm -rf sights.buildbin-libdir && mkdir sights.buildbin-libdir && C:\Users\biocbuild\bbs-3.14-bioc\R\bin\R.exe CMD INSTALL --merge-multiarch --build --library=sights.buildbin-libdir sights_1.20.0.tar.gz && C:\Users\biocbuild\bbs-3.14-bioc\R\bin\R.exe CMD INSTALL sights_1.20.0.zip && rm sights_1.20.0.tar.gz sights_1.20.0.zip |
| StartedAt: 2022-04-12 04:46:36 -0400 (Tue, 12 Apr 2022) |
| EndedAt: 2022-04-12 04:47:47 -0400 (Tue, 12 Apr 2022) |
| EllapsedTime: 71.3 seconds |
| RetCode: 0 |
| Status: OK |
##############################################################################
##############################################################################
###
### Running command:
###
### C:\cygwin\bin\curl.exe -O http://155.52.207.166/BBS/3.14/bioc/src/contrib/sights_1.20.0.tar.gz && rm -rf sights.buildbin-libdir && mkdir sights.buildbin-libdir && C:\Users\biocbuild\bbs-3.14-bioc\R\bin\R.exe CMD INSTALL --merge-multiarch --build --library=sights.buildbin-libdir sights_1.20.0.tar.gz && C:\Users\biocbuild\bbs-3.14-bioc\R\bin\R.exe CMD INSTALL sights_1.20.0.zip && rm sights_1.20.0.tar.gz sights_1.20.0.zip
###
##############################################################################
##############################################################################
% Total % Received % Xferd Average Speed Time Time Time Current
Dload Upload Total Spent Left Speed
0 0 0 0 0 0 0 0 --:--:-- --:--:-- --:--:-- 0
11 2445k 11 270k 0 0 718k 0 0:00:03 --:--:-- 0:00:03 718k
69 2445k 69 1708k 0 0 1241k 0 0:00:01 0:00:01 --:--:-- 1241k
100 2445k 100 2445k 0 0 1400k 0 0:00:01 0:00:01 --:--:-- 1400k
install for i386
* installing *source* package 'sights' ...
** using staged installation
** R
** data
*** moving datasets to lazyload DB
** inst
** byte-compile and prepare package for lazy loading
** help
*** installing help indices
converting help for package 'sights'
finding HTML links ... done
ex_dataMatrix html
inglese html
normLoess html
normMedFil html
normR html
normRobZ html
normSPAWN html
normSights html
normZ html
plot3d html
plotAutoco html
plotBox html
plotHeatmap html
plotHist html
plotIGFit html
plotScatter html
plotSights html
statFDR html
statRVM html
statSights html
statT html
** building package indices
** installing vignettes
** testing if installed package can be loaded from temporary location
** testing if installed package can be loaded from final location
** testing if installed package keeps a record of temporary installation path
install for x64
* installing *source* package 'sights' ...
** testing if installed package can be loaded
* MD5 sums
packaged installation of 'sights' as sights_1.20.0.zip
* DONE (sights)
* installing to library 'C:/Users/biocbuild/bbs-3.14-bioc/R/library'
package 'sights' successfully unpacked and MD5 sums checked