| Back to Multiple platform build/check report for BioC 3.14 |
|
This page was generated on 2022-04-13 12:07:21 -0400 (Wed, 13 Apr 2022).
| Hostname | OS | Arch (*) | R version | Installed pkgs |
|---|---|---|---|---|
| nebbiolo2 | Linux (Ubuntu 20.04.4 LTS) | x86_64 | 4.1.3 (2022-03-10) -- "One Push-Up" | 4324 |
| tokay2 | Windows Server 2012 R2 Standard | x64 | 4.1.3 (2022-03-10) -- "One Push-Up" | 4077 |
| machv2 | macOS 10.14.6 Mojave | x86_64 | 4.1.3 (2022-03-10) -- "One Push-Up" | 4137 |
| Click on any hostname to see more info about the system (e.g. compilers) (*) as reported by 'uname -p', except on Windows and Mac OS X | ||||
|
To the developers/maintainers of the siggenes package: - Please allow up to 24 hours (and sometimes 48 hours) for your latest push to git@git.bioconductor.org:packages/siggenes.git to reflect on this report. See How and When does the builder pull? When will my changes propagate? for more information. - Make sure to use the following settings in order to reproduce any error or warning you see on this page. |
| Package 1789/2083 | Hostname | OS / Arch | INSTALL | BUILD | CHECK | BUILD BIN | ||||||||
| siggenes 1.68.0 (landing page) Holger Schwender
| nebbiolo2 | Linux (Ubuntu 20.04.4 LTS) / x86_64 | OK | OK | OK | |||||||||
| tokay2 | Windows Server 2012 R2 Standard / x64 | OK | OK | OK | OK | |||||||||
| machv2 | macOS 10.14.6 Mojave / x86_64 | OK | OK | OK | OK | |||||||||
| Package: siggenes |
| Version: 1.68.0 |
| Command: C:\cygwin\bin\curl.exe -O http://155.52.207.166/BBS/3.14/bioc/src/contrib/siggenes_1.68.0.tar.gz && rm -rf siggenes.buildbin-libdir && mkdir siggenes.buildbin-libdir && C:\Users\biocbuild\bbs-3.14-bioc\R\bin\R.exe CMD INSTALL --merge-multiarch --build --library=siggenes.buildbin-libdir siggenes_1.68.0.tar.gz && C:\Users\biocbuild\bbs-3.14-bioc\R\bin\R.exe CMD INSTALL siggenes_1.68.0.zip && rm siggenes_1.68.0.tar.gz siggenes_1.68.0.zip |
| StartedAt: 2022-04-12 04:31:07 -0400 (Tue, 12 Apr 2022) |
| EndedAt: 2022-04-12 04:33:41 -0400 (Tue, 12 Apr 2022) |
| EllapsedTime: 153.8 seconds |
| RetCode: 0 |
| Status: OK |
##############################################################################
##############################################################################
###
### Running command:
###
### C:\cygwin\bin\curl.exe -O http://155.52.207.166/BBS/3.14/bioc/src/contrib/siggenes_1.68.0.tar.gz && rm -rf siggenes.buildbin-libdir && mkdir siggenes.buildbin-libdir && C:\Users\biocbuild\bbs-3.14-bioc\R\bin\R.exe CMD INSTALL --merge-multiarch --build --library=siggenes.buildbin-libdir siggenes_1.68.0.tar.gz && C:\Users\biocbuild\bbs-3.14-bioc\R\bin\R.exe CMD INSTALL siggenes_1.68.0.zip && rm siggenes_1.68.0.tar.gz siggenes_1.68.0.zip
###
##############################################################################
##############################################################################
% Total % Received % Xferd Average Speed Time Time Time Current
Dload Upload Total Spent Left Speed
0 0 0 0 0 0 0 0 --:--:-- --:--:-- --:--:-- 0
81 857k 81 698k 0 0 1033k 0 --:--:-- --:--:-- --:--:-- 1033k
100 857k 100 857k 0 0 1139k 0 --:--:-- --:--:-- --:--:-- 1138k
install for i386
* installing *source* package 'siggenes' ...
** using staged installation
** R
** inst
** byte-compile and prepare package for lazy loading
** help
*** installing help indices
converting help for package 'siggenes'
finding HTML links ... done
EBAM-class html
FindA0-class html
SAM-class html
chisq.ebam html
chisq.stat html
d.stat html
delta.plot html
denspr html
ebam html
REDIRECT:topic Previous alias or file overwritten by alias: C:/Users/biocbuild/bbs-3.14-bioc/meat/siggenes.buildbin-libdir/00LOCK-siggenes/00new/siggenes/help/ebam.html
ebamControl html
find.a0 html
findDelta html
fudge2 html
fuzzy.ebam html
help.ebam html
help.finda0 html
help.sam html
limma2sam html
link.genes html
link.siggenes html
list.siggenes html
md.plot html
nclass.wand html
pi0.est html
plotArguments html
plotFindArguments html
qvalue.cal html
rowWilcoxon html
sam html
REDIRECT:topic Previous alias or file overwritten by alias: C:/Users/biocbuild/bbs-3.14-bioc/meat/siggenes.buildbin-libdir/00LOCK-siggenes/00new/siggenes/help/sam.html
sam.plot2 html
samControl html
siggenes-internal html
siggenes2excel html
siggenes2html html
sumSAM-class html
trend.ebam html
trend.stat html
wilc.ebam html
wilc.stat html
z.ebam html
** building package indices
** installing vignettes
'siggenes.Rnw'
** testing if installed package can be loaded from temporary location
** testing if installed package can be loaded from final location
** testing if installed package keeps a record of temporary installation path
install for x64
* installing *source* package 'siggenes' ...
** testing if installed package can be loaded
* MD5 sums
packaged installation of 'siggenes' as siggenes_1.68.0.zip
* DONE (siggenes)
* installing to library 'C:/Users/biocbuild/bbs-3.14-bioc/R/library'
package 'siggenes' successfully unpacked and MD5 sums checked