| Back to Multiple platform build/check report for BioC 3.14 |
|
This page was generated on 2022-04-13 12:07:18 -0400 (Wed, 13 Apr 2022).
| Hostname | OS | Arch (*) | R version | Installed pkgs |
|---|---|---|---|---|
| nebbiolo2 | Linux (Ubuntu 20.04.4 LTS) | x86_64 | 4.1.3 (2022-03-10) -- "One Push-Up" | 4324 |
| tokay2 | Windows Server 2012 R2 Standard | x64 | 4.1.3 (2022-03-10) -- "One Push-Up" | 4077 |
| machv2 | macOS 10.14.6 Mojave | x86_64 | 4.1.3 (2022-03-10) -- "One Push-Up" | 4137 |
| Click on any hostname to see more info about the system (e.g. compilers) (*) as reported by 'uname -p', except on Windows and Mac OS X | ||||
|
To the developers/maintainers of the scDD package: - Please allow up to 24 hours (and sometimes 48 hours) for your latest push to git@git.bioconductor.org:packages/scDD.git to reflect on this report. See How and When does the builder pull? When will my changes propagate? for more information. - Make sure to use the following settings in order to reproduce any error or warning you see on this page. |
| Package 1719/2083 | Hostname | OS / Arch | INSTALL | BUILD | CHECK | BUILD BIN | ||||||||
| scDD 1.18.0 (landing page) Keegan Korthauer
| nebbiolo2 | Linux (Ubuntu 20.04.4 LTS) / x86_64 | OK | OK | OK | |||||||||
| tokay2 | Windows Server 2012 R2 Standard / x64 | OK | OK | OK | OK | |||||||||
| machv2 | macOS 10.14.6 Mojave / x86_64 | OK | OK | OK | OK | |||||||||
| Package: scDD |
| Version: 1.18.0 |
| Command: C:\cygwin\bin\curl.exe -O http://155.52.207.166/BBS/3.14/bioc/src/contrib/scDD_1.18.0.tar.gz && rm -rf scDD.buildbin-libdir && mkdir scDD.buildbin-libdir && C:\Users\biocbuild\bbs-3.14-bioc\R\bin\R.exe CMD INSTALL --merge-multiarch --build --library=scDD.buildbin-libdir scDD_1.18.0.tar.gz && C:\Users\biocbuild\bbs-3.14-bioc\R\bin\R.exe CMD INSTALL scDD_1.18.0.zip && rm scDD_1.18.0.tar.gz scDD_1.18.0.zip |
| StartedAt: 2022-04-12 05:59:52 -0400 (Tue, 12 Apr 2022) |
| EndedAt: 2022-04-12 06:01:19 -0400 (Tue, 12 Apr 2022) |
| EllapsedTime: 86.7 seconds |
| RetCode: 0 |
| Status: OK |
##############################################################################
##############################################################################
###
### Running command:
###
### C:\cygwin\bin\curl.exe -O http://155.52.207.166/BBS/3.14/bioc/src/contrib/scDD_1.18.0.tar.gz && rm -rf scDD.buildbin-libdir && mkdir scDD.buildbin-libdir && C:\Users\biocbuild\bbs-3.14-bioc\R\bin\R.exe CMD INSTALL --merge-multiarch --build --library=scDD.buildbin-libdir scDD_1.18.0.tar.gz && C:\Users\biocbuild\bbs-3.14-bioc\R\bin\R.exe CMD INSTALL scDD_1.18.0.zip && rm scDD_1.18.0.tar.gz scDD_1.18.0.zip
###
##############################################################################
##############################################################################
% Total % Received % Xferd Average Speed Time Time Time Current
Dload Upload Total Spent Left Speed
0 0 0 0 0 0 0 0 --:--:-- --:--:-- --:--:-- 0
75 522k 75 393k 0 0 660k 0 --:--:-- --:--:-- --:--:-- 659k
100 522k 100 522k 0 0 660k 0 --:--:-- --:--:-- --:--:-- 659k
install for i386
* installing *source* package 'scDD' ...
** using staged installation
** R
** data
** inst
** byte-compile and prepare package for lazy loading
** help
*** installing help indices
converting help for package 'scDD'
finding HTML links ... done
calcMV html
calcRP html
classifyDD html
feDP html
findFC html
findIndex html
findOutliers html
getPosteriorParams html
jointPosterior html
lu html
luOutlier html
mclustRestricted html
permMclust html
permMclustCov html
permMclustGene html
permZero html
preprocess html
results html
scDD html
scDatEx html
scDatExList html
scDatExSim html
sideHist html
sideViolin html
simuDB html
simuDE html
simuDM html
simuDP html
simulateSet html
singleCellSimu html
testKS html
testZeroes html
validation html
** building package indices
** installing vignettes
** testing if installed package can be loaded from temporary location
** testing if installed package can be loaded from final location
** testing if installed package keeps a record of temporary installation path
install for x64
* installing *source* package 'scDD' ...
** testing if installed package can be loaded
* MD5 sums
packaged installation of 'scDD' as scDD_1.18.0.zip
* DONE (scDD)
* installing to library 'C:/Users/biocbuild/bbs-3.14-bioc/R/library'
package 'scDD' successfully unpacked and MD5 sums checked