| Back to Multiple platform build/check report for BioC 3.14 | 
  | 
This page was generated on 2022-04-13 12:07:14 -0400 (Wed, 13 Apr 2022).
| Hostname | OS | Arch (*) | R version | Installed pkgs | 
|---|---|---|---|---|
| nebbiolo2 | Linux (Ubuntu 20.04.4 LTS) | x86_64 | 4.1.3 (2022-03-10) -- "One Push-Up" | 4324 | 
| tokay2 | Windows Server 2012 R2 Standard | x64 | 4.1.3 (2022-03-10) -- "One Push-Up" | 4077 | 
| machv2 | macOS 10.14.6 Mojave | x86_64 | 4.1.3 (2022-03-10) -- "One Push-Up" | 4137 | 
| Click on any hostname to see more info about the system (e.g. compilers) (*) as reported by 'uname -p', except on Windows and Mac OS X | ||||
| 
To the developers/maintainers of the rnaEditr package: - Please allow up to 24 hours (and sometimes 48 hours) for your latest push to git@git.bioconductor.org:packages/rnaEditr.git to reflect on this report. See How and When does the builder pull? When will my changes propagate? for more information. - Make sure to use the following settings in order to reproduce any error or warning you see on this page.  | 
| Package 1628/2083 | Hostname | OS / Arch | INSTALL | BUILD | CHECK | BUILD BIN | ||||||||
| rnaEditr 1.4.0  (landing page) Lanyu Zhang 
  | nebbiolo2 | Linux (Ubuntu 20.04.4 LTS) / x86_64 | OK | OK | OK | |||||||||
| tokay2 | Windows Server 2012 R2 Standard / x64 | OK | OK | OK | OK | |||||||||
| machv2 | macOS 10.14.6 Mojave / x86_64 | OK | OK | OK | OK | |||||||||
| Package: rnaEditr | 
| Version: 1.4.0 | 
| Command: C:\cygwin\bin\curl.exe -O http://155.52.207.166/BBS/3.14/bioc/src/contrib/rnaEditr_1.4.0.tar.gz && rm -rf rnaEditr.buildbin-libdir && mkdir rnaEditr.buildbin-libdir && C:\Users\biocbuild\bbs-3.14-bioc\R\bin\R.exe CMD INSTALL --merge-multiarch --build --library=rnaEditr.buildbin-libdir rnaEditr_1.4.0.tar.gz && C:\Users\biocbuild\bbs-3.14-bioc\R\bin\R.exe CMD INSTALL rnaEditr_1.4.0.zip && rm rnaEditr_1.4.0.tar.gz rnaEditr_1.4.0.zip | 
| StartedAt: 2022-04-12 06:39:16 -0400 (Tue, 12 Apr 2022) | 
| EndedAt: 2022-04-12 06:41:23 -0400 (Tue, 12 Apr 2022) | 
| EllapsedTime: 126.6 seconds | 
| RetCode: 0 | 
| Status: OK | 
##############################################################################
##############################################################################
###
### Running command:
###
###   C:\cygwin\bin\curl.exe -O http://155.52.207.166/BBS/3.14/bioc/src/contrib/rnaEditr_1.4.0.tar.gz && rm -rf rnaEditr.buildbin-libdir && mkdir rnaEditr.buildbin-libdir && C:\Users\biocbuild\bbs-3.14-bioc\R\bin\R.exe CMD INSTALL --merge-multiarch --build --library=rnaEditr.buildbin-libdir rnaEditr_1.4.0.tar.gz && C:\Users\biocbuild\bbs-3.14-bioc\R\bin\R.exe CMD INSTALL rnaEditr_1.4.0.zip && rm rnaEditr_1.4.0.tar.gz rnaEditr_1.4.0.zip
###
##############################################################################
##############################################################################
  % Total    % Received % Xferd  Average Speed   Time    Time     Time  Current
                                 Dload  Upload   Total   Spent    Left  Speed
  0     0    0     0    0     0      0      0 --:--:-- --:--:-- --:--:--     0
 18  888k   18  164k    0     0   397k      0  0:00:02 --:--:--  0:00:02  397k
100  888k  100  888k    0     0   745k      0  0:00:01  0:00:01 --:--:--  745k
install for i386
* installing *source* package 'rnaEditr' ...
** using staged installation
** R
** data
** inst
** byte-compile and prepare package for lazy loading
** help
*** installing help indices
  converting help for package 'rnaEditr'
    finding HTML links ... done
    AddMetaData                             html  
    AllCloseByRegions                       html  
    AllCoeditedRegions                      html  
    AnnotateResults                         html  
    CountSamplesPerGroup                    html  
    CreateEditingTable                      html  
    CreateOutputDF                          html  
    CreateRdrop                             html  
    FindCorrelatedRegions                   html  
    GetMinPairwiseCor                       html  
    GetSitesLocations                       html  
    MakeModelFormula                        html  
    MarkCoeditedSites                       html  
    OrderSitesByLocation                    html  
    PlotEditingCorrelations                 html  
    RegionSummaryMethod                     html  
    SingleCloseByRegion                     html  
    SingleCoeditedRegion                    html  
    SitesToRegion                           html  
    SummarizeAllRegions                     html  
    SummarizeSingleRegion                   html  
    TestAssociations                        html  
    TestSingleRegion                        html  
    TransformToGR                           html  
    rnaedit_df                              html  
    t_rnaedit_df                            html  
** building package indices
** installing vignettes
** testing if installed package can be loaded from temporary location
** testing if installed package can be loaded from final location
** testing if installed package keeps a record of temporary installation path
install for x64
* installing *source* package 'rnaEditr' ...
** testing if installed package can be loaded
* MD5 sums
packaged installation of 'rnaEditr' as rnaEditr_1.4.0.zip
* DONE (rnaEditr)
* installing to library 'C:/Users/biocbuild/bbs-3.14-bioc/R/library'
package 'rnaEditr' successfully unpacked and MD5 sums checked