| Back to Multiple platform build/check report for BioC 3.14 |
|
This page was generated on 2022-04-13 12:07:10 -0400 (Wed, 13 Apr 2022).
| Hostname | OS | Arch (*) | R version | Installed pkgs |
|---|---|---|---|---|
| nebbiolo2 | Linux (Ubuntu 20.04.4 LTS) | x86_64 | 4.1.3 (2022-03-10) -- "One Push-Up" | 4324 |
| tokay2 | Windows Server 2012 R2 Standard | x64 | 4.1.3 (2022-03-10) -- "One Push-Up" | 4077 |
| machv2 | macOS 10.14.6 Mojave | x86_64 | 4.1.3 (2022-03-10) -- "One Push-Up" | 4137 |
| Click on any hostname to see more info about the system (e.g. compilers) (*) as reported by 'uname -p', except on Windows and Mac OS X | ||||
|
To the developers/maintainers of the rawrr package: - Please allow up to 24 hours (and sometimes 48 hours) for your latest push to git@git.bioconductor.org:packages/rawrr.git to reflect on this report. See How and When does the builder pull? When will my changes propagate? for more information. - Make sure to use the following settings in order to reproduce any error or warning you see on this page. |
| Package 1530/2083 | Hostname | OS / Arch | INSTALL | BUILD | CHECK | BUILD BIN | ||||||||
| rawrr 1.2.0 (landing page) Christian Panse
| nebbiolo2 | Linux (Ubuntu 20.04.4 LTS) / x86_64 | OK | OK | OK | |||||||||
| tokay2 | Windows Server 2012 R2 Standard / x64 | OK | OK | OK | OK | |||||||||
| machv2 | macOS 10.14.6 Mojave / x86_64 | OK | OK | OK | OK | |||||||||
| Package: rawrr |
| Version: 1.2.0 |
| Command: rm -rf rawrr.buildbin-libdir && mkdir rawrr.buildbin-libdir && C:\Users\biocbuild\bbs-3.14-bioc\R\bin\R.exe CMD INSTALL --merge-multiarch --build --library=rawrr.buildbin-libdir rawrr_1.2.0.tar.gz |
| StartedAt: 2022-04-13 06:54:58 -0400 (Wed, 13 Apr 2022) |
| EndedAt: 2022-04-13 06:55:12 -0400 (Wed, 13 Apr 2022) |
| EllapsedTime: 14.0 seconds |
| RetCode: 0 |
| Status: OK |
| PackageFile: rawrr_1.2.0.zip |
| PackageFileSize: 1.338 MiB |
##############################################################################
##############################################################################
###
### Running command:
###
### rm -rf rawrr.buildbin-libdir && mkdir rawrr.buildbin-libdir && C:\Users\biocbuild\bbs-3.14-bioc\R\bin\R.exe CMD INSTALL --merge-multiarch --build --library=rawrr.buildbin-libdir rawrr_1.2.0.tar.gz
###
##############################################################################
##############################################################################
install for i386
* installing *source* package 'rawrr' ...
** using staged installation
** R
** inst
** byte-compile and prepare package for lazy loading
** help
*** installing help indices
converting help for package 'rawrr'
finding HTML links ... done
auc.rawrrChromatogram html
basePeak html
buildRawrrExe html
dependentScan html
faimsVoltageOn html
installRawFileReaderDLLs html
installRawrrExe html
is.rawrrChromatogram html
is.rawrrSpectrum html
is.rawrrSpectrumSet html
makeAccessor html
massRange html
masterScan html
new_rawrrSpectrum html
plot.rawrrChromatogram html
plot.rawrrChromatogramSet html
plot.rawrrSpectrum html
print.rawrrSpectrum html
rawrrAssemblyPath html
rawrrSpectrum html
readChromatogram html
readFileHeader html
readIndex html
readSpectrum html
sampleFilePath html
scanNumber html
summary.rawrrChromatogram html
summary.rawrrSpectrum html
tic html
validate_rawrrIndex html
validate_rawrrSpectrum html
** building package indices
** installing vignettes
** testing if installed package can be loaded from temporary location
** testing if installed package can be loaded from final location
** testing if installed package keeps a record of temporary installation path
install for x64
* installing *source* package 'rawrr' ...
** testing if installed package can be loaded
* MD5 sums
packaged installation of 'rawrr' as rawrr_1.2.0.zip
* DONE (rawrr)