| Back to Multiple platform build/check report for BioC 3.14 |
|
This page was generated on 2022-04-13 12:07:04 -0400 (Wed, 13 Apr 2022).
| Hostname | OS | Arch (*) | R version | Installed pkgs |
|---|---|---|---|---|
| nebbiolo2 | Linux (Ubuntu 20.04.4 LTS) | x86_64 | 4.1.3 (2022-03-10) -- "One Push-Up" | 4324 |
| tokay2 | Windows Server 2012 R2 Standard | x64 | 4.1.3 (2022-03-10) -- "One Push-Up" | 4077 |
| machv2 | macOS 10.14.6 Mojave | x86_64 | 4.1.3 (2022-03-10) -- "One Push-Up" | 4137 |
| Click on any hostname to see more info about the system (e.g. compilers) (*) as reported by 'uname -p', except on Windows and Mac OS X | ||||
|
To the developers/maintainers of the phemd package: - Please allow up to 24 hours (and sometimes 48 hours) for your latest push to git@git.bioconductor.org:packages/phemd.git to reflect on this report. See How and When does the builder pull? When will my changes propagate? for more information. - Make sure to use the following settings in order to reproduce any error or warning you see on this page. |
| Package 1405/2083 | Hostname | OS / Arch | INSTALL | BUILD | CHECK | BUILD BIN | ||||||||
| phemd 1.10.0 (landing page) William S Chen
| nebbiolo2 | Linux (Ubuntu 20.04.4 LTS) / x86_64 | OK | OK | OK | |||||||||
| tokay2 | Windows Server 2012 R2 Standard / x64 | OK | OK | OK | OK | |||||||||
| machv2 | macOS 10.14.6 Mojave / x86_64 | OK | OK | OK | OK | |||||||||
| Package: phemd |
| Version: 1.10.0 |
| Command: C:\Users\biocbuild\bbs-3.14-bioc\R\bin\R.exe CMD check --force-multiarch --install=check:phemd.install-out.txt --library=C:\Users\biocbuild\bbs-3.14-bioc\R\library --no-vignettes --timings phemd_1.10.0.tar.gz |
| StartedAt: 2022-04-13 00:26:24 -0400 (Wed, 13 Apr 2022) |
| EndedAt: 2022-04-13 00:36:30 -0400 (Wed, 13 Apr 2022) |
| EllapsedTime: 606.2 seconds |
| RetCode: 0 |
| Status: OK |
| CheckDir: phemd.Rcheck |
| Warnings: 0 |
##############################################################################
##############################################################################
###
### Running command:
###
### C:\Users\biocbuild\bbs-3.14-bioc\R\bin\R.exe CMD check --force-multiarch --install=check:phemd.install-out.txt --library=C:\Users\biocbuild\bbs-3.14-bioc\R\library --no-vignettes --timings phemd_1.10.0.tar.gz
###
##############################################################################
##############################################################################
* using log directory 'C:/Users/biocbuild/bbs-3.14-bioc/meat/phemd.Rcheck'
* using R version 4.1.3 (2022-03-10)
* using platform: x86_64-w64-mingw32 (64-bit)
* using session charset: ISO8859-1
* using option '--no-vignettes'
* checking for file 'phemd/DESCRIPTION' ... OK
* checking extension type ... Package
* this is package 'phemd' version '1.10.0'
* package encoding: UTF-8
* checking package namespace information ... OK
* checking package dependencies ... OK
* checking if this is a source package ... OK
* checking if there is a namespace ... OK
* checking for hidden files and directories ... OK
* checking for portable file names ... OK
* checking whether package 'phemd' can be installed ... OK
* checking installed package size ... OK
* checking package directory ... OK
* checking 'build' directory ... OK
* checking DESCRIPTION meta-information ... OK
* checking top-level files ... OK
* checking for left-over files ... OK
* checking index information ... OK
* checking package subdirectories ... OK
* checking R files for non-ASCII characters ... OK
* checking R files for syntax errors ... OK
* loading checks for arch 'i386'
** checking whether the package can be loaded ... OK
** checking whether the package can be loaded with stated dependencies ... OK
** checking whether the package can be unloaded cleanly ... OK
** checking whether the namespace can be loaded with stated dependencies ... OK
** checking whether the namespace can be unloaded cleanly ... OK
* loading checks for arch 'x64'
** checking whether the package can be loaded ... OK
** checking whether the package can be loaded with stated dependencies ... OK
** checking whether the package can be unloaded cleanly ... OK
** checking whether the namespace can be loaded with stated dependencies ... OK
** checking whether the namespace can be unloaded cleanly ... OK
* checking dependencies in R code ... NOTE
Unexported objects imported by ':::' calls:
'VGAM:::VGAM.weights.function' 'pheatmap:::find_coordinates'
See the note in ?`:::` about the use of this operator.
* checking S3 generic/method consistency ... OK
* checking replacement functions ... OK
* checking foreign function calls ... OK
* checking R code for possible problems ... OK
* checking Rd files ... OK
* checking Rd metadata ... OK
* checking Rd cross-references ... OK
* checking for missing documentation entries ... OK
* checking for code/documentation mismatches ... OK
* checking Rd \usage sections ... OK
* checking Rd contents ... OK
* checking for unstated dependencies in examples ... OK
* checking contents of 'data' directory ... OK
* checking data for non-ASCII characters ... OK
* checking LazyData ... OK
* checking data for ASCII and uncompressed saves ... OK
* checking files in 'vignettes' ... OK
* checking examples ...
** running examples for arch 'i386' ... OK
Examples with CPU (user + system) or elapsed time > 5s
user system elapsed
plotCellYield 8.59 0.39 8.99
Phemd-methods 8.11 0.42 8.53
plotGroupedSamplesDmap 8.28 0.20 8.48
printClusterAssignments 8.06 0.25 8.31
clusterIndividualSamples 8.00 0.30 8.36
groupSamples 8.11 0.16 8.26
compareSamples 7.99 0.25 8.23
generateGDM 7.70 0.48 8.19
plotHeatmaps 7.82 0.21 8.02
getSampleCelltypeFreqs 7.70 0.18 7.87
getCellYield 7.69 0.14 7.83
getSampleHistsByCluster 7.69 0.12 7.82
orderCellsMonocle 7.40 0.25 7.66
plotEmbeddings 6.92 0.17 7.09
** running examples for arch 'x64' ... OK
Examples with CPU (user + system) or elapsed time > 5s
user system elapsed
compareSamples 9.14 0.09 9.27
clusterIndividualSamples 9.06 0.13 9.63
getSampleHistsByCluster 8.88 0.14 9.01
getSampleCelltypeFreqs 8.56 0.17 8.74
Phemd-methods 8.70 0.03 8.74
printClusterAssignments 8.39 0.14 8.54
generateGDM 8.16 0.17 8.33
plotEmbeddings 8.00 0.13 8.12
getCellYield 7.83 0.19 8.01
plotGroupedSamplesDmap 7.88 0.04 7.93
groupSamples 7.46 0.18 7.64
plotCellYield 7.57 0.06 7.64
plotHeatmaps 7.34 0.17 7.51
orderCellsMonocle 7.00 0.06 7.06
* checking for unstated dependencies in vignettes ... OK
* checking package vignettes in 'inst/doc' ... OK
* checking running R code from vignettes ... SKIPPED
* checking re-building of vignette outputs ... SKIPPED
* checking PDF version of manual ... OK
* DONE
Status: 1 NOTE
See
'C:/Users/biocbuild/bbs-3.14-bioc/meat/phemd.Rcheck/00check.log'
for details.
phemd.Rcheck/00install.out
##############################################################################
##############################################################################
###
### Running command:
###
### C:\cygwin\bin\curl.exe -O http://155.52.207.166/BBS/3.14/bioc/src/contrib/phemd_1.10.0.tar.gz && rm -rf phemd.buildbin-libdir && mkdir phemd.buildbin-libdir && C:\Users\biocbuild\bbs-3.14-bioc\R\bin\R.exe CMD INSTALL --merge-multiarch --build --library=phemd.buildbin-libdir phemd_1.10.0.tar.gz && C:\Users\biocbuild\bbs-3.14-bioc\R\bin\R.exe CMD INSTALL phemd_1.10.0.zip && rm phemd_1.10.0.tar.gz phemd_1.10.0.zip
###
##############################################################################
##############################################################################
% Total % Received % Xferd Average Speed Time Time Time Current
Dload Upload Total Spent Left Speed
0 0 0 0 0 0 0 0 --:--:-- --:--:-- --:--:-- 0
100 479k 100 479k 0 0 1064k 0 --:--:-- --:--:-- --:--:-- 1066k
install for i386
* installing *source* package 'phemd' ...
** using staged installation
** R
** data
*** moving datasets to lazyload DB
** byte-compile and prepare package for lazy loading
** help
*** installing help indices
converting help for package 'phemd'
finding HTML links ... done
GDM html
Phemd-methods html
Phemd html
aggregateSamples html
all_expn_data html
all_genes html
assignCellClusterNearestNode html
batchIDs html
bindSeuratObj html
celltypeFreqs html
clusterIndividualSamples html
compareSamples html
createDataObj html
drawColnames45 html
embedCells html
gaussianffLocal html
generateGDM html
getArithmeticCentroids html
getCellYield html
getSampleCelltypeFreqs html
getSampleHistsByCluster html
getSampleSizes html
groupSamples html
heatmap_genes html
identifyCentroids html
monocleInfo html
orderCellsMonocle html
phateInfo html
plotCellYield html
plotEmbeddings html
plotGroupedSamplesDmap html
plotHeatmaps html
plotSummaryHistograms html
pooledCells html
printClusterAssignments html
rawExpn html
removeTinySamples html
retrieveRefClusters html
sNames html
selectFeatures html
selectMarkers html
selected_genes html
seuratInfo html
snames_data html
subsampledBool html
subsampledIdx html
** building package indices
** installing vignettes
** testing if installed package can be loaded from temporary location
** testing if installed package can be loaded from final location
** testing if installed package keeps a record of temporary installation path
install for x64
* installing *source* package 'phemd' ...
** testing if installed package can be loaded
* MD5 sums
packaged installation of 'phemd' as phemd_1.10.0.zip
* DONE (phemd)
* installing to library 'C:/Users/biocbuild/bbs-3.14-bioc/R/library'
package 'phemd' successfully unpacked and MD5 sums checked
|
phemd.Rcheck/examples_i386/phemd-Ex.timings
|
phemd.Rcheck/examples_x64/phemd-Ex.timings
|