| Back to Multiple platform build/check report for BioC 3.14 |
|
This page was generated on 2022-04-13 12:07:04 -0400 (Wed, 13 Apr 2022).
| Hostname | OS | Arch (*) | R version | Installed pkgs |
|---|---|---|---|---|
| nebbiolo2 | Linux (Ubuntu 20.04.4 LTS) | x86_64 | 4.1.3 (2022-03-10) -- "One Push-Up" | 4324 |
| tokay2 | Windows Server 2012 R2 Standard | x64 | 4.1.3 (2022-03-10) -- "One Push-Up" | 4077 |
| machv2 | macOS 10.14.6 Mojave | x86_64 | 4.1.3 (2022-03-10) -- "One Push-Up" | 4137 |
| Click on any hostname to see more info about the system (e.g. compilers) (*) as reported by 'uname -p', except on Windows and Mac OS X | ||||
|
To the developers/maintainers of the peco package: - Please allow up to 24 hours (and sometimes 48 hours) for your latest push to git@git.bioconductor.org:packages/peco.git to reflect on this report. See How and When does the builder pull? When will my changes propagate? for more information. - Make sure to use the following settings in order to reproduce any error or warning you see on this page. |
| Package 1393/2083 | Hostname | OS / Arch | INSTALL | BUILD | CHECK | BUILD BIN | ||||||||
| peco 1.6.0 (landing page) Chiaowen Joyce Hsiao
| nebbiolo2 | Linux (Ubuntu 20.04.4 LTS) / x86_64 | OK | OK | OK | |||||||||
| tokay2 | Windows Server 2012 R2 Standard / x64 | OK | OK | OK | OK | |||||||||
| machv2 | macOS 10.14.6 Mojave / x86_64 | OK | OK | OK | OK | |||||||||
| Package: peco |
| Version: 1.6.0 |
| Command: C:\Users\biocbuild\bbs-3.14-bioc\R\bin\R.exe CMD check --force-multiarch --install=check:peco.install-out.txt --library=C:\Users\biocbuild\bbs-3.14-bioc\R\library --no-vignettes --timings peco_1.6.0.tar.gz |
| StartedAt: 2022-04-13 00:22:54 -0400 (Wed, 13 Apr 2022) |
| EndedAt: 2022-04-13 00:42:17 -0400 (Wed, 13 Apr 2022) |
| EllapsedTime: 1162.9 seconds |
| RetCode: 0 |
| Status: OK |
| CheckDir: peco.Rcheck |
| Warnings: 0 |
##############################################################################
##############################################################################
###
### Running command:
###
### C:\Users\biocbuild\bbs-3.14-bioc\R\bin\R.exe CMD check --force-multiarch --install=check:peco.install-out.txt --library=C:\Users\biocbuild\bbs-3.14-bioc\R\library --no-vignettes --timings peco_1.6.0.tar.gz
###
##############################################################################
##############################################################################
* using log directory 'C:/Users/biocbuild/bbs-3.14-bioc/meat/peco.Rcheck'
* using R version 4.1.3 (2022-03-10)
* using platform: x86_64-w64-mingw32 (64-bit)
* using session charset: ISO8859-1
* using option '--no-vignettes'
* checking for file 'peco/DESCRIPTION' ... OK
* checking extension type ... Package
* this is package 'peco' version '1.6.0'
* package encoding: UTF-8
* checking package namespace information ... OK
* checking package dependencies ... OK
* checking if this is a source package ... OK
* checking if there is a namespace ... OK
* checking for hidden files and directories ... OK
* checking for portable file names ... OK
* checking whether package 'peco' can be installed ... OK
* checking installed package size ... OK
* checking package directory ... OK
* checking 'build' directory ... OK
* checking DESCRIPTION meta-information ... OK
* checking top-level files ... OK
* checking for left-over files ... OK
* checking index information ... OK
* checking package subdirectories ... OK
* checking R files for non-ASCII characters ... OK
* checking R files for syntax errors ... OK
* loading checks for arch 'i386'
** checking whether the package can be loaded ... OK
** checking whether the package can be loaded with stated dependencies ... OK
** checking whether the package can be unloaded cleanly ... OK
** checking whether the namespace can be loaded with stated dependencies ... OK
** checking whether the namespace can be unloaded cleanly ... OK
* loading checks for arch 'x64'
** checking whether the package can be loaded ... OK
** checking whether the package can be loaded with stated dependencies ... OK
** checking whether the package can be unloaded cleanly ... OK
** checking whether the namespace can be loaded with stated dependencies ... OK
** checking whether the namespace can be unloaded cleanly ... OK
* checking dependencies in R code ... OK
* checking S3 generic/method consistency ... OK
* checking replacement functions ... OK
* checking foreign function calls ... OK
* checking R code for possible problems ... OK
* checking Rd files ... OK
* checking Rd metadata ... OK
* checking Rd cross-references ... OK
* checking for missing documentation entries ... OK
* checking for code/documentation mismatches ... OK
* checking Rd \usage sections ... OK
* checking Rd contents ... OK
* checking for unstated dependencies in examples ... OK
* checking contents of 'data' directory ... OK
* checking data for non-ASCII characters ... OK
* checking data for ASCII and uncompressed saves ... OK
* checking files in 'vignettes' ... OK
* checking examples ...
** running examples for arch 'i386' ... OK
Examples with CPU (user + system) or elapsed time > 5s
user system elapsed
fit_trendfilter 45.27 1.18 54.81
cycle_npreg_outsample 2.39 0.05 176.53
fit_loess 1.98 0.14 12.03
data_transform_quantile 1.03 0.09 10.11
fit_bspline 1.05 0.06 9.93
fit_cyclical_many 1.03 0.06 195.23
** running examples for arch 'x64' ... OK
Examples with CPU (user + system) or elapsed time > 5s
user system elapsed
fit_trendfilter 38.36 0.72 48.96
cycle_npreg_outsample 3.36 0.11 183.07
fit_loess 1.55 0.02 11.39
data_transform_quantile 1.16 0.14 10.51
fit_bspline 1.17 0.05 10.33
fit_cyclical_many 1.12 0.02 187.55
* checking for unstated dependencies in vignettes ... OK
* checking package vignettes in 'inst/doc' ... OK
* checking running R code from vignettes ... SKIPPED
* checking re-building of vignette outputs ... SKIPPED
* checking PDF version of manual ... OK
* DONE
Status: OK
peco.Rcheck/00install.out
##############################################################################
##############################################################################
###
### Running command:
###
### C:\cygwin\bin\curl.exe -O http://155.52.207.166/BBS/3.14/bioc/src/contrib/peco_1.6.0.tar.gz && rm -rf peco.buildbin-libdir && mkdir peco.buildbin-libdir && C:\Users\biocbuild\bbs-3.14-bioc\R\bin\R.exe CMD INSTALL --merge-multiarch --build --library=peco.buildbin-libdir peco_1.6.0.tar.gz && C:\Users\biocbuild\bbs-3.14-bioc\R\bin\R.exe CMD INSTALL peco_1.6.0.zip && rm peco_1.6.0.tar.gz peco_1.6.0.zip
###
##############################################################################
##############################################################################
% Total % Received % Xferd Average Speed Time Time Time Current
Dload Upload Total Spent Left Speed
0 0 0 0 0 0 0 0 --:--:-- --:--:-- --:--:-- 0
3 1378k 3 44431 0 0 280k 0 0:00:04 --:--:-- 0:00:04 279k
69 1378k 69 963k 0 0 833k 0 0:00:01 0:00:01 --:--:-- 833k
100 1378k 100 1378k 0 0 925k 0 0:00:01 0:00:01 --:--:-- 925k
install for i386
* installing *source* package 'peco' ...
** using staged installation
** R
** data
** inst
** byte-compile and prepare package for lazy loading
** help
*** installing help indices
converting help for package 'peco'
finding HTML links ... done
cellcyclegenes_whitfield2002 html
circ_dist html
cycle_npreg_insample html
cycle_npreg_loglik html
cycle_npreg_mstep html
cycle_npreg_outsample html
data_transform_quantile html
fit_bspline html
fit_cyclical_many html
fit_loess html
fit_trendfilter html
initialize_grids html
intensity2circle html
model_5genes_predict html
model_5genes_train html
rotation html
sce_top101genes html
shift_origin html
training_human html
** building package indices
** installing vignettes
** testing if installed package can be loaded from temporary location
** testing if installed package can be loaded from final location
** testing if installed package keeps a record of temporary installation path
install for x64
* installing *source* package 'peco' ...
** testing if installed package can be loaded
* MD5 sums
packaged installation of 'peco' as peco_1.6.0.zip
* DONE (peco)
* installing to library 'C:/Users/biocbuild/bbs-3.14-bioc/R/library'
package 'peco' successfully unpacked and MD5 sums checked
|
peco.Rcheck/examples_i386/peco-Ex.timings
|
peco.Rcheck/examples_x64/peco-Ex.timings
|