| Back to Multiple platform build/check report for BioC 3.14 |
|
This page was generated on 2022-04-13 12:07:01 -0400 (Wed, 13 Apr 2022).
| Hostname | OS | Arch (*) | R version | Installed pkgs |
|---|---|---|---|---|
| nebbiolo2 | Linux (Ubuntu 20.04.4 LTS) | x86_64 | 4.1.3 (2022-03-10) -- "One Push-Up" | 4324 |
| tokay2 | Windows Server 2012 R2 Standard | x64 | 4.1.3 (2022-03-10) -- "One Push-Up" | 4077 |
| machv2 | macOS 10.14.6 Mojave | x86_64 | 4.1.3 (2022-03-10) -- "One Push-Up" | 4137 |
| Click on any hostname to see more info about the system (e.g. compilers) (*) as reported by 'uname -p', except on Windows and Mac OS X | ||||
|
To the developers/maintainers of the occugene package: - Please allow up to 24 hours (and sometimes 48 hours) for your latest push to git@git.bioconductor.org:packages/occugene.git to reflect on this report. See How and When does the builder pull? When will my changes propagate? for more information. - Make sure to use the following settings in order to reproduce any error or warning you see on this page. |
| Package 1313/2083 | Hostname | OS / Arch | INSTALL | BUILD | CHECK | BUILD BIN | ||||||||
| occugene 1.54.0 (landing page) Oliver Will
| nebbiolo2 | Linux (Ubuntu 20.04.4 LTS) / x86_64 | OK | OK | OK | |||||||||
| tokay2 | Windows Server 2012 R2 Standard / x64 | OK | OK | OK | OK | |||||||||
| machv2 | macOS 10.14.6 Mojave / x86_64 | OK | OK | OK | OK | |||||||||
| Package: occugene |
| Version: 1.54.0 |
| Command: C:\cygwin\bin\curl.exe -O http://155.52.207.166/BBS/3.14/bioc/src/contrib/occugene_1.54.0.tar.gz && rm -rf occugene.buildbin-libdir && mkdir occugene.buildbin-libdir && C:\Users\biocbuild\bbs-3.14-bioc\R\bin\R.exe CMD INSTALL --merge-multiarch --build --library=occugene.buildbin-libdir occugene_1.54.0.tar.gz && C:\Users\biocbuild\bbs-3.14-bioc\R\bin\R.exe CMD INSTALL occugene_1.54.0.zip && rm occugene_1.54.0.tar.gz occugene_1.54.0.zip |
| StartedAt: 2022-04-12 03:57:05 -0400 (Tue, 12 Apr 2022) |
| EndedAt: 2022-04-12 03:59:06 -0400 (Tue, 12 Apr 2022) |
| EllapsedTime: 121.2 seconds |
| RetCode: 0 |
| Status: OK |
##############################################################################
##############################################################################
###
### Running command:
###
### C:\cygwin\bin\curl.exe -O http://155.52.207.166/BBS/3.14/bioc/src/contrib/occugene_1.54.0.tar.gz && rm -rf occugene.buildbin-libdir && mkdir occugene.buildbin-libdir && C:\Users\biocbuild\bbs-3.14-bioc\R\bin\R.exe CMD INSTALL --merge-multiarch --build --library=occugene.buildbin-libdir occugene_1.54.0.tar.gz && C:\Users\biocbuild\bbs-3.14-bioc\R\bin\R.exe CMD INSTALL occugene_1.54.0.zip && rm occugene_1.54.0.tar.gz occugene_1.54.0.zip
###
##############################################################################
##############################################################################
% Total % Received % Xferd Average Speed Time Time Time Current
Dload Upload Total Spent Left Speed
0 0 0 0 0 0 0 0 --:--:-- --:--:-- --:--:-- 0
99 12069 99 11963 0 0 60339 0 --:--:-- --:--:-- --:--:-- 60419
100 12069 100 12069 0 0 60751 0 --:--:-- --:--:-- --:--:-- 60648
install for i386
* installing *source* package 'occugene' ...
** using staged installation
** R
** data
** byte-compile and prepare package for lazy loading
** help
*** installing help indices
converting help for package 'occugene'
finding HTML links ... done
binHist html
binInsert html
binInsertHist html
checkFormat html
delta0 html
eMult html
etDelta html
fCumul html
fFit html
loadAnnotation html
loadInsertions html
occup2Negenes html
sampleAnnotation html
sampleInsertions html
unbiasB0 html
unbiasDelta0 html
varMult html
** building package indices
** installing vignettes
** testing if installed package can be loaded from temporary location
** testing if installed package can be loaded from final location
** testing if installed package keeps a record of temporary installation path
install for x64
* installing *source* package 'occugene' ...
** testing if installed package can be loaded
* MD5 sums
packaged installation of 'occugene' as occugene_1.54.0.zip
* DONE (occugene)
* installing to library 'C:/Users/biocbuild/bbs-3.14-bioc/R/library'
package 'occugene' successfully unpacked and MD5 sums checked