| Back to Multiple platform build/check report for BioC 3.14 |
|
This page was generated on 2022-04-13 12:05:41 -0400 (Wed, 13 Apr 2022).
| Hostname | OS | Arch (*) | R version | Installed pkgs |
|---|---|---|---|---|
| nebbiolo2 | Linux (Ubuntu 20.04.4 LTS) | x86_64 | 4.1.3 (2022-03-10) -- "One Push-Up" | 4324 |
| tokay2 | Windows Server 2012 R2 Standard | x64 | 4.1.3 (2022-03-10) -- "One Push-Up" | 4077 |
| machv2 | macOS 10.14.6 Mojave | x86_64 | 4.1.3 (2022-03-10) -- "One Push-Up" | 4137 |
| Click on any hostname to see more info about the system (e.g. compilers) (*) as reported by 'uname -p', except on Windows and Mac OS X | ||||
|
To the developers/maintainers of the netDx package: - Please allow up to 24 hours (and sometimes 48 hours) for your latest push to git@git.bioconductor.org:packages/netDx.git to reflect on this report. See How and When does the builder pull? When will my changes propagate? for more information. - Make sure to use the following settings in order to reproduce any error or warning you see on this page. |
| Package 1284/2083 | Hostname | OS / Arch | INSTALL | BUILD | CHECK | BUILD BIN | ||||||||
| netDx 1.6.0 (landing page) Shraddha Pai
| nebbiolo2 | Linux (Ubuntu 20.04.4 LTS) / x86_64 | OK | OK | OK | |||||||||
| tokay2 | Windows Server 2012 R2 Standard / x64 | ... NOT SUPPORTED ... | ||||||||||||
| machv2 | macOS 10.14.6 Mojave / x86_64 | OK | TIMEOUT | skipped | skipped | |||||||||
| Package: netDx |
| Version: 1.6.0 |
| Command: /home/biocbuild/bbs-3.14-bioc/R/bin/R CMD check --install=check:netDx.install-out.txt --library=/home/biocbuild/bbs-3.14-bioc/R/library --no-vignettes --timings netDx_1.6.0.tar.gz |
| StartedAt: 2022-04-12 08:27:50 -0400 (Tue, 12 Apr 2022) |
| EndedAt: 2022-04-12 08:40:54 -0400 (Tue, 12 Apr 2022) |
| EllapsedTime: 783.9 seconds |
| RetCode: 0 |
| Status: OK |
| CheckDir: netDx.Rcheck |
| Warnings: 0 |
##############################################################################
##############################################################################
###
### Running command:
###
### /home/biocbuild/bbs-3.14-bioc/R/bin/R CMD check --install=check:netDx.install-out.txt --library=/home/biocbuild/bbs-3.14-bioc/R/library --no-vignettes --timings netDx_1.6.0.tar.gz
###
##############################################################################
##############################################################################
* using log directory ‘/home/biocbuild/bbs-3.14-bioc/meat/netDx.Rcheck’
* using R version 4.1.3 (2022-03-10)
* using platform: x86_64-pc-linux-gnu (64-bit)
* using session charset: UTF-8
* using option ‘--no-vignettes’
* checking for file ‘netDx/DESCRIPTION’ ... OK
* this is package ‘netDx’ version ‘1.6.0’
* package encoding: UTF-8
* checking package namespace information ... OK
* checking package dependencies ... OK
* checking if this is a source package ... OK
* checking if there is a namespace ... OK
* checking for hidden files and directories ... NOTE
Found the following hidden files and directories:
.BBSoptions
These were most likely included in error. See section ‘Package
structure’ in the ‘Writing R Extensions’ manual.
* checking for portable file names ... OK
* checking for sufficient/correct file permissions ... OK
* checking whether package ‘netDx’ can be installed ... OK
* checking installed package size ... NOTE
installed size is 7.4Mb
sub-directories of 1Mb or more:
extdata 6.0Mb
* checking package directory ... OK
* checking ‘build’ directory ... OK
* checking DESCRIPTION meta-information ... NOTE
Malformed Description field: should contain one or more complete sentences.
* checking top-level files ... OK
* checking for left-over files ... OK
* checking index information ... OK
* checking package subdirectories ... NOTE
Found the following CITATION file in a non-standard place:
CITATION.cff
Most likely ‘inst/CITATION’ should be used instead.
* checking R files for non-ASCII characters ... OK
* checking R files for syntax errors ... OK
* checking whether the package can be loaded ... OK
* checking whether the package can be loaded with stated dependencies ... OK
* checking whether the package can be unloaded cleanly ... OK
* checking whether the namespace can be loaded with stated dependencies ... OK
* checking whether the namespace can be unloaded cleanly ... OK
* checking dependencies in R code ... OK
* checking S3 generic/method consistency ... OK
* checking replacement functions ... OK
* checking foreign function calls ... OK
* checking R code for possible problems ... OK
* checking Rd files ... OK
* checking Rd metadata ... OK
* checking Rd cross-references ... OK
* checking for missing documentation entries ... OK
* checking for code/documentation mismatches ... OK
* checking Rd \usage sections ... OK
* checking Rd contents ... OK
* checking for unstated dependencies in examples ... OK
* checking contents of ‘data’ directory ... OK
* checking data for non-ASCII characters ... OK
* checking data for ASCII and uncompressed saves ... OK
* checking files in ‘vignettes’ ... OK
* checking examples ... OK
Examples with CPU (user + system) or elapsed time > 5s
user system elapsed
buildPredictor 33.212 1.801 37.929
createPSN_MultiData 32.813 1.821 44.154
RR_featureTally 7.462 0.643 8.106
runFeatureSelection 7.452 0.615 4.826
compileFeatures 6.905 0.493 18.065
smoothMutations_LabelProp 5.962 0.352 26.398
thresholdSmoothedMutations 4.061 0.418 24.748
enrichLabelNets 1.902 0.216 49.196
getEnr 0.869 0.140 8.497
makePSN_NamedMatrix 0.087 0.011 7.625
countIntType_batch 0.024 0.008 7.099
* checking for unstated dependencies in ‘tests’ ... OK
* checking tests ...
Running ‘testthat.R’
OK
* checking for unstated dependencies in vignettes ... OK
* checking package vignettes in ‘inst/doc’ ... OK
* checking running R code from vignettes ... SKIPPED
* checking re-building of vignette outputs ... SKIPPED
* checking PDF version of manual ... OK
* DONE
Status: 4 NOTEs
See
‘/home/biocbuild/bbs-3.14-bioc/meat/netDx.Rcheck/00check.log’
for details.
netDx.Rcheck/00install.out
############################################################################## ############################################################################## ### ### Running command: ### ### /home/biocbuild/bbs-3.14-bioc/R/bin/R CMD INSTALL netDx ### ############################################################################## ############################################################################## * installing to library ‘/home/biocbuild/bbs-3.14-bioc/R/library’ * installing *source* package ‘netDx’ ... ** using staged installation ** R ** data ** inst ** byte-compile and prepare package for lazy loading ** help *** installing help indices ** building package indices ** installing vignettes ** testing if installed package can be loaded from temporary location ** testing if installed package can be loaded from final location ** testing if installed package keeps a record of temporary installation path * DONE (netDx)
netDx.Rcheck/tests/testthat.Rout
R version 4.1.3 (2022-03-10) -- "One Push-Up"
Copyright (C) 2022 The R Foundation for Statistical Computing
Platform: x86_64-pc-linux-gnu (64-bit)
R is free software and comes with ABSOLUTELY NO WARRANTY.
You are welcome to redistribute it under certain conditions.
Type 'license()' or 'licence()' for distribution details.
R is a collaborative project with many contributors.
Type 'contributors()' for more information and
'citation()' on how to cite R or R packages in publications.
Type 'demo()' for some demos, 'help()' for on-line help, or
'help.start()' for an HTML browser interface to help.
Type 'q()' to quit R.
> library(testthat)
> library(netDx)
Attaching package: 'netDx'
The following object is masked from 'package:stats':
predict
>
> test_check("netDx")
TT_STATUS
STATUS TEST TRAIN
LumA 52 178
notLumA 52 243
PRED_CLASS
STATUS LumA notLumA
LumA 41 11
notLumA 17 35
[1] TRUE
[ FAIL 0 | WARN 2 | SKIP 0 | PASS 39 ]
[ FAIL 0 | WARN 2 | SKIP 0 | PASS 39 ]
>
> proc.time()
user system elapsed
79.811 6.329 357.206
netDx.Rcheck/netDx-Ex.timings
| name | user | system | elapsed | |
| MB.pheno | 0.005 | 0.001 | 0.005 | |
| RR_featureTally | 7.462 | 0.643 | 8.106 | |
| avgNormDiff | 0.044 | 0.000 | 0.045 | |
| buildPredictor | 33.212 | 1.801 | 37.929 | |
| buildPredictor_sparseGenetic | 1.106 | 0.052 | 1.787 | |
| callFeatSel | 0.077 | 0.008 | 0.086 | |
| callOverallSelectedFeatures | 0.072 | 0.016 | 0.089 | |
| cleanPathwayName | 0 | 0 | 0 | |
| cnv_GR | 0.034 | 0.004 | 0.038 | |
| cnv_TTstatus | 0.005 | 0.004 | 0.010 | |
| cnv_netPass | 0.003 | 0.000 | 0.003 | |
| cnv_netScores | 0.005 | 0.004 | 0.008 | |
| cnv_patientNetCount | 0.111 | 0.028 | 0.139 | |
| cnv_pheno | 0.009 | 0.000 | 0.009 | |
| compareShortestPath | 0.019 | 0.000 | 0.019 | |
| compileFeatureScores | 0.007 | 0.000 | 0.008 | |
| compileFeatures | 6.905 | 0.493 | 18.065 | |
| confmat | 0.004 | 0.000 | 0.004 | |
| confusionMatrix | 0.089 | 0.015 | 0.104 | |
| convertToMAE | 0.166 | 0.000 | 0.166 | |
| countIntType | 0.000 | 0.001 | 0.001 | |
| countIntType_batch | 0.024 | 0.008 | 7.099 | |
| countPatientsInNet | 0.005 | 0.000 | 0.006 | |
| createPSN_MultiData | 32.813 | 1.821 | 44.154 | |
| dataList2List | 0.456 | 0.051 | 0.508 | |
| enrichLabelNets | 1.902 | 0.216 | 49.196 | |
| featScores | 0.027 | 0.004 | 0.032 | |
| fetchPathwayDefinitions | 1.228 | 0.075 | 1.594 | |
| genes | 0.000 | 0.003 | 0.003 | |
| getEMapInput | 1.016 | 0.105 | 1.194 | |
| getEMapInput_many | 1.019 | 0.104 | 1.167 | |
| getEnr | 0.869 | 0.140 | 8.497 | |
| getFeatureScores | 0.022 | 0.000 | 0.022 | |
| getFileSep | 0 | 0 | 0 | |
| getGMjar_path | 0.448 | 0.034 | 0.470 | |
| getNetConsensus | 0.011 | 0.000 | 0.012 | |
| getOR | 0.003 | 0.000 | 0.003 | |
| getPatientPredictions | 1.369 | 0.036 | 1.405 | |
| getPatientRankings | 0.061 | 0.008 | 0.069 | |
| getRegionOL | 0.377 | 0.040 | 0.417 | |
| getResults | 0.120 | 0.008 | 0.128 | |
| getSimilarity | 0.198 | 0.000 | 0.199 | |
| makePSN_NamedMatrix | 0.087 | 0.011 | 7.625 | |
| makePSN_RangeSets | 0.015 | 0.000 | 0.014 | |
| makeQueries | 0.003 | 0.004 | 0.006 | |
| makeSymmetric | 0.001 | 0.000 | 0.001 | |
| mapNamedRangesToSets | 0.078 | 0.015 | 0.093 | |
| modelres | 0.002 | 0.000 | 0.002 | |
| normDiff | 0.001 | 0.000 | 0.001 | |
| npheno | 0.002 | 0.000 | 0.002 | |
| pathwayList | 0.003 | 0.000 | 0.003 | |
| pathway_GR | 0.095 | 0.012 | 0.107 | |
| perfCalc | 0.002 | 0.000 | 0.002 | |
| pheno | 0.009 | 0.000 | 0.009 | |
| pheno_full | 0.001 | 0.000 | 0.002 | |
| plotEmap | 0.947 | 0.072 | 1.238 | |
| plotPerf | 1.219 | 0.032 | 1.250 | |
| plotPerf_multi | 0.029 | 0.007 | 0.036 | |
| predRes | 0.003 | 0.000 | 0.003 | |
| predictPatientLabels | 0.007 | 0.000 | 0.007 | |
| pruneNets | 0.004 | 0.004 | 0.009 | |
| randAlphanumString | 0.000 | 0.000 | 0.001 | |
| readPathways | 1.012 | 0.080 | 1.133 | |
| runFeatureSelection | 7.452 | 0.615 | 4.826 | |
| runQuery | 3.285 | 0.312 | 4.530 | |
| setupFeatureDB | 0.076 | 0.000 | 0.076 | |
| silh | 0.001 | 0.002 | 0.003 | |
| sim.eucscale | 0.274 | 0.005 | 0.280 | |
| sim.pearscale | 0.365 | 0.036 | 0.401 | |
| simpleCap | 0 | 0 | 0 | |
| smoothMutations_LabelProp | 5.962 | 0.352 | 26.398 | |
| sparsify2 | 0.657 | 0.052 | 0.709 | |
| sparsify3 | 0.203 | 0.012 | 0.215 | |
| splitTestTrain | 0.022 | 0.000 | 0.022 | |
| splitTestTrain_resampling | 0.004 | 0.000 | 0.004 | |
| tSNEPlotter | 0.739 | 0.016 | 0.755 | |
| thresholdSmoothedMutations | 4.061 | 0.418 | 24.748 | |
| toymodel | 0.841 | 0.484 | 1.326 | |
| updateNets | 0.008 | 0.000 | 0.008 | |
| writeNetsSIF | 0.002 | 0.004 | 0.006 | |
| writeQueryBatchFile | 0.003 | 0.000 | 0.003 | |
| writeQueryFile | 0.004 | 0.000 | 0.004 | |
| xpr | 0.037 | 0.008 | 0.045 | |