| Back to Multiple platform build/check report for BioC 3.14 |
|
This page was generated on 2022-04-13 12:06:55 -0400 (Wed, 13 Apr 2022).
| Hostname | OS | Arch (*) | R version | Installed pkgs |
|---|---|---|---|---|
| nebbiolo2 | Linux (Ubuntu 20.04.4 LTS) | x86_64 | 4.1.3 (2022-03-10) -- "One Push-Up" | 4324 |
| tokay2 | Windows Server 2012 R2 Standard | x64 | 4.1.3 (2022-03-10) -- "One Push-Up" | 4077 |
| machv2 | macOS 10.14.6 Mojave | x86_64 | 4.1.3 (2022-03-10) -- "One Push-Up" | 4137 |
| Click on any hostname to see more info about the system (e.g. compilers) (*) as reported by 'uname -p', except on Windows and Mac OS X | ||||
|
To the developers/maintainers of the mistyR package: - Please allow up to 24 hours (and sometimes 48 hours) for your latest push to git@git.bioconductor.org:packages/mistyR.git to reflect on this report. See How and When does the builder pull? When will my changes propagate? for more information. - Make sure to use the following settings in order to reproduce any error or warning you see on this page. |
| Package 1175/2083 | Hostname | OS / Arch | INSTALL | BUILD | CHECK | BUILD BIN | ||||||||
| mistyR 1.2.1 (landing page) Jovan Tanevski
| nebbiolo2 | Linux (Ubuntu 20.04.4 LTS) / x86_64 | OK | OK | OK | |||||||||
| tokay2 | Windows Server 2012 R2 Standard / x64 | OK | OK | OK | OK | |||||||||
| machv2 | macOS 10.14.6 Mojave / x86_64 | OK | OK | OK | OK | |||||||||
| Package: mistyR |
| Version: 1.2.1 |
| Command: C:\Users\biocbuild\bbs-3.14-bioc\R\bin\R.exe CMD check --force-multiarch --install=check:mistyR.install-out.txt --library=C:\Users\biocbuild\bbs-3.14-bioc\R\library --no-vignettes --timings mistyR_1.2.1.tar.gz |
| StartedAt: 2022-04-12 23:02:43 -0400 (Tue, 12 Apr 2022) |
| EndedAt: 2022-04-12 23:19:31 -0400 (Tue, 12 Apr 2022) |
| EllapsedTime: 1007.4 seconds |
| RetCode: 0 |
| Status: OK |
| CheckDir: mistyR.Rcheck |
| Warnings: 0 |
##############################################################################
##############################################################################
###
### Running command:
###
### C:\Users\biocbuild\bbs-3.14-bioc\R\bin\R.exe CMD check --force-multiarch --install=check:mistyR.install-out.txt --library=C:\Users\biocbuild\bbs-3.14-bioc\R\library --no-vignettes --timings mistyR_1.2.1.tar.gz
###
##############################################################################
##############################################################################
* using log directory 'C:/Users/biocbuild/bbs-3.14-bioc/meat/mistyR.Rcheck'
* using R version 4.1.3 (2022-03-10)
* using platform: x86_64-w64-mingw32 (64-bit)
* using session charset: ISO8859-1
* using option '--no-vignettes'
* checking for file 'mistyR/DESCRIPTION' ... OK
* checking extension type ... Package
* this is package 'mistyR' version '1.2.1'
* package encoding: UTF-8
* checking package namespace information ... OK
* checking package dependencies ... OK
* checking if this is a source package ... OK
* checking if there is a namespace ... OK
* checking for hidden files and directories ... OK
* checking for portable file names ... OK
* checking whether package 'mistyR' can be installed ... OK
* checking installed package size ... OK
* checking package directory ... OK
* checking 'build' directory ... OK
* checking DESCRIPTION meta-information ... OK
* checking top-level files ... OK
* checking for left-over files ... OK
* checking index information ... OK
* checking package subdirectories ... OK
* checking R files for non-ASCII characters ... OK
* checking R files for syntax errors ... OK
* loading checks for arch 'i386'
** checking whether the package can be loaded ... OK
** checking whether the package can be loaded with stated dependencies ... OK
** checking whether the package can be unloaded cleanly ... OK
** checking whether the namespace can be loaded with stated dependencies ... OK
** checking whether the namespace can be unloaded cleanly ... OK
* loading checks for arch 'x64'
** checking whether the package can be loaded ... OK
** checking whether the package can be loaded with stated dependencies ... OK
** checking whether the package can be unloaded cleanly ... OK
** checking whether the namespace can be loaded with stated dependencies ... OK
** checking whether the namespace can be unloaded cleanly ... OK
* checking dependencies in R code ... OK
* checking S3 generic/method consistency ... OK
* checking replacement functions ... OK
* checking foreign function calls ... OK
* checking R code for possible problems ... OK
* checking Rd files ... OK
* checking Rd metadata ... OK
* checking Rd cross-references ... OK
* checking for missing documentation entries ... OK
* checking for code/documentation mismatches ... OK
* checking Rd \usage sections ... OK
* checking Rd contents ... OK
* checking for unstated dependencies in examples ... OK
* checking contents of 'data' directory ... OK
* checking data for non-ASCII characters ... OK
* checking data for ASCII and uncompressed saves ... OK
* checking files in 'vignettes' ... OK
* checking examples ...
** running examples for arch 'i386' ... OK
Examples with CPU (user + system) or elapsed time > 5s
user system elapsed
collect_results 181.76 1.67 183.25
reexports 59.86 0.44 60.20
run_misty 58.99 0.35 59.25
remove_views 29.23 0.29 29.53
add_paraview 22.17 0.28 22.45
plot_improvement_stats 11.67 0.66 11.72
create_view 9.20 0.05 9.25
add_juxtaview 7.65 0.09 8.00
plot_contrast_results 6.66 0.43 6.78
plot_view_contributions 5.88 0.42 5.84
plot_interaction_heatmap 5.72 0.47 5.79
plot_interaction_communities 5.64 0.41 5.67
plot_contrast_heatmap 5.44 0.46 5.57
extract_signature 5.36 0.45 5.52
** running examples for arch 'x64' ... OK
Examples with CPU (user + system) or elapsed time > 5s
user system elapsed
collect_results 172.22 1.50 174.42
reexports 57.27 0.64 57.83
run_misty 54.23 0.23 54.42
remove_views 28.34 0.02 28.35
add_paraview 24.55 0.06 24.61
plot_improvement_stats 10.90 0.61 10.95
create_view 10.28 0.02 10.31
plot_contrast_results 6.55 0.45 6.61
add_juxtaview 6.65 0.13 6.79
plot_interaction_communities 5.85 0.41 5.88
plot_contrast_heatmap 5.75 0.43 5.75
plot_view_contributions 5.89 0.23 6.00
extract_signature 5.61 0.18 5.55
plot_interaction_heatmap 5.51 0.28 5.53
* checking for unstated dependencies in 'tests' ... OK
* checking tests ...
** running tests for arch 'i386' ...
Running 'testthat.R'
OK
** running tests for arch 'x64' ...
Running 'testthat.R'
OK
* checking for unstated dependencies in vignettes ... OK
* checking package vignettes in 'inst/doc' ... OK
* checking running R code from vignettes ... SKIPPED
* checking re-building of vignette outputs ... SKIPPED
* checking PDF version of manual ... OK
* DONE
Status: OK
mistyR.Rcheck/00install.out
##############################################################################
##############################################################################
###
### Running command:
###
### C:\cygwin\bin\curl.exe -O http://155.52.207.166/BBS/3.14/bioc/src/contrib/mistyR_1.2.1.tar.gz && rm -rf mistyR.buildbin-libdir && mkdir mistyR.buildbin-libdir && C:\Users\biocbuild\bbs-3.14-bioc\R\bin\R.exe CMD INSTALL --merge-multiarch --build --library=mistyR.buildbin-libdir mistyR_1.2.1.tar.gz && C:\Users\biocbuild\bbs-3.14-bioc\R\bin\R.exe CMD INSTALL mistyR_1.2.1.zip && rm mistyR_1.2.1.tar.gz mistyR_1.2.1.zip
###
##############################################################################
##############################################################################
% Total % Received % Xferd Average Speed Time Time Time Current
Dload Upload Total Spent Left Speed
0 0 0 0 0 0 0 0 --:--:-- --:--:-- --:--:-- 0
22 2537k 22 581k 0 0 701k 0 0:00:03 --:--:-- 0:00:03 701k
66 2537k 66 1678k 0 0 918k 0 0:00:02 0:00:01 0:00:01 918k
100 2537k 100 2537k 0 0 1065k 0 0:00:02 0:00:02 --:--:-- 1065k
install for i386
* installing *source* package 'mistyR' ...
** using staged installation
** R
** data
** inst
** byte-compile and prepare package for lazy loading
** help
*** installing help indices
converting help for package 'mistyR'
finding HTML links ... done
add_juxtaview html
add_paraview html
add_views html
clear_cache html
collect_results html
create_initial_view html
create_view html
extract_signature html
filter_views html
plot_contrast_heatmap html
plot_contrast_results html
plot_improvement_stats html
plot_interaction_communities html
plot_interaction_heatmap html
plot_view_contributions html
reexports html
remove_views html
rename_view html
run_misty html
select_markers html
synthetic html
** building package indices
** installing vignettes
** testing if installed package can be loaded from temporary location
** testing if installed package can be loaded from final location
** testing if installed package keeps a record of temporary installation path
install for x64
* installing *source* package 'mistyR' ...
** testing if installed package can be loaded
* MD5 sums
packaged installation of 'mistyR' as mistyR_1.2.1.zip
* DONE (mistyR)
* installing to library 'C:/Users/biocbuild/bbs-3.14-bioc/R/library'
package 'mistyR' successfully unpacked and MD5 sums checked
|
mistyR.Rcheck/tests_i386/testthat.Rout
R version 4.1.3 (2022-03-10) -- "One Push-Up"
Copyright (C) 2022 The R Foundation for Statistical Computing
Platform: i386-w64-mingw32/i386 (32-bit)
R is free software and comes with ABSOLUTELY NO WARRANTY.
You are welcome to redistribute it under certain conditions.
Type 'license()' or 'licence()' for distribution details.
R is a collaborative project with many contributors.
Type 'contributors()' for more information and
'citation()' on how to cite R or R packages in publications.
Type 'demo()' for some demos, 'help()' for on-line help, or
'help.start()' for an HTML browser interface to help.
Type 'q()' to quit R.
> library(testthat)
> library(mistyR)
mistyR is able to run computationally intensive functions
in parallel. Please consider specifying a future::plan(). For example by running
future::plan(future::multisession) before calling mistyR functions.
>
> test_check("mistyR")
Generating paraview
Attaching package: 'purrr'
The following object is masked from 'package:testthat':
is_null
Training models
Training models
Training models
Training models
Training models
Training models
Training models
Training models
Training models
Training models
Training models
Training models
Training models
Generating paraview
Training models
Collecting improvements
Collecting contributions
Collecting importances
Aggregating
Generating paraview
Training models
Collecting improvements
Collecting contributions
Collecting importances
Aggregating
Generating paraview
Generating paraview
Training models
Generating paraview
Training models
Generating paraview
Training models
Collecting improvements
Collecting contributions
Collecting importances
Aggregating
Aggregating subset
Generating paraview
Training models
Generating paraview
Training models
Generating paraview
Training models
Collecting improvements
Collecting contributions
Collecting importances
Aggregating
Computing triangulation
Generating juxtaview
Generating paraview
Generating paraview using 20 nearest neighbors per unit
Approximating RBF matrix using the Nystrom method
Computing triangulation
Generating juxtaview
Generating paraview
Computing triangulation
Generating juxtaview
Generating paraview
Computing triangulation
Generating paraview
Generating paraview
Generating paraview using 2 nearest neighbors per unit
Generating paraview
Generating paraview
[ FAIL 0 | WARN 0 | SKIP 0 | PASS 94 ]
>
> proc.time()
user system elapsed
51.82 2.73 53.76
|
mistyR.Rcheck/tests_x64/testthat.Rout
R version 4.1.3 (2022-03-10) -- "One Push-Up"
Copyright (C) 2022 The R Foundation for Statistical Computing
Platform: x86_64-w64-mingw32/x64 (64-bit)
R is free software and comes with ABSOLUTELY NO WARRANTY.
You are welcome to redistribute it under certain conditions.
Type 'license()' or 'licence()' for distribution details.
R is a collaborative project with many contributors.
Type 'contributors()' for more information and
'citation()' on how to cite R or R packages in publications.
Type 'demo()' for some demos, 'help()' for on-line help, or
'help.start()' for an HTML browser interface to help.
Type 'q()' to quit R.
> library(testthat)
> library(mistyR)
mistyR is able to run computationally intensive functions
in parallel. Please consider specifying a future::plan(). For example by running
future::plan(future::multisession) before calling mistyR functions.
>
> test_check("mistyR")
Generating paraview
Attaching package: 'purrr'
The following object is masked from 'package:testthat':
is_null
Training models
Training models
Training models
Training models
Training models
Training models
Training models
Training models
Training models
Training models
Training models
Training models
Training models
Generating paraview
Training models
Collecting improvements
Collecting contributions
Collecting importances
Aggregating
Generating paraview
Training models
Collecting improvements
Collecting contributions
Collecting importances
Aggregating
Generating paraview
Generating paraview
Training models
Generating paraview
Training models
Generating paraview
Training models
Collecting improvements
Collecting contributions
Collecting importances
Aggregating
Aggregating subset
Generating paraview
Training models
Generating paraview
Training models
Generating paraview
Training models
Collecting improvements
Collecting contributions
Collecting importances
Aggregating
Computing triangulation
Generating juxtaview
Generating paraview
Generating paraview using 20 nearest neighbors per unit
Approximating RBF matrix using the Nystrom method
Computing triangulation
Generating juxtaview
Generating paraview
Computing triangulation
Generating juxtaview
Generating paraview
Computing triangulation
Generating paraview
Generating paraview
Generating paraview using 2 nearest neighbors per unit
Generating paraview
Generating paraview
[ FAIL 0 | WARN 0 | SKIP 0 | PASS 94 ]
>
> proc.time()
user system elapsed
57.03 1.62 60.12
|
|
mistyR.Rcheck/examples_i386/mistyR-Ex.timings
|
mistyR.Rcheck/examples_x64/mistyR-Ex.timings
|