| Back to Multiple platform build/check report for BioC 3.14 | 
 | 
This page was generated on 2022-04-13 12:06:54 -0400 (Wed, 13 Apr 2022).
| Hostname | OS | Arch (*) | R version | Installed pkgs | 
|---|---|---|---|---|
| nebbiolo2 | Linux (Ubuntu 20.04.4 LTS) | x86_64 | 4.1.3 (2022-03-10) -- "One Push-Up" | 4324 | 
| tokay2 | Windows Server 2012 R2 Standard | x64 | 4.1.3 (2022-03-10) -- "One Push-Up" | 4077 | 
| machv2 | macOS 10.14.6 Mojave | x86_64 | 4.1.3 (2022-03-10) -- "One Push-Up" | 4137 | 
| Click on any hostname to see more info about the system (e.g. compilers) (*) as reported by 'uname -p', except on Windows and Mac OS X | ||||
| To the developers/maintainers of the miRBaseConverter package: - Please allow up to 24 hours (and sometimes 48 hours) for your latest push to git@git.bioconductor.org:packages/miRBaseConverter.git to reflect on this report. See How and When does the builder pull? When will my changes propagate? for more information. - Make sure to use the following settings in order to reproduce any error or warning you see on this page. | 
| Package 1162/2083 | Hostname | OS / Arch | INSTALL | BUILD | CHECK | BUILD BIN | ||||||||
| miRBaseConverter 1.18.0  (landing page) Taosheng Xu 
 | nebbiolo2 | Linux (Ubuntu 20.04.4 LTS) / x86_64 | OK | OK | OK |  | ||||||||
| tokay2 | Windows Server 2012 R2 Standard / x64 | OK | OK | OK | OK |  | ||||||||
| machv2 | macOS 10.14.6 Mojave / x86_64 | OK | OK | OK | OK |  | ||||||||
| Package: miRBaseConverter | 
| Version: 1.18.0 | 
| Command: rm -rf miRBaseConverter.buildbin-libdir && mkdir miRBaseConverter.buildbin-libdir && C:\Users\biocbuild\bbs-3.14-bioc\R\bin\R.exe CMD INSTALL --merge-multiarch --build --library=miRBaseConverter.buildbin-libdir miRBaseConverter_1.18.0.tar.gz | 
| StartedAt: 2022-04-13 06:37:00 -0400 (Wed, 13 Apr 2022) | 
| EndedAt: 2022-04-13 06:37:19 -0400 (Wed, 13 Apr 2022) | 
| EllapsedTime: 19.4 seconds | 
| RetCode: 0 | 
| Status: OK | 
| PackageFile: miRBaseConverter_1.18.0.zip | 
| PackageFileSize: 2.013 MiB | 
##############################################################################
##############################################################################
###
### Running command:
###
###   rm -rf miRBaseConverter.buildbin-libdir && mkdir miRBaseConverter.buildbin-libdir && C:\Users\biocbuild\bbs-3.14-bioc\R\bin\R.exe CMD INSTALL --merge-multiarch --build --library=miRBaseConverter.buildbin-libdir miRBaseConverter_1.18.0.tar.gz
###
##############################################################################
##############################################################################
install for i386
* installing *source* package 'miRBaseConverter' ...
** using staged installation
** R
** data
*** moving datasets to lazyload DB
** inst
** byte-compile and prepare package for lazy loading
** help
*** installing help indices
  converting help for package 'miRBaseConverter'
    finding HTML links ... done
    checkMiRNAAlive                         html  
    checkMiRNAFamily                        html  
    checkMiRNAVersion                       html  
    getAllMiRNAs                            html  
    getAllSpecies                           html  
    getAllVersionInfo                       html  
    getMiRNAHistory                         html  
    getMiRNASequence                        html  
    getMiRNATable                           html  
    goTo_miRBase                            html  
    goTo_miRNAFamily                        html  
    miRNATest                               html  
    miRNAVersionConvert                     html  
    miRNA_AccessionToName                   html  
    miRNA_MatureToPrecursor                 html  
    miRNA_NameToAccession                   html  
    miRNA_PrecursorToMature                 html  
** building package indices
** installing vignettes
** testing if installed package can be loaded from temporary location
** testing if installed package can be loaded from final location
** testing if installed package keeps a record of temporary installation path
install for x64
* installing *source* package 'miRBaseConverter' ...
** testing if installed package can be loaded
* MD5 sums
packaged installation of 'miRBaseConverter' as miRBaseConverter_1.18.0.zip
* DONE (miRBaseConverter)