| Back to Multiple platform build/check report for BioC 3.14 |
|
This page was generated on 2022-04-13 12:06:52 -0400 (Wed, 13 Apr 2022).
| Hostname | OS | Arch (*) | R version | Installed pkgs |
|---|---|---|---|---|
| nebbiolo2 | Linux (Ubuntu 20.04.4 LTS) | x86_64 | 4.1.3 (2022-03-10) -- "One Push-Up" | 4324 |
| tokay2 | Windows Server 2012 R2 Standard | x64 | 4.1.3 (2022-03-10) -- "One Push-Up" | 4077 |
| machv2 | macOS 10.14.6 Mojave | x86_64 | 4.1.3 (2022-03-10) -- "One Push-Up" | 4137 |
| Click on any hostname to see more info about the system (e.g. compilers) (*) as reported by 'uname -p', except on Windows and Mac OS X | ||||
|
To the developers/maintainers of the metaMS package: - Please allow up to 24 hours (and sometimes 48 hours) for your latest push to git@git.bioconductor.org:packages/metaMS.git to reflect on this report. See How and When does the builder pull? When will my changes propagate? for more information. - Make sure to use the following settings in order to reproduce any error or warning you see on this page. |
| Package 1101/2083 | Hostname | OS / Arch | INSTALL | BUILD | CHECK | BUILD BIN | ||||||||
| metaMS 1.30.0 (landing page) Yann Guitton
| nebbiolo2 | Linux (Ubuntu 20.04.4 LTS) / x86_64 | OK | OK | OK | |||||||||
| tokay2 | Windows Server 2012 R2 Standard / x64 | OK | OK | OK | OK | |||||||||
| machv2 | macOS 10.14.6 Mojave / x86_64 | OK | OK | OK | OK | |||||||||
| Package: metaMS |
| Version: 1.30.0 |
| Command: rm -rf metaMS.buildbin-libdir && mkdir metaMS.buildbin-libdir && C:\Users\biocbuild\bbs-3.14-bioc\R\bin\R.exe CMD INSTALL --merge-multiarch --build --library=metaMS.buildbin-libdir metaMS_1.30.0.tar.gz |
| StartedAt: 2022-04-13 06:34:17 -0400 (Wed, 13 Apr 2022) |
| EndedAt: 2022-04-13 06:35:21 -0400 (Wed, 13 Apr 2022) |
| EllapsedTime: 63.2 seconds |
| RetCode: 0 |
| Status: OK |
| PackageFile: metaMS_1.30.0.zip |
| PackageFileSize: 4.203 MiB |
##############################################################################
##############################################################################
###
### Running command:
###
### rm -rf metaMS.buildbin-libdir && mkdir metaMS.buildbin-libdir && C:\Users\biocbuild\bbs-3.14-bioc\R\bin\R.exe CMD INSTALL --merge-multiarch --build --library=metaMS.buildbin-libdir metaMS_1.30.0.tar.gz
###
##############################################################################
##############################################################################
install for i386
* installing *source* package 'metaMS' ...
** using staged installation
** R
** data
** inst
** byte-compile and prepare package for lazy loading
** help
*** installing help indices
converting help for package 'metaMS'
finding HTML links ... done
AnnotateTable html
FEMsettings html
finding level-2 HTML links ... done
GCresults html
LCDBtest html
LCresults html
addRI html
alignmentLC html
annotations2tab html
constructExpPseudoSpectra html
createSTDdbGC html
createSTDdbLC html
errf html
exptable html
getAnnotationLC html
getAnnotationMat html
getFeatureInfo html
getPeakTable html
match2ExtDB html
matchExpSpec html
matchSamples2DB html
matchSamples2Samples html
metaMS-package html
metaMSsettings-class html
metaSetting-methods html
msp html
peakDetection html
plotPseudoSpectrum html
printString html
processStandards html
readStdInfo html
removeDoubleMasses html
runCAMERA html
runGC html
runLC html
threeStdsDB html
treat.DB html
** building package indices
** installing vignettes
** testing if installed package can be loaded from temporary location
** testing if installed package can be loaded from final location
** testing if installed package keeps a record of temporary installation path
install for x64
* installing *source* package 'metaMS' ...
** testing if installed package can be loaded
* MD5 sums
packaged installation of 'metaMS' as metaMS_1.30.0.zip
* DONE (metaMS)