| Back to Multiple platform build/check report for BioC 3.14 |
|
This page was generated on 2022-04-13 12:06:50 -0400 (Wed, 13 Apr 2022).
| Hostname | OS | Arch (*) | R version | Installed pkgs |
|---|---|---|---|---|
| nebbiolo2 | Linux (Ubuntu 20.04.4 LTS) | x86_64 | 4.1.3 (2022-03-10) -- "One Push-Up" | 4324 |
| tokay2 | Windows Server 2012 R2 Standard | x64 | 4.1.3 (2022-03-10) -- "One Push-Up" | 4077 |
| machv2 | macOS 10.14.6 Mojave | x86_64 | 4.1.3 (2022-03-10) -- "One Push-Up" | 4137 |
| Click on any hostname to see more info about the system (e.g. compilers) (*) as reported by 'uname -p', except on Windows and Mac OS X | ||||
|
To the developers/maintainers of the mbkmeans package: - Please allow up to 24 hours (and sometimes 48 hours) for your latest push to git@git.bioconductor.org:packages/mbkmeans.git to reflect on this report. See How and When does the builder pull? When will my changes propagate? for more information. - Make sure to use the following settings in order to reproduce any error or warning you see on this page. |
| Package 1064/2083 | Hostname | OS / Arch | INSTALL | BUILD | CHECK | BUILD BIN | ||||||||
| mbkmeans 1.10.0 (landing page) Davide Risso
| nebbiolo2 | Linux (Ubuntu 20.04.4 LTS) / x86_64 | OK | OK | OK | |||||||||
| tokay2 | Windows Server 2012 R2 Standard / x64 | OK | OK | OK | OK | |||||||||
| machv2 | macOS 10.14.6 Mojave / x86_64 | OK | OK | OK | OK | |||||||||
| Package: mbkmeans |
| Version: 1.10.0 |
| Command: rm -rf mbkmeans.buildbin-libdir && mkdir mbkmeans.buildbin-libdir && C:\Users\biocbuild\bbs-3.14-bioc\R\bin\R.exe CMD INSTALL --merge-multiarch --build --library=mbkmeans.buildbin-libdir mbkmeans_1.10.0.tar.gz |
| StartedAt: 2022-04-13 06:31:47 -0400 (Wed, 13 Apr 2022) |
| EndedAt: 2022-04-13 06:34:26 -0400 (Wed, 13 Apr 2022) |
| EllapsedTime: 158.5 seconds |
| RetCode: 0 |
| Status: OK |
| PackageFile: mbkmeans_1.10.0.zip |
| PackageFileSize: 1.128 MiB |
##############################################################################
##############################################################################
###
### Running command:
###
### rm -rf mbkmeans.buildbin-libdir && mkdir mbkmeans.buildbin-libdir && C:\Users\biocbuild\bbs-3.14-bioc\R\bin\R.exe CMD INSTALL --merge-multiarch --build --library=mbkmeans.buildbin-libdir mbkmeans_1.10.0.tar.gz
###
##############################################################################
##############################################################################
install for i386
* installing *source* package 'mbkmeans' ...
** using staged installation
** libs
"C:/rtools40/mingw32/bin/"g++ -std=gnu++11 -I"C:/Users/BIOCBU~1/BBS-3~1.14-/R/include" -DNDEBUG -I'C:/Users/biocbuild/bbs-3.14-bioc/R/library/Rcpp/include' -I'C:/Users/biocbuild/bbs-3.14-bioc/R/library/RcppArmadillo/include' -I'C:/Users/biocbuild/bbs-3.14-bioc/R/library/Rhdf5lib/include' -I'C:/Users/biocbuild/bbs-3.14-bioc/R/library/beachmat/include' -I'C:/Users/biocbuild/bbs-3.14-bioc/R/library/ClusterR/include' -I"C:/extsoft/include" -O2 -Wall -mfpmath=sse -msse2 -mstackrealign -c RcppExports.cpp -o RcppExports.o
"C:/rtools40/mingw32/bin/"g++ -std=gnu++11 -I"C:/Users/BIOCBU~1/BBS-3~1.14-/R/include" -DNDEBUG -I'C:/Users/biocbuild/bbs-3.14-bioc/R/library/Rcpp/include' -I'C:/Users/biocbuild/bbs-3.14-bioc/R/library/RcppArmadillo/include' -I'C:/Users/biocbuild/bbs-3.14-bioc/R/library/Rhdf5lib/include' -I'C:/Users/biocbuild/bbs-3.14-bioc/R/library/beachmat/include' -I'C:/Users/biocbuild/bbs-3.14-bioc/R/library/ClusterR/include' -I"C:/extsoft/include" -O2 -Wall -mfpmath=sse -msse2 -mstackrealign -c mini_batch.cpp -o mini_batch.o
In file included from mini_batch.cpp:3:
C:/Users/biocbuild/bbs-3.14-bioc/R/library/ClusterR/include/ClusterRHeader.h: In member function 'arma::mat clustR::ClustHeader::KMEANS_arma(arma::mat&, int, int, bool, std::__cxx11::string, Rcpp::Nullable<Rcpp::Matrix<14> >, int)':
C:/Users/biocbuild/bbs-3.14-bioc/R/library/ClusterR/include/ClusterRHeader.h:926:14: warning: variable 'status' set but not used [-Wunused-but-set-variable]
bool status;
^~~~~~
C:/Users/biocbuild/bbs-3.14-bioc/R/library/ClusterR/include/ClusterRHeader.h: In member function 'Rcpp::List clustR::ClustHeader::GMM_arma(arma::mat&, int, std::__cxx11::string, std::__cxx11::string, int, int, bool, double, int)':
C:/Users/biocbuild/bbs-3.14-bioc/R/library/ClusterR/include/ClusterRHeader.h:1522:14: warning: variable 'status' set but not used [-Wunused-but-set-variable]
bool status;
^~~~~~
C:/rtools40/mingw32/bin/g++ -shared -s -static-libgcc -o mbkmeans.dll tmp.def RcppExports.o mini_batch.o -LC:/extsoft/lib/i386 -LC:/extsoft/lib -LC:/Users/BIOCBU~1/BBS-3~1.14-/R/bin/i386 -lR
installing to C:/Users/biocbuild/bbs-3.14-bioc/meat/mbkmeans.buildbin-libdir/00LOCK-mbkmeans/00new/mbkmeans/libs/i386
** R
** inst
** byte-compile and prepare package for lazy loading
** help
*** installing help indices
converting help for package 'mbkmeans'
finding HTML links ... done
MbkmeansParam html
blocksize html
clusterRows html
compute_wcss html
mbkmeans html
mini_batch html
predict_mini_batch html
predict_mini_batch_r html
** building package indices
** installing vignettes
** testing if installed package can be loaded from temporary location
** testing if installed package can be loaded from final location
** testing if installed package keeps a record of temporary installation path
install for x64
* installing *source* package 'mbkmeans' ...
** libs
"C:/rtools40/mingw64/bin/"g++ -std=gnu++11 -I"C:/Users/BIOCBU~1/BBS-3~1.14-/R/include" -DNDEBUG -I'C:/Users/biocbuild/bbs-3.14-bioc/R/library/Rcpp/include' -I'C:/Users/biocbuild/bbs-3.14-bioc/R/library/RcppArmadillo/include' -I'C:/Users/biocbuild/bbs-3.14-bioc/R/library/Rhdf5lib/include' -I'C:/Users/biocbuild/bbs-3.14-bioc/R/library/beachmat/include' -I'C:/Users/biocbuild/bbs-3.14-bioc/R/library/ClusterR/include' -I"C:/extsoft/include" -O2 -Wall -mfpmath=sse -msse2 -mstackrealign -c RcppExports.cpp -o RcppExports.o
"C:/rtools40/mingw64/bin/"g++ -std=gnu++11 -I"C:/Users/BIOCBU~1/BBS-3~1.14-/R/include" -DNDEBUG -I'C:/Users/biocbuild/bbs-3.14-bioc/R/library/Rcpp/include' -I'C:/Users/biocbuild/bbs-3.14-bioc/R/library/RcppArmadillo/include' -I'C:/Users/biocbuild/bbs-3.14-bioc/R/library/Rhdf5lib/include' -I'C:/Users/biocbuild/bbs-3.14-bioc/R/library/beachmat/include' -I'C:/Users/biocbuild/bbs-3.14-bioc/R/library/ClusterR/include' -I"C:/extsoft/include" -O2 -Wall -mfpmath=sse -msse2 -mstackrealign -c mini_batch.cpp -o mini_batch.o
In file included from mini_batch.cpp:3:
C:/Users/biocbuild/bbs-3.14-bioc/R/library/ClusterR/include/ClusterRHeader.h: In member function 'arma::mat clustR::ClustHeader::KMEANS_arma(arma::mat&, int, int, bool, std::__cxx11::string, Rcpp::Nullable<Rcpp::Matrix<14> >, int)':
C:/Users/biocbuild/bbs-3.14-bioc/R/library/ClusterR/include/ClusterRHeader.h:926:14: warning: variable 'status' set but not used [-Wunused-but-set-variable]
bool status;
^~~~~~
C:/Users/biocbuild/bbs-3.14-bioc/R/library/ClusterR/include/ClusterRHeader.h: In member function 'Rcpp::List clustR::ClustHeader::GMM_arma(arma::mat&, int, std::__cxx11::string, std::__cxx11::string, int, int, bool, double, int)':
C:/Users/biocbuild/bbs-3.14-bioc/R/library/ClusterR/include/ClusterRHeader.h:1522:14: warning: variable 'status' set but not used [-Wunused-but-set-variable]
bool status;
^~~~~~
C:/rtools40/mingw64/bin/g++ -shared -s -static-libgcc -o mbkmeans.dll tmp.def RcppExports.o mini_batch.o -LC:/extsoft/lib/x64 -LC:/extsoft/lib -LC:/Users/BIOCBU~1/BBS-3~1.14-/R/bin/x64 -lR
installing to C:/Users/biocbuild/bbs-3.14-bioc/meat/mbkmeans.buildbin-libdir/mbkmeans/libs/x64
** testing if installed package can be loaded
* MD5 sums
packaged installation of 'mbkmeans' as mbkmeans_1.10.0.zip
* DONE (mbkmeans)