| Back to Multiple platform build/check report for BioC 3.14 | 
 | 
This page was generated on 2022-04-13 12:08:10 -0400 (Wed, 13 Apr 2022).
| Hostname | OS | Arch (*) | R version | Installed pkgs | 
|---|---|---|---|---|
| nebbiolo2 | Linux (Ubuntu 20.04.4 LTS) | x86_64 | 4.1.3 (2022-03-10) -- "One Push-Up" | 4324 | 
| tokay2 | Windows Server 2012 R2 Standard | x64 | 4.1.3 (2022-03-10) -- "One Push-Up" | 4077 | 
| machv2 | macOS 10.14.6 Mojave | x86_64 | 4.1.3 (2022-03-10) -- "One Push-Up" | 4137 | 
| Click on any hostname to see more info about the system (e.g. compilers) (*) as reported by 'uname -p', except on Windows and Mac OS X | ||||
| To the developers/maintainers of the idr2d package: - Please allow up to 24 hours (and sometimes 48 hours) for your latest push to git@git.bioconductor.org:packages/idr2d.git to reflect on this report. See How and When does the builder pull? When will my changes propagate? for more information. - Make sure to use the following settings in order to reproduce any error or warning you see on this page. | 
| Package 914/2083 | Hostname | OS / Arch | INSTALL | BUILD | CHECK | BUILD BIN | ||||||||
| idr2d 1.8.1  (landing page) Konstantin Krismer 
 | nebbiolo2 | Linux (Ubuntu 20.04.4 LTS) / x86_64 | OK | OK | OK |  | ||||||||
| tokay2 | Windows Server 2012 R2 Standard / x64 | OK | OK | OK | OK |  | ||||||||
| machv2 | macOS 10.14.6 Mojave / x86_64 | OK | OK | OK | OK |  | ||||||||
| Package: idr2d | 
| Version: 1.8.1 | 
| Command: /Library/Frameworks/R.framework/Resources/bin/R CMD check --install=check:idr2d.install-out.txt --library=/Library/Frameworks/R.framework/Resources/library --no-vignettes --timings idr2d_1.8.1.tar.gz | 
| StartedAt: 2022-04-12 14:24:41 -0400 (Tue, 12 Apr 2022) | 
| EndedAt: 2022-04-12 14:29:39 -0400 (Tue, 12 Apr 2022) | 
| EllapsedTime: 297.4 seconds | 
| RetCode: 0 | 
| Status: OK | 
| CheckDir: idr2d.Rcheck | 
| Warnings: 0 | 
##############################################################################
##############################################################################
###
### Running command:
###
###   /Library/Frameworks/R.framework/Resources/bin/R CMD check --install=check:idr2d.install-out.txt --library=/Library/Frameworks/R.framework/Resources/library --no-vignettes --timings idr2d_1.8.1.tar.gz
###
##############################################################################
##############################################################################
* using log directory ‘/Users/biocbuild/bbs-3.14-bioc/meat/idr2d.Rcheck’
* using R version 4.1.3 (2022-03-10)
* using platform: x86_64-apple-darwin17.0 (64-bit)
* using session charset: UTF-8
* using option ‘--no-vignettes’
* checking for file ‘idr2d/DESCRIPTION’ ... OK
* this is package ‘idr2d’ version ‘1.8.1’
* package encoding: UTF-8
* checking package namespace information ... OK
* checking package dependencies ... OK
* checking if this is a source package ... OK
* checking if there is a namespace ... OK
* checking for hidden files and directories ... OK
* checking for portable file names ... OK
* checking for sufficient/correct file permissions ... OK
* checking whether package ‘idr2d’ can be installed ... OK
* checking installed package size ... OK
* checking package directory ... OK
* checking ‘build’ directory ... OK
* checking DESCRIPTION meta-information ... OK
* checking top-level files ... OK
* checking for left-over files ... OK
* checking index information ... OK
* checking package subdirectories ... OK
* checking R files for non-ASCII characters ... OK
* checking R files for syntax errors ... OK
* checking whether the package can be loaded ... OK
* checking whether the package can be loaded with stated dependencies ... OK
* checking whether the package can be unloaded cleanly ... OK
* checking whether the namespace can be loaded with stated dependencies ... OK
* checking whether the namespace can be unloaded cleanly ... OK
* checking dependencies in R code ... OK
* checking S3 generic/method consistency ... OK
* checking replacement functions ... OK
* checking foreign function calls ... OK
* checking R code for possible problems ... OK
* checking Rd files ... OK
* checking Rd metadata ... OK
* checking Rd cross-references ... OK
* checking for missing documentation entries ... OK
* checking for code/documentation mismatches ... OK
* checking Rd \usage sections ... OK
* checking Rd contents ... OK
* checking for unstated dependencies in examples ... OK
* checking contents of ‘data’ directory ... OK
* checking data for non-ASCII characters ... OK
* checking data for ASCII and uncompressed saves ... OK
* checking files in ‘vignettes’ ... OK
* checking examples ... OK
Examples with CPU (user + system) or elapsed time > 5s
                      user system elapsed
estimate_idr2d       8.864  0.580   9.453
estimate_idr         8.523  0.656   9.187
draw_hic_contact_map 4.992  0.509   5.503
* checking for unstated dependencies in ‘tests’ ... OK
* checking tests ...
  Running ‘testthat.R’
 OK
* checking for unstated dependencies in vignettes ... OK
* checking package vignettes in ‘inst/doc’ ... OK
* checking running R code from vignettes ... SKIPPED
* checking re-building of vignette outputs ... SKIPPED
* checking PDF version of manual ... OK
* DONE
Status: OK
idr2d.Rcheck/00install.out
############################################################################## ############################################################################## ### ### Running command: ### ### /Library/Frameworks/R.framework/Resources/bin/R CMD INSTALL idr2d ### ############################################################################## ############################################################################## * installing to library ‘/Library/Frameworks/R.framework/Versions/4.1/Resources/library’ * installing *source* package ‘idr2d’ ... ** using staged installation ** R ** data ** inst ** byte-compile and prepare package for lazy loading ** help *** installing help indices ** building package indices ** installing vignettes ** testing if installed package can be loaded from temporary location ** testing if installed package can be loaded from final location ** testing if installed package keeps a record of temporary installation path * DONE (idr2d)
idr2d.Rcheck/tests/testthat.Rout
R version 4.1.3 (2022-03-10) -- "One Push-Up"
Copyright (C) 2022 The R Foundation for Statistical Computing
Platform: x86_64-apple-darwin17.0 (64-bit)
R is free software and comes with ABSOLUTELY NO WARRANTY.
You are welcome to redistribute it under certain conditions.
Type 'license()' or 'licence()' for distribution details.
R is a collaborative project with many contributors.
Type 'contributors()' for more information and
'citation()' on how to cite R or R packages in publications.
Type 'demo()' for some demos, 'help()' for on-line help, or
'help.start()' for an HTML browser interface to help.
Type 'q()' to quit R.
> library(testthat)
> library(idr2d)
> 
> test_check("idr2d")
[ FAIL 0 | WARN 0 | SKIP 0 | PASS 132 ]
> 
> proc.time()
   user  system elapsed 
 81.874   6.084  87.937 
idr2d.Rcheck/idr2d-Ex.timings
| name | user | system | elapsed | |
| calculate_midpoint_distance1d | 0.000 | 0.001 | 0.001 | |
| calculate_midpoint_distance2d | 0.001 | 0.001 | 0.002 | |
| calculate_relative_overlap1d | 0.002 | 0.001 | 0.002 | |
| calculate_relative_overlap2d | 0.002 | 0.001 | 0.003 | |
| determine_anchor_overlap | 0.496 | 0.006 | 0.502 | |
| draw_hic_contact_map | 4.992 | 0.509 | 5.503 | |
| draw_idr_distribution_histogram | 2.388 | 0.116 | 2.525 | |
| draw_rank_idr_scatterplot | 1.982 | 0.105 | 2.088 | |
| draw_value_idr_scatterplot | 2.170 | 0.116 | 2.289 | |
| establish_bijection | 0.417 | 0.007 | 0.424 | |
| establish_bijection1d | 0.398 | 0.007 | 0.406 | |
| establish_bijection2d | 3.016 | 0.045 | 3.062 | |
| establish_overlap1d | 0.201 | 0.005 | 0.206 | |
| establish_overlap2d | 0.523 | 0.007 | 0.531 | |
| estimate_idr | 8.523 | 0.656 | 9.187 | |
| estimate_idr1d | 1.925 | 0.091 | 2.018 | |
| estimate_idr2d | 8.864 | 0.580 | 9.453 | |
| estimate_idr2d_hic | 4.143 | 0.388 | 4.534 | |
| preprocess | 0.003 | 0.000 | 0.004 | |
| remove_nonstandard_chromosomes1d | 0.252 | 0.013 | 0.266 | |
| remove_nonstandard_chromosomes2d | 0.561 | 0.033 | 0.594 | |