| Back to Multiple platform build/check report for BioC 3.14 |
|
This page was generated on 2022-04-13 12:06:40 -0400 (Wed, 13 Apr 2022).
| Hostname | OS | Arch (*) | R version | Installed pkgs |
|---|---|---|---|---|
| nebbiolo2 | Linux (Ubuntu 20.04.4 LTS) | x86_64 | 4.1.3 (2022-03-10) -- "One Push-Up" | 4324 |
| tokay2 | Windows Server 2012 R2 Standard | x64 | 4.1.3 (2022-03-10) -- "One Push-Up" | 4077 |
| machv2 | macOS 10.14.6 Mojave | x86_64 | 4.1.3 (2022-03-10) -- "One Push-Up" | 4137 |
| Click on any hostname to see more info about the system (e.g. compilers) (*) as reported by 'uname -p', except on Windows and Mac OS X | ||||
|
To the developers/maintainers of the granulator package: - Please allow up to 24 hours (and sometimes 48 hours) for your latest push to git@git.bioconductor.org:packages/granulator.git to reflect on this report. See How and When does the builder pull? When will my changes propagate? for more information. - Make sure to use the following settings in order to reproduce any error or warning you see on this page. |
| Package 816/2083 | Hostname | OS / Arch | INSTALL | BUILD | CHECK | BUILD BIN | ||||||||
| granulator 1.2.0 (landing page) Sabina Pfister
| nebbiolo2 | Linux (Ubuntu 20.04.4 LTS) / x86_64 | OK | OK | OK | |||||||||
| tokay2 | Windows Server 2012 R2 Standard / x64 | OK | OK | OK | OK | |||||||||
| machv2 | macOS 10.14.6 Mojave / x86_64 | OK | OK | OK | OK | |||||||||
| Package: granulator |
| Version: 1.2.0 |
| Command: rm -rf granulator.buildbin-libdir && mkdir granulator.buildbin-libdir && C:\Users\biocbuild\bbs-3.14-bioc\R\bin\R.exe CMD INSTALL --merge-multiarch --build --library=granulator.buildbin-libdir granulator_1.2.0.tar.gz |
| StartedAt: 2022-04-13 06:22:02 -0400 (Wed, 13 Apr 2022) |
| EndedAt: 2022-04-13 06:22:26 -0400 (Wed, 13 Apr 2022) |
| EllapsedTime: 23.9 seconds |
| RetCode: 0 |
| Status: OK |
| PackageFile: granulator_1.2.0.zip |
| PackageFileSize: 944.6 KiB |
##############################################################################
##############################################################################
###
### Running command:
###
### rm -rf granulator.buildbin-libdir && mkdir granulator.buildbin-libdir && C:\Users\biocbuild\bbs-3.14-bioc\R\bin\R.exe CMD INSTALL --merge-multiarch --build --library=granulator.buildbin-libdir granulator_1.2.0.tar.gz
###
##############################################################################
##############################################################################
install for i386
* installing *source* package 'granulator' ...
** using staged installation
** R
** data
** inst
** byte-compile and prepare package for lazy loading
** help
*** installing help indices
converting help for package 'granulator'
finding HTML links ... done
benchmark html
bulkRNAseq_ABIS html
correlate html
deconvolute html
get_TPM html
get_decon_methods html
groundTruth_ABIS html
load_ABIS html
plot_benchmark html
plot_correlate html
plot_deconvolute html
plot_proportions html
plot_regress html
plot_similarity html
sigMatrix_ABIS_S0 html
sigMatrix_ABIS_S1 html
sigMatrix_ABIS_S2 html
sigMatrix_ABIS_S3 html
** building package indices
** installing vignettes
** testing if installed package can be loaded from temporary location
** testing if installed package can be loaded from final location
** testing if installed package keeps a record of temporary installation path
install for x64
* installing *source* package 'granulator' ...
** testing if installed package can be loaded
* MD5 sums
packaged installation of 'granulator' as granulator_1.2.0.zip
* DONE (granulator)