| Back to Multiple platform build/check report for BioC 3.14 |
|
This page was generated on 2022-04-13 12:06:33 -0400 (Wed, 13 Apr 2022).
| Hostname | OS | Arch (*) | R version | Installed pkgs |
|---|---|---|---|---|
| nebbiolo2 | Linux (Ubuntu 20.04.4 LTS) | x86_64 | 4.1.3 (2022-03-10) -- "One Push-Up" | 4324 |
| tokay2 | Windows Server 2012 R2 Standard | x64 | 4.1.3 (2022-03-10) -- "One Push-Up" | 4077 |
| machv2 | macOS 10.14.6 Mojave | x86_64 | 4.1.3 (2022-03-10) -- "One Push-Up" | 4137 |
| Click on any hostname to see more info about the system (e.g. compilers) (*) as reported by 'uname -p', except on Windows and Mac OS X | ||||
|
To the developers/maintainers of the flagme package: - Please allow up to 24 hours (and sometimes 48 hours) for your latest push to git@git.bioconductor.org:packages/flagme.git to reflect on this report. See How and When does the builder pull? When will my changes propagate? for more information. - Make sure to use the following settings in order to reproduce any error or warning you see on this page. |
| Package 647/2083 | Hostname | OS / Arch | INSTALL | BUILD | CHECK | BUILD BIN | ||||||||
| flagme 1.50.0 (landing page) Mark Robinson
| nebbiolo2 | Linux (Ubuntu 20.04.4 LTS) / x86_64 | OK | OK | WARNINGS | |||||||||
| tokay2 | Windows Server 2012 R2 Standard / x64 | OK | OK | WARNINGS | OK | |||||||||
| machv2 | macOS 10.14.6 Mojave / x86_64 | OK | OK | WARNINGS | OK | |||||||||
| Package: flagme |
| Version: 1.50.0 |
| Command: rm -rf flagme.buildbin-libdir && mkdir flagme.buildbin-libdir && C:\Users\biocbuild\bbs-3.14-bioc\R\bin\R.exe CMD INSTALL --merge-multiarch --build --library=flagme.buildbin-libdir flagme_1.50.0.tar.gz |
| StartedAt: 2022-04-13 06:13:10 -0400 (Wed, 13 Apr 2022) |
| EndedAt: 2022-04-13 06:14:27 -0400 (Wed, 13 Apr 2022) |
| EllapsedTime: 76.7 seconds |
| RetCode: 0 |
| Status: OK |
| PackageFile: flagme_1.50.0.zip |
| PackageFileSize: 984.4 KiB |
##############################################################################
##############################################################################
###
### Running command:
###
### rm -rf flagme.buildbin-libdir && mkdir flagme.buildbin-libdir && C:\Users\biocbuild\bbs-3.14-bioc\R\bin\R.exe CMD INSTALL --merge-multiarch --build --library=flagme.buildbin-libdir flagme_1.50.0.tar.gz
###
##############################################################################
##############################################################################
install for i386
* installing *source* package 'flagme' ...
** using staged installation
** libs
"C:/rtools40/mingw32/bin/"gcc -I"C:/Users/BIOCBU~1/BBS-3~1.14-/R/include" -DNDEBUG -I"C:/extsoft/include" -O2 -Wall -std=gnu99 -mfpmath=sse -msse2 -mstackrealign -c dp.c -o dp.o
dp.c: In function 'dp':
dp.c:263:26: warning: 'cur_min' may be used uninitialized in this function [-Wmaybe-uninitialized]
D[(i+1)+(j+1)*(nr+1)] = cur_min;
~~~~~~~~~~~~~~~~~~~~~~^~~~~~~~~
dp.c:264:28: warning: 'tb' may be used uninitialized in this function [-Wmaybe-uninitialized]
phi[(i+1)+(j+1)*(nr+1)] = tb;
~~~~~~~~~~~~~~~~~~~~~~~~^~~~
"C:/rtools40/mingw32/bin/"gcc -I"C:/Users/BIOCBU~1/BBS-3~1.14-/R/include" -DNDEBUG -I"C:/extsoft/include" -O2 -Wall -std=gnu99 -mfpmath=sse -msse2 -mstackrealign -c init.c -o init.o
"C:/rtools40/mingw32/bin/"gcc -I"C:/Users/BIOCBU~1/BBS-3~1.14-/R/include" -DNDEBUG -I"C:/extsoft/include" -O2 -Wall -std=gnu99 -mfpmath=sse -msse2 -mstackrealign -c pearson.c -o pearson.o
C:/rtools40/mingw32/bin/gcc -shared -s -static-libgcc -o flagme.dll tmp.def dp.o init.o pearson.o -LC:/extsoft/lib/i386 -LC:/extsoft/lib -LC:/Users/BIOCBU~1/BBS-3~1.14-/R/bin/i386 -lR
installing to C:/Users/biocbuild/bbs-3.14-bioc/meat/flagme.buildbin-libdir/00LOCK-flagme/00new/flagme/libs/i386
** R
** inst
** byte-compile and prepare package for lazy loading
** help
*** installing help indices
converting help for package 'flagme'
finding HTML links ... done
addAMDISPeaks html
addChromaTOFPeaks html
addXCMSPeaks html
finding level-2 HTML links ... done
betweenAlignment html
calcTimeDiffs html
clusterAlignment html
compress html
corPrt html
dp html
dynRT html
eitherMatrix html
exportSpectra html
gatherInfo html
imputePeaks html
multipleAlignment html
ndpRT html
normDotProduct html
parseChromaTOF html
parseELU html
peaksAlignment html
peaksDataset html
plot html
plotImage html
plotMultipleSpectra html
plotSpectra html
progressiveAlignment html
retFatMatrix html
rmaFitUnit html
** building package indices
** installing vignettes
** testing if installed package can be loaded from temporary location
** testing if installed package can be loaded from final location
** testing if installed package keeps a record of temporary installation path
install for x64
* installing *source* package 'flagme' ...
** libs
"C:/rtools40/mingw64/bin/"gcc -I"C:/Users/BIOCBU~1/BBS-3~1.14-/R/include" -DNDEBUG -I"C:/extsoft/include" -O2 -Wall -std=gnu99 -mfpmath=sse -msse2 -mstackrealign -c dp.c -o dp.o
dp.c: In function 'dp':
dp.c:263:26: warning: 'cur_min' may be used uninitialized in this function [-Wmaybe-uninitialized]
D[(i+1)+(j+1)*(nr+1)] = cur_min;
~~~~~~~~~~~~~~~~~~~~~~^~~~~~~~~
dp.c:264:28: warning: 'tb' may be used uninitialized in this function [-Wmaybe-uninitialized]
phi[(i+1)+(j+1)*(nr+1)] = tb;
~~~~~~~~~~~~~~~~~~~~~~~~^~~~
"C:/rtools40/mingw64/bin/"gcc -I"C:/Users/BIOCBU~1/BBS-3~1.14-/R/include" -DNDEBUG -I"C:/extsoft/include" -O2 -Wall -std=gnu99 -mfpmath=sse -msse2 -mstackrealign -c init.c -o init.o
"C:/rtools40/mingw64/bin/"gcc -I"C:/Users/BIOCBU~1/BBS-3~1.14-/R/include" -DNDEBUG -I"C:/extsoft/include" -O2 -Wall -std=gnu99 -mfpmath=sse -msse2 -mstackrealign -c pearson.c -o pearson.o
C:/rtools40/mingw64/bin/gcc -shared -s -static-libgcc -o flagme.dll tmp.def dp.o init.o pearson.o -LC:/extsoft/lib/x64 -LC:/extsoft/lib -LC:/Users/BIOCBU~1/BBS-3~1.14-/R/bin/x64 -lR
installing to C:/Users/biocbuild/bbs-3.14-bioc/meat/flagme.buildbin-libdir/flagme/libs/x64
** testing if installed package can be loaded
* MD5 sums
packaged installation of 'flagme' as flagme_1.50.0.zip
* DONE (flagme)