| Back to Multiple platform build/check report for BioC 3.14 |
|
This page was generated on 2022-04-13 12:06:29 -0400 (Wed, 13 Apr 2022).
| Hostname | OS | Arch (*) | R version | Installed pkgs |
|---|---|---|---|---|
| nebbiolo2 | Linux (Ubuntu 20.04.4 LTS) | x86_64 | 4.1.3 (2022-03-10) -- "One Push-Up" | 4324 |
| tokay2 | Windows Server 2012 R2 Standard | x64 | 4.1.3 (2022-03-10) -- "One Push-Up" | 4077 |
| machv2 | macOS 10.14.6 Mojave | x86_64 | 4.1.3 (2022-03-10) -- "One Push-Up" | 4137 |
| Click on any hostname to see more info about the system (e.g. compilers) (*) as reported by 'uname -p', except on Windows and Mac OS X | ||||
|
To the developers/maintainers of the ecolitk package: - Please allow up to 24 hours (and sometimes 48 hours) for your latest push to git@git.bioconductor.org:packages/ecolitk.git to reflect on this report. See How and When does the builder pull? When will my changes propagate? for more information. - Make sure to use the following settings in order to reproduce any error or warning you see on this page. |
| Package 563/2083 | Hostname | OS / Arch | INSTALL | BUILD | CHECK | BUILD BIN | ||||||||
| ecolitk 1.66.0 (landing page) Laurent Gautier
| nebbiolo2 | Linux (Ubuntu 20.04.4 LTS) / x86_64 | OK | OK | WARNINGS | |||||||||
| tokay2 | Windows Server 2012 R2 Standard / x64 | OK | OK | WARNINGS | OK | |||||||||
| machv2 | macOS 10.14.6 Mojave / x86_64 | OK | OK | WARNINGS | OK | |||||||||
| Package: ecolitk |
| Version: 1.66.0 |
| Command: C:\cygwin\bin\curl.exe -O http://155.52.207.166/BBS/3.14/bioc/src/contrib/ecolitk_1.66.0.tar.gz && rm -rf ecolitk.buildbin-libdir && mkdir ecolitk.buildbin-libdir && C:\Users\biocbuild\bbs-3.14-bioc\R\bin\R.exe CMD INSTALL --merge-multiarch --build --library=ecolitk.buildbin-libdir ecolitk_1.66.0.tar.gz && C:\Users\biocbuild\bbs-3.14-bioc\R\bin\R.exe CMD INSTALL ecolitk_1.66.0.zip && rm ecolitk_1.66.0.tar.gz ecolitk_1.66.0.zip |
| StartedAt: 2022-04-12 04:27:58 -0400 (Tue, 12 Apr 2022) |
| EndedAt: 2022-04-12 04:28:57 -0400 (Tue, 12 Apr 2022) |
| EllapsedTime: 58.9 seconds |
| RetCode: 0 |
| Status: OK |
##############################################################################
##############################################################################
###
### Running command:
###
### C:\cygwin\bin\curl.exe -O http://155.52.207.166/BBS/3.14/bioc/src/contrib/ecolitk_1.66.0.tar.gz && rm -rf ecolitk.buildbin-libdir && mkdir ecolitk.buildbin-libdir && C:\Users\biocbuild\bbs-3.14-bioc\R\bin\R.exe CMD INSTALL --merge-multiarch --build --library=ecolitk.buildbin-libdir ecolitk_1.66.0.tar.gz && C:\Users\biocbuild\bbs-3.14-bioc\R\bin\R.exe CMD INSTALL ecolitk_1.66.0.zip && rm ecolitk_1.66.0.tar.gz ecolitk_1.66.0.zip
###
##############################################################################
##############################################################################
% Total % Received % Xferd Average Speed Time Time Time Current
Dload Upload Total Spent Left Speed
0 0 0 0 0 0 0 0 --:--:-- --:--:-- --:--:-- 0
27 1559k 27 425k 0 0 510k 0 0:00:03 --:--:-- 0:00:03 509k
100 1559k 100 1559k 0 0 920k 0 0:00:01 0:00:01 --:--:-- 920k
install for i386
* installing *source* package 'ecolitk' ...
** using staged installation
** R
** data
** byte-compile and prepare package for lazy loading
Note: possible error in 'strsplit(line, "\t", ': unused argument (extended = TRUE)
** help
*** installing help indices
converting help for package 'ecolitk'
finding HTML links ... done
ecoli.data html
ecoligenome.operon html
ecoligenomeBNUM html
ecoligenomeBNUM2MULTIFUN html
gccontent html
linkedmultiget html
multiFun html
pointsCircle html
polar2xy html
polygonChrom html
wstringapply html
** building package indices
** installing vignettes
** testing if installed package can be loaded from temporary location
** testing if installed package can be loaded from final location
** testing if installed package keeps a record of temporary installation path
install for x64
* installing *source* package 'ecolitk' ...
** testing if installed package can be loaded
* MD5 sums
packaged installation of 'ecolitk' as ecolitk_1.66.0.zip
* DONE (ecolitk)
* installing to library 'C:/Users/biocbuild/bbs-3.14-bioc/R/library'
package 'ecolitk' successfully unpacked and MD5 sums checked