| Back to Multiple platform build/check report for BioC 3.14 |
|
This page was generated on 2022-04-13 12:06:25 -0400 (Wed, 13 Apr 2022).
| Hostname | OS | Arch (*) | R version | Installed pkgs |
|---|---|---|---|---|
| nebbiolo2 | Linux (Ubuntu 20.04.4 LTS) | x86_64 | 4.1.3 (2022-03-10) -- "One Push-Up" | 4324 |
| tokay2 | Windows Server 2012 R2 Standard | x64 | 4.1.3 (2022-03-10) -- "One Push-Up" | 4077 |
| machv2 | macOS 10.14.6 Mojave | x86_64 | 4.1.3 (2022-03-10) -- "One Push-Up" | 4137 |
| Click on any hostname to see more info about the system (e.g. compilers) (*) as reported by 'uname -p', except on Windows and Mac OS X | ||||
|
To the developers/maintainers of the debCAM package: - Please allow up to 24 hours (and sometimes 48 hours) for your latest push to git@git.bioconductor.org:packages/debCAM.git to reflect on this report. See How and When does the builder pull? When will my changes propagate? for more information. - Make sure to use the following settings in order to reproduce any error or warning you see on this page. |
| Package 459/2083 | Hostname | OS / Arch | INSTALL | BUILD | CHECK | BUILD BIN | ||||||||
| debCAM 1.12.0 (landing page) Lulu Chen
| nebbiolo2 | Linux (Ubuntu 20.04.4 LTS) / x86_64 | OK | OK | OK | |||||||||
| tokay2 | Windows Server 2012 R2 Standard / x64 | OK | OK | OK | OK | |||||||||
| machv2 | macOS 10.14.6 Mojave / x86_64 | OK | OK | OK | OK | |||||||||
| Package: debCAM |
| Version: 1.12.0 |
| Command: C:\Users\biocbuild\bbs-3.14-bioc\R\bin\R.exe --arch x64 CMD check --no-multiarch --install=check:debCAM.install-out.txt --library=C:\Users\biocbuild\bbs-3.14-bioc\R\library --no-vignettes --timings debCAM_1.12.0.tar.gz |
| StartedAt: 2022-04-12 18:16:36 -0400 (Tue, 12 Apr 2022) |
| EndedAt: 2022-04-12 18:20:09 -0400 (Tue, 12 Apr 2022) |
| EllapsedTime: 212.5 seconds |
| RetCode: 0 |
| Status: OK |
| CheckDir: debCAM.Rcheck |
| Warnings: 0 |
##############################################################################
##############################################################################
###
### Running command:
###
### C:\Users\biocbuild\bbs-3.14-bioc\R\bin\R.exe --arch x64 CMD check --no-multiarch --install=check:debCAM.install-out.txt --library=C:\Users\biocbuild\bbs-3.14-bioc\R\library --no-vignettes --timings debCAM_1.12.0.tar.gz
###
##############################################################################
##############################################################################
* using log directory 'C:/Users/biocbuild/bbs-3.14-bioc/meat/debCAM.Rcheck'
* using R version 4.1.3 (2022-03-10)
* using platform: x86_64-w64-mingw32 (64-bit)
* using session charset: ISO8859-1
* using option '--no-vignettes'
* checking for file 'debCAM/DESCRIPTION' ... OK
* checking extension type ... Package
* this is package 'debCAM' version '1.12.0'
* package encoding: UTF-8
* checking package namespace information ... OK
* checking package dependencies ... OK
* checking if this is a source package ... OK
* checking if there is a namespace ... OK
* checking for hidden files and directories ... NOTE
Found the following hidden files and directories:
.BBSoptions
These were most likely included in error. See section 'Package
structure' in the 'Writing R Extensions' manual.
* checking for portable file names ... OK
* checking whether package 'debCAM' can be installed ... OK
* checking installed package size ... OK
* checking package directory ... OK
* checking 'build' directory ... OK
* checking DESCRIPTION meta-information ... OK
* checking top-level files ... OK
* checking for left-over files ... OK
* checking index information ... OK
* checking package subdirectories ... OK
* checking R files for non-ASCII characters ... OK
* checking R files for syntax errors ... OK
* checking whether the package can be loaded ... OK
* checking whether the package can be loaded with stated dependencies ... OK
* checking whether the package can be unloaded cleanly ... OK
* checking whether the namespace can be loaded with stated dependencies ... OK
* checking whether the namespace can be unloaded cleanly ... OK
* checking dependencies in R code ... OK
* checking S3 generic/method consistency ... OK
* checking replacement functions ... OK
* checking foreign function calls ... OK
* checking R code for possible problems ... OK
* checking Rd files ... OK
* checking Rd metadata ... OK
* checking Rd cross-references ... OK
* checking for missing documentation entries ... OK
* checking for code/documentation mismatches ... OK
* checking Rd \usage sections ... OK
* checking Rd contents ... OK
* checking for unstated dependencies in examples ... OK
* checking contents of 'data' directory ... OK
* checking data for non-ASCII characters ... OK
* checking data for ASCII and uncompressed saves ... OK
* checking files in 'vignettes' ... OK
* checking examples ... OK
Examples with CPU (user + system) or elapsed time > 5s
user system elapsed
MGsforA 21.57 0.05 21.61
redoASest 12.17 0.08 12.25
reselectMG 11.79 0.09 11.88
CAM 11.56 0.08 11.65
AS-accessor 11.36 0.10 11.81
CAMASest 11.10 0.03 11.13
PCAmat 10.96 0.05 11.00
CAMMGCluster 10.61 0.06 10.67
CAMPrep 10.43 0.06 10.50
XWProj 5.14 0.03 5.17
* checking for unstated dependencies in 'tests' ... OK
* checking tests ...
Running 'testthat.R'
OK
* checking for unstated dependencies in vignettes ... OK
* checking package vignettes in 'inst/doc' ... OK
* checking running R code from vignettes ... SKIPPED
* checking re-building of vignette outputs ... SKIPPED
* checking PDF version of manual ... OK
* DONE
Status: 1 NOTE
See
'C:/Users/biocbuild/bbs-3.14-bioc/meat/debCAM.Rcheck/00check.log'
for details.
debCAM.Rcheck/00install.out
##############################################################################
##############################################################################
###
### Running command:
###
### C:\Users\biocbuild\bbs-3.14-bioc\R\bin\R.exe --arch x64 CMD INSTALL --no-multiarch debCAM
###
##############################################################################
##############################################################################
* installing to library 'C:/Users/biocbuild/bbs-3.14-bioc/R/library'
* installing *source* package 'debCAM' ...
** using staged installation
** R
** data
** inst
** byte-compile and prepare package for lazy loading
** help
*** installing help indices
converting help for package 'debCAM'
finding HTML links ... done
AS-accessor html
AfromMarkers html
CAM html
CAMASObj-class html
CAMASest html
CAMMGCluster html
CAMMGObj-class html
CAMObj-class html
CAMPrep html
CAMPrepObj-class html
MDL html
MDLObj-class html
MGsforA html
MGstatistic html
PCAmat html
XWProj html
cornerSort html
debCAM-package html
ratMix3 html
redoASest html
reselectMG html
sffsHull html
simplexplot html
** building package indices
** installing vignettes
** testing if installed package can be loaded from temporary location
** testing if installed package can be loaded from final location
** testing if installed package keeps a record of temporary installation path
* DONE (debCAM)
Making 'packages.html' ... done
debCAM.Rcheck/tests/testthat.Rout
R version 4.1.3 (2022-03-10) -- "One Push-Up"
Copyright (C) 2022 The R Foundation for Statistical Computing
Platform: x86_64-w64-mingw32/x64 (64-bit)
R is free software and comes with ABSOLUTELY NO WARRANTY.
You are welcome to redistribute it under certain conditions.
Type 'license()' or 'licence()' for distribution details.
R is a collaborative project with many contributors.
Type 'contributors()' for more information and
'citation()' on how to cite R or R packages in publications.
Type 'demo()' for some demos, 'help()' for on-line help, or
'help.start()' for an HTML browser interface to help.
Type 'q()' to quit R.
> library(testthat)
> library(debCAM)
>
> test_check("debCAM")
[ FAIL 0 | WARN 0 | SKIP 0 | PASS 5 ]
>
> proc.time()
user system elapsed
4.15 0.43 4.50
debCAM.Rcheck/debCAM-Ex.timings
| name | user | system | elapsed | |
| AS-accessor | 11.36 | 0.10 | 11.81 | |
| AfromMarkers | 0.55 | 0.03 | 0.58 | |
| CAM | 11.56 | 0.08 | 11.65 | |
| CAMASest | 11.10 | 0.03 | 11.13 | |
| CAMMGCluster | 10.61 | 0.06 | 10.67 | |
| CAMPrep | 10.43 | 0.06 | 10.50 | |
| MDL | 0 | 0 | 0 | |
| MGsforA | 21.57 | 0.05 | 21.61 | |
| MGstatistic | 0.62 | 0.00 | 0.63 | |
| PCAmat | 10.96 | 0.05 | 11.00 | |
| XWProj | 5.14 | 0.03 | 5.17 | |
| cornerSort | 0.15 | 0.01 | 0.18 | |
| redoASest | 12.17 | 0.08 | 12.25 | |
| reselectMG | 11.79 | 0.09 | 11.88 | |
| sffsHull | 0.03 | 0.00 | 0.03 | |
| simplexplot | 1.89 | 0.07 | 1.95 | |