| Back to Multiple platform build/check report for BioC 3.14 |
|
This page was generated on 2022-04-13 12:06:25 -0400 (Wed, 13 Apr 2022).
| Hostname | OS | Arch (*) | R version | Installed pkgs |
|---|---|---|---|---|
| nebbiolo2 | Linux (Ubuntu 20.04.4 LTS) | x86_64 | 4.1.3 (2022-03-10) -- "One Push-Up" | 4324 |
| tokay2 | Windows Server 2012 R2 Standard | x64 | 4.1.3 (2022-03-10) -- "One Push-Up" | 4077 |
| machv2 | macOS 10.14.6 Mojave | x86_64 | 4.1.3 (2022-03-10) -- "One Push-Up" | 4137 |
| Click on any hostname to see more info about the system (e.g. compilers) (*) as reported by 'uname -p', except on Windows and Mac OS X | ||||
|
To the developers/maintainers of the ddPCRclust package: - Please allow up to 24 hours (and sometimes 48 hours) for your latest push to git@git.bioconductor.org:packages/ddPCRclust.git to reflect on this report. See How and When does the builder pull? When will my changes propagate? for more information. - Make sure to use the following settings in order to reproduce any error or warning you see on this page. |
| Package 457/2083 | Hostname | OS / Arch | INSTALL | BUILD | CHECK | BUILD BIN | ||||||||
| ddPCRclust 1.14.0 (landing page) Benedikt G. Brink
| nebbiolo2 | Linux (Ubuntu 20.04.4 LTS) / x86_64 | OK | OK | OK | |||||||||
| tokay2 | Windows Server 2012 R2 Standard / x64 | OK | OK | OK | OK | |||||||||
| machv2 | macOS 10.14.6 Mojave / x86_64 | OK | OK | OK | OK | |||||||||
| Package: ddPCRclust |
| Version: 1.14.0 |
| Command: C:\cygwin\bin\curl.exe -O http://155.52.207.166/BBS/3.14/bioc/src/contrib/ddPCRclust_1.14.0.tar.gz && rm -rf ddPCRclust.buildbin-libdir && mkdir ddPCRclust.buildbin-libdir && C:\Users\biocbuild\bbs-3.14-bioc\R\bin\R.exe CMD INSTALL --merge-multiarch --build --library=ddPCRclust.buildbin-libdir ddPCRclust_1.14.0.tar.gz && C:\Users\biocbuild\bbs-3.14-bioc\R\bin\R.exe CMD INSTALL ddPCRclust_1.14.0.zip && rm ddPCRclust_1.14.0.tar.gz ddPCRclust_1.14.0.zip |
| StartedAt: 2022-04-12 06:34:30 -0400 (Tue, 12 Apr 2022) |
| EndedAt: 2022-04-12 06:35:20 -0400 (Tue, 12 Apr 2022) |
| EllapsedTime: 50.5 seconds |
| RetCode: 0 |
| Status: OK |
##############################################################################
##############################################################################
###
### Running command:
###
### C:\cygwin\bin\curl.exe -O http://155.52.207.166/BBS/3.14/bioc/src/contrib/ddPCRclust_1.14.0.tar.gz && rm -rf ddPCRclust.buildbin-libdir && mkdir ddPCRclust.buildbin-libdir && C:\Users\biocbuild\bbs-3.14-bioc\R\bin\R.exe CMD INSTALL --merge-multiarch --build --library=ddPCRclust.buildbin-libdir ddPCRclust_1.14.0.tar.gz && C:\Users\biocbuild\bbs-3.14-bioc\R\bin\R.exe CMD INSTALL ddPCRclust_1.14.0.zip && rm ddPCRclust_1.14.0.tar.gz ddPCRclust_1.14.0.zip
###
##############################################################################
##############################################################################
% Total % Received % Xferd Average Speed Time Time Time Current
Dload Upload Total Spent Left Speed
0 0 0 0 0 0 0 0 --:--:-- --:--:-- --:--:-- 0
37 981k 37 368k 0 0 896k 0 0:00:01 --:--:-- 0:00:01 895k
100 981k 100 981k 0 0 922k 0 0:00:01 0:00:01 --:--:-- 923k
install for i386
* installing *source* package 'ddPCRclust' ...
** using staged installation
** R
** inst
** byte-compile and prepare package for lazy loading
Warning: replacing previous import 'flowCore::plot' by 'graphics::plot' when loading 'flowDensity'
** help
*** installing help indices
converting help for package 'ddPCRclust'
finding HTML links ... done
calculateCPDs html
createEnsemble html
finding level-2 HTML links ... done
ddPCRclust html
exportPlots html
exportToCSV html
exportToExcel html
readFiles html
readTemplate html
runDensity html
runPeaks html
runSam html
shearCorrection html
** building package indices
** installing vignettes
** testing if installed package can be loaded from temporary location
Warning: replacing previous import 'flowCore::plot' by 'graphics::plot' when loading 'flowDensity'
** testing if installed package can be loaded from final location
Warning: replacing previous import 'flowCore::plot' by 'graphics::plot' when loading 'flowDensity'
** testing if installed package keeps a record of temporary installation path
install for x64
* installing *source* package 'ddPCRclust' ...
** testing if installed package can be loaded
Warning: replacing previous import 'flowCore::plot' by 'graphics::plot' when loading 'flowDensity'
* MD5 sums
packaged installation of 'ddPCRclust' as ddPCRclust_1.14.0.zip
* DONE (ddPCRclust)
* installing to library 'C:/Users/biocbuild/bbs-3.14-bioc/R/library'
package 'ddPCRclust' successfully unpacked and MD5 sums checked