| Back to Multiple platform build/check report for BioC 3.14 |
|
This page was generated on 2022-04-13 12:06:24 -0400 (Wed, 13 Apr 2022).
| Hostname | OS | Arch (*) | R version | Installed pkgs |
|---|---|---|---|---|
| nebbiolo2 | Linux (Ubuntu 20.04.4 LTS) | x86_64 | 4.1.3 (2022-03-10) -- "One Push-Up" | 4324 |
| tokay2 | Windows Server 2012 R2 Standard | x64 | 4.1.3 (2022-03-10) -- "One Push-Up" | 4077 |
| machv2 | macOS 10.14.6 Mojave | x86_64 | 4.1.3 (2022-03-10) -- "One Push-Up" | 4137 |
| Click on any hostname to see more info about the system (e.g. compilers) (*) as reported by 'uname -p', except on Windows and Mac OS X | ||||
|
To the developers/maintainers of the cummeRbund package: - Please allow up to 24 hours (and sometimes 48 hours) for your latest push to git@git.bioconductor.org:packages/cummeRbund.git to reflect on this report. See How and When does the builder pull? When will my changes propagate? for more information. - Make sure to use the following settings in order to reproduce any error or warning you see on this page. |
| Package 431/2083 | Hostname | OS / Arch | INSTALL | BUILD | CHECK | BUILD BIN | ||||||||
| cummeRbund 2.36.0 (landing page) Loyal A. Goff
| nebbiolo2 | Linux (Ubuntu 20.04.4 LTS) / x86_64 | OK | OK | WARNINGS | |||||||||
| tokay2 | Windows Server 2012 R2 Standard / x64 | OK | OK | WARNINGS | OK | |||||||||
| machv2 | macOS 10.14.6 Mojave / x86_64 | OK | OK | WARNINGS | OK | |||||||||
| Package: cummeRbund |
| Version: 2.36.0 |
| Command: rm -rf cummeRbund.buildbin-libdir && mkdir cummeRbund.buildbin-libdir && C:\Users\biocbuild\bbs-3.14-bioc\R\bin\R.exe CMD INSTALL --merge-multiarch --build --library=cummeRbund.buildbin-libdir cummeRbund_2.36.0.tar.gz |
| StartedAt: 2022-04-13 05:58:21 -0400 (Wed, 13 Apr 2022) |
| EndedAt: 2022-04-13 06:00:01 -0400 (Wed, 13 Apr 2022) |
| EllapsedTime: 100.6 seconds |
| RetCode: 0 |
| Status: OK |
| PackageFile: cummeRbund_2.36.0.zip |
| PackageFileSize: 3.533 MiB |
##############################################################################
##############################################################################
###
### Running command:
###
### rm -rf cummeRbund.buildbin-libdir && mkdir cummeRbund.buildbin-libdir && C:\Users\biocbuild\bbs-3.14-bioc\R\bin\R.exe CMD INSTALL --merge-multiarch --build --library=cummeRbund.buildbin-libdir cummeRbund_2.36.0.tar.gz
###
##############################################################################
##############################################################################
install for i386
* installing *source* package 'cummeRbund' ...
** using staged installation
** R
** data
** inst
** byte-compile and prepare package for lazy loading
** help
*** installing help indices
converting help for package 'cummeRbund'
finding HTML links ... done
CuffData-class html
CuffDist-class html
CuffFeature-class html
CuffFeatureSet-class html
CuffGene-class html
CuffGeneSet-class html
CuffSet-class html
JSdist html
JSdistFromP html
JSdistVec html
MAplot html
PINK1 html
QCplots html
addFeatures html
count html
countMatrix html
csBoxplot html
csCluster html
csClusterPlot html
csDendro html
csDensity html
csDistHeat html
csHeatmap html
csScatter html
csSpecificity html
csVolcano html
cummeRbund-package html
diffData html
dimensionality html
dispersionPlot html
distValues html
exploratory html
expressionBarplot html
expressionPlot html
featureNames html
features html
findGene html
findSimilar html
fpkm html
fpkmMatrix html
getFeatures html
getGene html
getGeneId html
getGenes html
getLevels html
getRepLevels html
getSig html
getSigTable html
makeprobs html
makeprobsvec html
readCufflinks html
repFpkm html
replicates html
runInfo html
sampleGeneSet html
sampleIDs html
samples html
shannon.entropy html
sigMatrix html
** building package indices
** installing vignettes
** testing if installed package can be loaded from temporary location
** testing if installed package can be loaded from final location
** testing if installed package keeps a record of temporary installation path
install for x64
* installing *source* package 'cummeRbund' ...
** testing if installed package can be loaded
* MD5 sums
packaged installation of 'cummeRbund' as cummeRbund_2.36.0.zip
* DONE (cummeRbund)