| Back to Multiple platform build/check report for BioC 3.14 |
|
This page was generated on 2022-04-13 12:06:20 -0400 (Wed, 13 Apr 2022).
| Hostname | OS | Arch (*) | R version | Installed pkgs |
|---|---|---|---|---|
| nebbiolo2 | Linux (Ubuntu 20.04.4 LTS) | x86_64 | 4.1.3 (2022-03-10) -- "One Push-Up" | 4324 |
| tokay2 | Windows Server 2012 R2 Standard | x64 | 4.1.3 (2022-03-10) -- "One Push-Up" | 4077 |
| machv2 | macOS 10.14.6 Mojave | x86_64 | 4.1.3 (2022-03-10) -- "One Push-Up" | 4137 |
| Click on any hostname to see more info about the system (e.g. compilers) (*) as reported by 'uname -p', except on Windows and Mac OS X | ||||
|
To the developers/maintainers of the clipper package: - Please allow up to 24 hours (and sometimes 48 hours) for your latest push to git@git.bioconductor.org:packages/clipper.git to reflect on this report. See How and When does the builder pull? When will my changes propagate? for more information. - Make sure to use the following settings in order to reproduce any error or warning you see on this page. |
| Package 328/2083 | Hostname | OS / Arch | INSTALL | BUILD | CHECK | BUILD BIN | ||||||||
| clipper 1.34.0 (landing page) Paolo Martini
| nebbiolo2 | Linux (Ubuntu 20.04.4 LTS) / x86_64 | OK | OK | OK | |||||||||
| tokay2 | Windows Server 2012 R2 Standard / x64 | OK | OK | OK | OK | |||||||||
| machv2 | macOS 10.14.6 Mojave / x86_64 | OK | OK | OK | OK | |||||||||
| Package: clipper |
| Version: 1.34.0 |
| Command: C:\cygwin\bin\curl.exe -O http://155.52.207.166/BBS/3.14/bioc/src/contrib/clipper_1.34.0.tar.gz && rm -rf clipper.buildbin-libdir && mkdir clipper.buildbin-libdir && C:\Users\biocbuild\bbs-3.14-bioc\R\bin\R.exe CMD INSTALL --merge-multiarch --build --library=clipper.buildbin-libdir clipper_1.34.0.tar.gz && C:\Users\biocbuild\bbs-3.14-bioc\R\bin\R.exe CMD INSTALL clipper_1.34.0.zip && rm clipper_1.34.0.tar.gz clipper_1.34.0.zip |
| StartedAt: 2022-04-12 06:12:31 -0400 (Tue, 12 Apr 2022) |
| EndedAt: 2022-04-12 06:13:59 -0400 (Tue, 12 Apr 2022) |
| EllapsedTime: 87.7 seconds |
| RetCode: 0 |
| Status: OK |
##############################################################################
##############################################################################
###
### Running command:
###
### C:\cygwin\bin\curl.exe -O http://155.52.207.166/BBS/3.14/bioc/src/contrib/clipper_1.34.0.tar.gz && rm -rf clipper.buildbin-libdir && mkdir clipper.buildbin-libdir && C:\Users\biocbuild\bbs-3.14-bioc\R\bin\R.exe CMD INSTALL --merge-multiarch --build --library=clipper.buildbin-libdir clipper_1.34.0.tar.gz && C:\Users\biocbuild\bbs-3.14-bioc\R\bin\R.exe CMD INSTALL clipper_1.34.0.zip && rm clipper_1.34.0.tar.gz clipper_1.34.0.zip
###
##############################################################################
##############################################################################
% Total % Received % Xferd Average Speed Time Time Time Current
Dload Upload Total Spent Left Speed
0 0 0 0 0 0 0 0 --:--:-- --:--:-- --:--:-- 0
3 417k 3 13289 0 0 155k 0 0:00:02 --:--:-- 0:00:02 156k
100 417k 100 417k 0 0 793k 0 --:--:-- --:--:-- --:--:-- 794k
install for i386
* installing *source* package 'clipper' ...
** using staged installation
** R
** inst
** byte-compile and prepare package for lazy loading
** help
*** installing help indices
converting help for package 'clipper'
finding HTML links ... done
clipper html
clipperAllRoots html
cliqueMeanTest html
cliqueMixedTest html
cliquePairedTest html
cliqueVarianceTest html
deleteEdge html
easyClip html
easyLook html
getGraphEntryGenes html
getJunctionTreePaths html
nameCliques html
pathwayTest html
plotInCytoscape html
prunePaths html
** building package indices
** installing vignettes
** testing if installed package can be loaded from temporary location
** testing if installed package can be loaded from final location
** testing if installed package keeps a record of temporary installation path
install for x64
* installing *source* package 'clipper' ...
** testing if installed package can be loaded
* MD5 sums
packaged installation of 'clipper' as clipper_1.34.0.zip
* DONE (clipper)
* installing to library 'C:/Users/biocbuild/bbs-3.14-bioc/R/library'
package 'clipper' successfully unpacked and MD5 sums checked