| Back to Multiple platform build/check report for BioC 3.14 |
|
This page was generated on 2022-04-13 12:06:08 -0400 (Wed, 13 Apr 2022).
| Hostname | OS | Arch (*) | R version | Installed pkgs |
|---|---|---|---|---|
| nebbiolo2 | Linux (Ubuntu 20.04.4 LTS) | x86_64 | 4.1.3 (2022-03-10) -- "One Push-Up" | 4324 |
| tokay2 | Windows Server 2012 R2 Standard | x64 | 4.1.3 (2022-03-10) -- "One Push-Up" | 4077 |
| machv2 | macOS 10.14.6 Mojave | x86_64 | 4.1.3 (2022-03-10) -- "One Push-Up" | 4137 |
| Click on any hostname to see more info about the system (e.g. compilers) (*) as reported by 'uname -p', except on Windows and Mac OS X | ||||
|
To the developers/maintainers of the affycomp package: - Please allow up to 24 hours (and sometimes 48 hours) for your latest push to git@git.bioconductor.org:packages/affycomp.git to reflect on this report. See How and When does the builder pull? When will my changes propagate? for more information. - Make sure to use the following settings in order to reproduce any error or warning you see on this page. |
| Package 24/2083 | Hostname | OS / Arch | INSTALL | BUILD | CHECK | BUILD BIN | ||||||||
| affycomp 1.70.0 (landing page) Rafael A. Irizarry
| nebbiolo2 | Linux (Ubuntu 20.04.4 LTS) / x86_64 | OK | OK | OK | |||||||||
| tokay2 | Windows Server 2012 R2 Standard / x64 | OK | OK | OK | OK | |||||||||
| machv2 | macOS 10.14.6 Mojave / x86_64 | OK | OK | OK | OK | |||||||||
| Package: affycomp |
| Version: 1.70.0 |
| Command: C:\cygwin\bin\curl.exe -O http://155.52.207.166/BBS/3.14/bioc/src/contrib/affycomp_1.70.0.tar.gz && rm -rf affycomp.buildbin-libdir && mkdir affycomp.buildbin-libdir && C:\Users\biocbuild\bbs-3.14-bioc\R\bin\R.exe CMD INSTALL --merge-multiarch --build --library=affycomp.buildbin-libdir affycomp_1.70.0.tar.gz && C:\Users\biocbuild\bbs-3.14-bioc\R\bin\R.exe CMD INSTALL affycomp_1.70.0.zip && rm affycomp_1.70.0.tar.gz affycomp_1.70.0.zip |
| StartedAt: 2022-04-12 04:26:24 -0400 (Tue, 12 Apr 2022) |
| EndedAt: 2022-04-12 04:27:55 -0400 (Tue, 12 Apr 2022) |
| EllapsedTime: 91.1 seconds |
| RetCode: 0 |
| Status: OK |
##############################################################################
##############################################################################
###
### Running command:
###
### C:\cygwin\bin\curl.exe -O http://155.52.207.166/BBS/3.14/bioc/src/contrib/affycomp_1.70.0.tar.gz && rm -rf affycomp.buildbin-libdir && mkdir affycomp.buildbin-libdir && C:\Users\biocbuild\bbs-3.14-bioc\R\bin\R.exe CMD INSTALL --merge-multiarch --build --library=affycomp.buildbin-libdir affycomp_1.70.0.tar.gz && C:\Users\biocbuild\bbs-3.14-bioc\R\bin\R.exe CMD INSTALL affycomp_1.70.0.zip && rm affycomp_1.70.0.tar.gz affycomp_1.70.0.zip
###
##############################################################################
##############################################################################
% Total % Received % Xferd Average Speed Time Time Time Current
Dload Upload Total Spent Left Speed
0 0 0 0 0 0 0 0 --:--:-- --:--:-- --:--:-- 0
0 7136k 0 45687 0 0 288k 0 0:00:24 --:--:-- 0:00:24 287k
36 7136k 36 2598k 0 0 2249k 0 0:00:03 0:00:01 0:00:02 2249k
85 7136k 85 6135k 0 0 2849k 0 0:00:02 0:00:02 --:--:-- 2849k
100 7136k 100 7136k 0 0 2997k 0 0:00:02 0:00:02 --:--:-- 2997k
install for i386
* installing *source* package 'affycomp' ...
** using staged installation
** R
** data
** inst
** byte-compile and prepare package for lazy loading
** help
*** installing help indices
converting help for package 'affycomp'
finding HTML links ... done
SD html
affycomp.compfigs.auxiliary html
affycomp.figures.auxiliary html
affycomp.table html
affycompPlot html
assessAll html
assessDilution html
assessSD html
assessSpikeIn html
assessSpikeIn2 html
dilution.phenodata html
exprset.log html
hgu133a.spikein.phenodata html
mas5.assessment html
readin html
remove.hgu133a.xhyb html
spikein.phenodata html
xhyb html
** building package indices
** installing vignettes
** testing if installed package can be loaded from temporary location
** testing if installed package can be loaded from final location
** testing if installed package keeps a record of temporary installation path
install for x64
* installing *source* package 'affycomp' ...
** testing if installed package can be loaded
* MD5 sums
packaged installation of 'affycomp' as affycomp_1.70.0.zip
* DONE (affycomp)
* installing to library 'C:/Users/biocbuild/bbs-3.14-bioc/R/library'
package 'affycomp' successfully unpacked and MD5 sums checked