| Back to Multiple platform build/check report for BioC 3.14 | 
 | 
This page was generated on 2022-04-13 12:06:07 -0400 (Wed, 13 Apr 2022).
| Hostname | OS | Arch (*) | R version | Installed pkgs | 
|---|---|---|---|---|
| nebbiolo2 | Linux (Ubuntu 20.04.4 LTS) | x86_64 | 4.1.3 (2022-03-10) -- "One Push-Up" | 4324 | 
| tokay2 | Windows Server 2012 R2 Standard | x64 | 4.1.3 (2022-03-10) -- "One Push-Up" | 4077 | 
| machv2 | macOS 10.14.6 Mojave | x86_64 | 4.1.3 (2022-03-10) -- "One Push-Up" | 4137 | 
| Click on any hostname to see more info about the system (e.g. compilers) (*) as reported by 'uname -p', except on Windows and Mac OS X | ||||
| To the developers/maintainers of the a4Classif package: - Please allow up to 24 hours (and sometimes 48 hours) for your latest push to git@git.bioconductor.org:packages/a4Classif.git to reflect on this report. See How and When does the builder pull? When will my changes propagate? for more information. - Make sure to use the following settings in order to reproduce any error or warning you see on this page. | 
| Package 3/2083 | Hostname | OS / Arch | INSTALL | BUILD | CHECK | BUILD BIN | ||||||||
| a4Classif 1.42.0  (landing page) Laure Cougnaud 
 | nebbiolo2 | Linux (Ubuntu 20.04.4 LTS) / x86_64 | OK | OK | OK |  | ||||||||
| tokay2 | Windows Server 2012 R2 Standard / x64 | OK | OK | OK | OK |  | ||||||||
| machv2 | macOS 10.14.6 Mojave / x86_64 | OK | OK | OK | OK |  | ||||||||
| Package: a4Classif | 
| Version: 1.42.0 | 
| Command: rm -rf a4Classif.buildbin-libdir && mkdir a4Classif.buildbin-libdir && C:\Users\biocbuild\bbs-3.14-bioc\R\bin\R.exe CMD INSTALL --merge-multiarch --build --library=a4Classif.buildbin-libdir a4Classif_1.42.0.tar.gz | 
| StartedAt: 2022-04-13 05:32:40 -0400 (Wed, 13 Apr 2022) | 
| EndedAt: 2022-04-13 05:33:01 -0400 (Wed, 13 Apr 2022) | 
| EllapsedTime: 21.5 seconds | 
| RetCode: 0 | 
| Status: OK | 
| PackageFile: a4Classif_1.42.0.zip | 
| PackageFileSize: 397.1 KiB | 
##############################################################################
##############################################################################
###
### Running command:
###
###   rm -rf a4Classif.buildbin-libdir && mkdir a4Classif.buildbin-libdir && C:\Users\biocbuild\bbs-3.14-bioc\R\bin\R.exe CMD INSTALL --merge-multiarch --build --library=a4Classif.buildbin-libdir a4Classif_1.42.0.tar.gz
###
##############################################################################
##############################################################################
install for i386
* installing *source* package 'a4Classif' ...
** using staged installation
** R
** inst
** byte-compile and prepare package for lazy loading
** help
*** installing help indices
  converting help for package 'a4Classif'
    finding HTML links ... done
    ROCcurve                                html  
    lassoClass                              html  
    pamClass                                html  
    rfClass                                 html  
    topTable-pamClass-method                html  
    topTable-rfClass-method                 html  
** building package indices
** installing vignettes
** testing if installed package can be loaded from temporary location
** testing if installed package can be loaded from final location
** testing if installed package keeps a record of temporary installation path
install for x64
* installing *source* package 'a4Classif' ...
** testing if installed package can be loaded
* MD5 sums
packaged installation of 'a4Classif' as a4Classif_1.42.0.zip
* DONE (a4Classif)