| Back to Multiple platform build/check report for BioC 3.14 |
|
This page was generated on 2022-04-13 12:07:29 -0400 (Wed, 13 Apr 2022).
| Hostname | OS | Arch (*) | R version | Installed pkgs |
|---|---|---|---|---|
| nebbiolo2 | Linux (Ubuntu 20.04.4 LTS) | x86_64 | 4.1.3 (2022-03-10) -- "One Push-Up" | 4324 |
| tokay2 | Windows Server 2012 R2 Standard | x64 | 4.1.3 (2022-03-10) -- "One Push-Up" | 4077 |
| machv2 | macOS 10.14.6 Mojave | x86_64 | 4.1.3 (2022-03-10) -- "One Push-Up" | 4137 |
| Click on any hostname to see more info about the system (e.g. compilers) (*) as reported by 'uname -p', except on Windows and Mac OS X | ||||
|
To the developers/maintainers of the TnT package: - Please allow up to 24 hours (and sometimes 48 hours) for your latest push to git@git.bioconductor.org:packages/TnT.git to reflect on this report. See How and When does the builder pull? When will my changes propagate? for more information. - Make sure to use the following settings in order to reproduce any error or warning you see on this page. |
| Package 1968/2083 | Hostname | OS / Arch | INSTALL | BUILD | CHECK | BUILD BIN | ||||||||
| TnT 1.16.0 (landing page) Jialin Ma
| nebbiolo2 | Linux (Ubuntu 20.04.4 LTS) / x86_64 | OK | OK | OK | |||||||||
| tokay2 | Windows Server 2012 R2 Standard / x64 | OK | OK | OK | OK | |||||||||
| machv2 | macOS 10.14.6 Mojave / x86_64 | OK | OK | OK | OK | |||||||||
| Package: TnT |
| Version: 1.16.0 |
| Command: C:\cygwin\bin\curl.exe -O http://155.52.207.166/BBS/3.14/bioc/src/contrib/TnT_1.16.0.tar.gz && rm -rf TnT.buildbin-libdir && mkdir TnT.buildbin-libdir && C:\Users\biocbuild\bbs-3.14-bioc\R\bin\R.exe CMD INSTALL --merge-multiarch --build --library=TnT.buildbin-libdir TnT_1.16.0.tar.gz && C:\Users\biocbuild\bbs-3.14-bioc\R\bin\R.exe CMD INSTALL TnT_1.16.0.zip && rm TnT_1.16.0.tar.gz TnT_1.16.0.zip |
| StartedAt: 2022-04-12 05:16:28 -0400 (Tue, 12 Apr 2022) |
| EndedAt: 2022-04-12 05:17:32 -0400 (Tue, 12 Apr 2022) |
| EllapsedTime: 64.4 seconds |
| RetCode: 0 |
| Status: OK |
##############################################################################
##############################################################################
###
### Running command:
###
### C:\cygwin\bin\curl.exe -O http://155.52.207.166/BBS/3.14/bioc/src/contrib/TnT_1.16.0.tar.gz && rm -rf TnT.buildbin-libdir && mkdir TnT.buildbin-libdir && C:\Users\biocbuild\bbs-3.14-bioc\R\bin\R.exe CMD INSTALL --merge-multiarch --build --library=TnT.buildbin-libdir TnT_1.16.0.tar.gz && C:\Users\biocbuild\bbs-3.14-bioc\R\bin\R.exe CMD INSTALL TnT_1.16.0.zip && rm TnT_1.16.0.tar.gz TnT_1.16.0.zip
###
##############################################################################
##############################################################################
% Total % Received % Xferd Average Speed Time Time Time Current
Dload Upload Total Spent Left Speed
0 0 0 0 0 0 0 0 --:--:-- --:--:-- --:--:-- 0
100 130k 100 130k 0 0 276k 0 --:--:-- --:--:-- --:--:-- 276k
install for i386
* installing *source* package 'TnT' ...
** using staged installation
** R
** inst
** byte-compile and prepare package for lazy loading
** help
*** installing help indices
converting help for package 'TnT'
finding HTML links ... done
TnT-shiny html
composite-track html
knit_print.TnTBoard html
mapcol html
range-TnTBoard-method html
range-TnTTrack html
saveTnT html
seqinfo html
strandlabel html
tntboard html
REDIRECT:topic Previous alias or file overwritten by alias: C:/Users/biocbuild/bbs-3.14-bioc/meat/TnT.buildbin-libdir/00LOCK-TnT/00new/TnT/help/TnTBoard.html
REDIRECT:topic Previous alias or file overwritten by alias: C:/Users/biocbuild/bbs-3.14-bioc/meat/TnT.buildbin-libdir/00LOCK-TnT/00new/TnT/help/TnTGenome.html
tooltip html
track-constructors html
trackSpec html
trackWidget html
trackdata html
REDIRECT:topic Previous alias or file overwritten by alias: C:/Users/biocbuild/bbs-3.14-bioc/meat/TnT.buildbin-libdir/00LOCK-TnT/00new/TnT/help/trackData.html
tracklist html
** building package indices
** installing vignettes
** testing if installed package can be loaded from temporary location
** testing if installed package can be loaded from final location
** testing if installed package keeps a record of temporary installation path
install for x64
* installing *source* package 'TnT' ...
** testing if installed package can be loaded
* MD5 sums
packaged installation of 'TnT' as TnT_1.16.0.zip
* DONE (TnT)
* installing to library 'C:/Users/biocbuild/bbs-3.14-bioc/R/library'
package 'TnT' successfully unpacked and MD5 sums checked