| Back to Multiple platform build/check report for BioC 3.14 |
|
This page was generated on 2022-04-13 12:07:29 -0400 (Wed, 13 Apr 2022).
| Hostname | OS | Arch (*) | R version | Installed pkgs |
|---|---|---|---|---|
| nebbiolo2 | Linux (Ubuntu 20.04.4 LTS) | x86_64 | 4.1.3 (2022-03-10) -- "One Push-Up" | 4324 |
| tokay2 | Windows Server 2012 R2 Standard | x64 | 4.1.3 (2022-03-10) -- "One Push-Up" | 4077 |
| machv2 | macOS 10.14.6 Mojave | x86_64 | 4.1.3 (2022-03-10) -- "One Push-Up" | 4137 |
| Click on any hostname to see more info about the system (e.g. compilers) (*) as reported by 'uname -p', except on Windows and Mac OS X | ||||
|
To the developers/maintainers of the TIN package: - Please allow up to 24 hours (and sometimes 48 hours) for your latest push to git@git.bioconductor.org:packages/TIN.git to reflect on this report. See How and When does the builder pull? When will my changes propagate? for more information. - Make sure to use the following settings in order to reproduce any error or warning you see on this page. |
| Package 1961/2083 | Hostname | OS / Arch | INSTALL | BUILD | CHECK | BUILD BIN | ||||||||
| TIN 1.26.0 (landing page) Bjarne Johannessen
| nebbiolo2 | Linux (Ubuntu 20.04.4 LTS) / x86_64 | OK | OK | OK | |||||||||
| tokay2 | Windows Server 2012 R2 Standard / x64 | OK | OK | OK | OK | |||||||||
| machv2 | macOS 10.14.6 Mojave / x86_64 | OK | OK | OK | OK | |||||||||
| Package: TIN |
| Version: 1.26.0 |
| Command: rm -rf TIN.buildbin-libdir && mkdir TIN.buildbin-libdir && C:\Users\biocbuild\bbs-3.14-bioc\R\bin\R.exe CMD INSTALL --merge-multiarch --build --library=TIN.buildbin-libdir TIN_1.26.0.tar.gz |
| StartedAt: 2022-04-13 07:15:51 -0400 (Wed, 13 Apr 2022) |
| EndedAt: 2022-04-13 07:16:30 -0400 (Wed, 13 Apr 2022) |
| EllapsedTime: 38.7 seconds |
| RetCode: 0 |
| Status: OK |
| PackageFile: TIN_1.26.0.zip |
| PackageFileSize: 4.593 MiB |
##############################################################################
##############################################################################
###
### Running command:
###
### rm -rf TIN.buildbin-libdir && mkdir TIN.buildbin-libdir && C:\Users\biocbuild\bbs-3.14-bioc\R\bin\R.exe CMD INSTALL --merge-multiarch --build --library=TIN.buildbin-libdir TIN_1.26.0.tar.gz
###
##############################################################################
##############################################################################
install for i386
* installing *source* package 'TIN' ...
** using staged installation
** R
** data
** inst
** byte-compile and prepare package for lazy loading
The following object is masked _by_ package:aroma.affymetrix:
writeCdf
The following object is masked from package:R.utils:
findFiles
** help
*** installing help indices
converting help for package 'TIN'
finding HTML links ... done
aberrantExonUsage html
clusterPlot html
correlation html
correlationPlot html
firmaAnalysis html
geneAnnotation html
geneSetCorrelation html
geneSets html
posNegCorrPlot html
probesetPermutations html
readGeneSummaries html
sampleSetFirmaScores html
sampleSetGeneSummaries html
scatterPlot html
splicingFactors html
** building package indices
** installing vignettes
** testing if installed package can be loaded from temporary location
The following object is masked _by_ package:aroma.affymetrix:
writeCdf
The following object is masked from package:R.utils:
findFiles
** testing if installed package can be loaded from final location
The following object is masked _by_ package:aroma.affymetrix:
writeCdf
The following object is masked from package:R.utils:
findFiles
** testing if installed package keeps a record of temporary installation path
install for x64
* installing *source* package 'TIN' ...
** testing if installed package can be loaded
The following object is masked _by_ package:aroma.affymetrix:
writeCdf
The following object is masked from package:R.utils:
findFiles
* MD5 sums
packaged installation of 'TIN' as TIN_1.26.0.zip
* DONE (TIN)