| Back to Multiple platform build/check report for BioC 3.14 |
|
This page was generated on 2022-04-13 12:07:28 -0400 (Wed, 13 Apr 2022).
| Hostname | OS | Arch (*) | R version | Installed pkgs |
|---|---|---|---|---|
| nebbiolo2 | Linux (Ubuntu 20.04.4 LTS) | x86_64 | 4.1.3 (2022-03-10) -- "One Push-Up" | 4324 |
| tokay2 | Windows Server 2012 R2 Standard | x64 | 4.1.3 (2022-03-10) -- "One Push-Up" | 4077 |
| machv2 | macOS 10.14.6 Mojave | x86_64 | 4.1.3 (2022-03-10) -- "One Push-Up" | 4137 |
| Click on any hostname to see more info about the system (e.g. compilers) (*) as reported by 'uname -p', except on Windows and Mac OS X | ||||
|
To the developers/maintainers of the TFARM package: - Please allow up to 24 hours (and sometimes 48 hours) for your latest push to git@git.bioconductor.org:packages/TFARM.git to reflect on this report. See How and When does the builder pull? When will my changes propagate? for more information. - Make sure to use the following settings in order to reproduce any error or warning you see on this page. |
| Package 1945/2083 | Hostname | OS / Arch | INSTALL | BUILD | CHECK | BUILD BIN | ||||||||
| TFARM 1.16.0 (landing page) Liuba Nausicaa Martino
| nebbiolo2 | Linux (Ubuntu 20.04.4 LTS) / x86_64 | OK | OK | OK | |||||||||
| tokay2 | Windows Server 2012 R2 Standard / x64 | OK | OK | OK | OK | |||||||||
| machv2 | macOS 10.14.6 Mojave / x86_64 | OK | OK | OK | OK | |||||||||
| Package: TFARM |
| Version: 1.16.0 |
| Command: rm -rf TFARM.buildbin-libdir && mkdir TFARM.buildbin-libdir && C:\Users\biocbuild\bbs-3.14-bioc\R\bin\R.exe CMD INSTALL --merge-multiarch --build --library=TFARM.buildbin-libdir TFARM_1.16.0.tar.gz |
| StartedAt: 2022-04-13 07:14:51 -0400 (Wed, 13 Apr 2022) |
| EndedAt: 2022-04-13 07:15:37 -0400 (Wed, 13 Apr 2022) |
| EllapsedTime: 45.2 seconds |
| RetCode: 0 |
| Status: OK |
| PackageFile: TFARM_1.16.0.zip |
| PackageFileSize: 526.1 KiB |
##############################################################################
##############################################################################
###
### Running command:
###
### rm -rf TFARM.buildbin-libdir && mkdir TFARM.buildbin-libdir && C:\Users\biocbuild\bbs-3.14-bioc\R\bin\R.exe CMD INSTALL --merge-multiarch --build --library=TFARM.buildbin-libdir TFARM_1.16.0.tar.gz
###
##############################################################################
##############################################################################
install for i386
* installing *source* package 'TFARM' ...
** using staged installation
** R
** data
*** moving datasets to lazyload DB
** inst
** byte-compile and prepare package for lazy loading
** help
*** installing help indices
converting help for package 'TFARM'
finding HTML links ... done
DELTA html
IComp html
IMP html
IMP_Z html
IPCA html
I_c_2 html
MCF7_chr1 html
TF_Imp html
distribViz html
heatI html
imp_FOSL2 html
items html
itemset html
p_TFs html
presAbs html
r_FOSL2 html
r_TEAD4 html
r_noFOSL2 html
rulesGen html
rulesTF html
rulesTF0 html
search_rule html
** building package indices
** installing vignettes
** testing if installed package can be loaded from temporary location
** testing if installed package can be loaded from final location
** testing if installed package keeps a record of temporary installation path
install for x64
* installing *source* package 'TFARM' ...
** testing if installed package can be loaded
* MD5 sums
packaged installation of 'TFARM' as TFARM_1.16.0.zip
* DONE (TFARM)