| Back to Multiple platform build/check report for BioC 3.14 | 
 | 
This page was generated on 2022-04-13 12:07:27 -0400 (Wed, 13 Apr 2022).
| Hostname | OS | Arch (*) | R version | Installed pkgs | 
|---|---|---|---|---|
| nebbiolo2 | Linux (Ubuntu 20.04.4 LTS) | x86_64 | 4.1.3 (2022-03-10) -- "One Push-Up" | 4324 | 
| tokay2 | Windows Server 2012 R2 Standard | x64 | 4.1.3 (2022-03-10) -- "One Push-Up" | 4077 | 
| machv2 | macOS 10.14.6 Mojave | x86_64 | 4.1.3 (2022-03-10) -- "One Push-Up" | 4137 | 
| Click on any hostname to see more info about the system (e.g. compilers) (*) as reported by 'uname -p', except on Windows and Mac OS X | ||||
| To the developers/maintainers of the TADCompare package: - Please allow up to 24 hours (and sometimes 48 hours) for your latest push to git@git.bioconductor.org:packages/TADCompare.git to reflect on this report. See How and When does the builder pull? When will my changes propagate? for more information. - Make sure to use the following settings in order to reproduce any error or warning you see on this page. | 
| Package 1927/2083 | Hostname | OS / Arch | INSTALL | BUILD | CHECK | BUILD BIN | ||||||||
| TADCompare 1.4.0  (landing page) Kellen Cresswell 
 | nebbiolo2 | Linux (Ubuntu 20.04.4 LTS) / x86_64 | OK | OK | OK |  | ||||||||
| tokay2 | Windows Server 2012 R2 Standard / x64 | OK | OK | OK | OK |  | ||||||||
| machv2 | macOS 10.14.6 Mojave / x86_64 | OK | OK | OK | OK |  | ||||||||
| Package: TADCompare | 
| Version: 1.4.0 | 
| Command: rm -rf TADCompare.buildbin-libdir && mkdir TADCompare.buildbin-libdir && C:\Users\biocbuild\bbs-3.14-bioc\R\bin\R.exe CMD INSTALL --merge-multiarch --build --library=TADCompare.buildbin-libdir TADCompare_1.4.0.tar.gz | 
| StartedAt: 2022-04-13 07:14:12 -0400 (Wed, 13 Apr 2022) | 
| EndedAt: 2022-04-13 07:15:47 -0400 (Wed, 13 Apr 2022) | 
| EllapsedTime: 95.9 seconds | 
| RetCode: 0 | 
| Status: OK | 
| PackageFile: TADCompare_1.4.0.zip | 
| PackageFileSize: 4.239 MiB | 
##############################################################################
##############################################################################
###
### Running command:
###
###   rm -rf TADCompare.buildbin-libdir && mkdir TADCompare.buildbin-libdir && C:\Users\biocbuild\bbs-3.14-bioc\R\bin\R.exe CMD INSTALL --merge-multiarch --build --library=TADCompare.buildbin-libdir TADCompare_1.4.0.tar.gz
###
##############################################################################
##############################################################################
install for i386
* installing *source* package 'TADCompare' ...
** using staged installation
** R
** data
*** moving datasets to lazyload DB
** inst
** byte-compile and prepare package for lazy loading
** help
*** installing help indices
  converting help for package 'TADCompare'
    finding HTML links ... done
    ConsensusTADs                           html  
    DiffPlot                                html  
    GM12878.40kb.raw.chr2                   html  
    IMR90.40kb.raw.chr2                     html  
    TADCompare                              html  
    TimeCompare                             html  
    rao_chr22_prim                          html  
    rao_chr22_rep                           html  
    time_mats                               html  
** building package indices
** installing vignettes
** testing if installed package can be loaded from temporary location
** testing if installed package can be loaded from final location
** testing if installed package keeps a record of temporary installation path
install for x64
* installing *source* package 'TADCompare' ...
** testing if installed package can be loaded
* MD5 sums
packaged installation of 'TADCompare' as TADCompare_1.4.0.zip
* DONE (TADCompare)