| Back to Multiple platform build/check report for BioC 3.14 |
|
This page was generated on 2022-04-13 12:07:18 -0400 (Wed, 13 Apr 2022).
| Hostname | OS | Arch (*) | R version | Installed pkgs |
|---|---|---|---|---|
| nebbiolo2 | Linux (Ubuntu 20.04.4 LTS) | x86_64 | 4.1.3 (2022-03-10) -- "One Push-Up" | 4324 |
| tokay2 | Windows Server 2012 R2 Standard | x64 | 4.1.3 (2022-03-10) -- "One Push-Up" | 4077 |
| machv2 | macOS 10.14.6 Mojave | x86_64 | 4.1.3 (2022-03-10) -- "One Push-Up" | 4137 |
| Click on any hostname to see more info about the system (e.g. compilers) (*) as reported by 'uname -p', except on Windows and Mac OS X | ||||
|
To the developers/maintainers of the SCANVIS package: - Please allow up to 24 hours (and sometimes 48 hours) for your latest push to git@git.bioconductor.org:packages/SCANVIS.git to reflect on this report. See How and When does the builder pull? When will my changes propagate? for more information. - Make sure to use the following settings in order to reproduce any error or warning you see on this page. |
| Package 1707/2083 | Hostname | OS / Arch | INSTALL | BUILD | CHECK | BUILD BIN | ||||||||
| SCANVIS 1.8.0 (landing page) Phaedra Agius
| nebbiolo2 | Linux (Ubuntu 20.04.4 LTS) / x86_64 | OK | OK | OK | |||||||||
| tokay2 | Windows Server 2012 R2 Standard / x64 | OK | OK | ERROR | OK | |||||||||
| machv2 | macOS 10.14.6 Mojave / x86_64 | OK | OK | OK | OK | |||||||||
| Package: SCANVIS |
| Version: 1.8.0 |
| Command: C:\cygwin\bin\curl.exe -O http://155.52.207.166/BBS/3.14/bioc/src/contrib/SCANVIS_1.8.0.tar.gz && rm -rf SCANVIS.buildbin-libdir && mkdir SCANVIS.buildbin-libdir && C:\Users\biocbuild\bbs-3.14-bioc\R\bin\R.exe CMD INSTALL --merge-multiarch --build --library=SCANVIS.buildbin-libdir SCANVIS_1.8.0.tar.gz && C:\Users\biocbuild\bbs-3.14-bioc\R\bin\R.exe CMD INSTALL SCANVIS_1.8.0.zip && rm SCANVIS_1.8.0.tar.gz SCANVIS_1.8.0.zip |
| StartedAt: 2022-04-12 06:06:16 -0400 (Tue, 12 Apr 2022) |
| EndedAt: 2022-04-12 06:07:44 -0400 (Tue, 12 Apr 2022) |
| EllapsedTime: 87.6 seconds |
| RetCode: 0 |
| Status: OK |
##############################################################################
##############################################################################
###
### Running command:
###
### C:\cygwin\bin\curl.exe -O http://155.52.207.166/BBS/3.14/bioc/src/contrib/SCANVIS_1.8.0.tar.gz && rm -rf SCANVIS.buildbin-libdir && mkdir SCANVIS.buildbin-libdir && C:\Users\biocbuild\bbs-3.14-bioc\R\bin\R.exe CMD INSTALL --merge-multiarch --build --library=SCANVIS.buildbin-libdir SCANVIS_1.8.0.tar.gz && C:\Users\biocbuild\bbs-3.14-bioc\R\bin\R.exe CMD INSTALL SCANVIS_1.8.0.zip && rm SCANVIS_1.8.0.tar.gz SCANVIS_1.8.0.zip
###
##############################################################################
##############################################################################
% Total % Received % Xferd Average Speed Time Time Time Current
Dload Upload Total Spent Left Speed
0 0 0 0 0 0 0 0 --:--:-- --:--:-- --:--:-- 0
100 276k 100 276k 0 0 822k 0 --:--:-- --:--:-- --:--:-- 824k
install for i386
* installing *source* package 'SCANVIS' ...
** using staged installation
** R
** data
** byte-compile and prepare package for lazy loading
** help
*** installing help indices
converting help for package 'SCANVIS'
finding HTML links ... done
GBM html
IR2Mat html
LUAD html
LUSC html
SCANVIS-package html
SCANVISannotation html
SCANVISexamples html
SCANVISlinkvar html
SCANVISmerge html
SCANVISreadSTAR html
SCANVISscan html
SCANVISvisual html
gbm3 html
gbm3.vcf html
gen19 html
gene2roi html
ls_url html
** building package indices
** installing vignettes
** testing if installed package can be loaded from temporary location
** testing if installed package can be loaded from final location
** testing if installed package keeps a record of temporary installation path
install for x64
* installing *source* package 'SCANVIS' ...
** testing if installed package can be loaded
* MD5 sums
packaged installation of 'SCANVIS' as SCANVIS_1.8.0.zip
* DONE (SCANVIS)
* installing to library 'C:/Users/biocbuild/bbs-3.14-bioc/R/library'
package 'SCANVIS' successfully unpacked and MD5 sums checked