| Back to Multiple platform build/check report for BioC 3.14 |
|
This page was generated on 2022-04-13 12:07:08 -0400 (Wed, 13 Apr 2022).
| Hostname | OS | Arch (*) | R version | Installed pkgs |
|---|---|---|---|---|
| nebbiolo2 | Linux (Ubuntu 20.04.4 LTS) | x86_64 | 4.1.3 (2022-03-10) -- "One Push-Up" | 4324 |
| tokay2 | Windows Server 2012 R2 Standard | x64 | 4.1.3 (2022-03-10) -- "One Push-Up" | 4077 |
| machv2 | macOS 10.14.6 Mojave | x86_64 | 4.1.3 (2022-03-10) -- "One Push-Up" | 4137 |
| Click on any hostname to see more info about the system (e.g. compilers) (*) as reported by 'uname -p', except on Windows and Mac OS X | ||||
|
To the developers/maintainers of the PubScore package: - Please allow up to 24 hours (and sometimes 48 hours) for your latest push to git@git.bioconductor.org:packages/PubScore.git to reflect on this report. See How and When does the builder pull? When will my changes propagate? for more information. - Make sure to use the following settings in order to reproduce any error or warning you see on this page. |
| Package 1484/2083 | Hostname | OS / Arch | INSTALL | BUILD | CHECK | BUILD BIN | ||||||||
| PubScore 1.6.0 (landing page) Tiago Lubiana
| nebbiolo2 | Linux (Ubuntu 20.04.4 LTS) / x86_64 | OK | OK | OK | |||||||||
| tokay2 | Windows Server 2012 R2 Standard / x64 | OK | OK | OK | OK | |||||||||
| machv2 | macOS 10.14.6 Mojave / x86_64 | OK | OK | OK | OK | |||||||||
| Package: PubScore |
| Version: 1.6.0 |
| Command: rm -rf PubScore.buildbin-libdir && mkdir PubScore.buildbin-libdir && C:\Users\biocbuild\bbs-3.14-bioc\R\bin\R.exe CMD INSTALL --merge-multiarch --build --library=PubScore.buildbin-libdir PubScore_1.6.0.tar.gz |
| StartedAt: 2022-04-13 06:52:28 -0400 (Wed, 13 Apr 2022) |
| EndedAt: 2022-04-13 06:52:45 -0400 (Wed, 13 Apr 2022) |
| EllapsedTime: 17.2 seconds |
| RetCode: 0 |
| Status: OK |
| PackageFile: PubScore_1.6.0.zip |
| PackageFileSize: 5.703 MiB |
##############################################################################
##############################################################################
###
### Running command:
###
### rm -rf PubScore.buildbin-libdir && mkdir PubScore.buildbin-libdir && C:\Users\biocbuild\bbs-3.14-bioc\R\bin\R.exe CMD INSTALL --merge-multiarch --build --library=PubScore.buildbin-libdir PubScore_1.6.0.tar.gz
###
##############################################################################
##############################################################################
install for i386
* installing *source* package 'PubScore' ...
** using staged installation
** R
** data
*** moving datasets to lazyload DB
** inst
** byte-compile and prepare package for lazy loading
** help
*** installing help indices
converting help for package 'PubScore'
finding HTML links ... done
PubScore-class html
all_counts html
dot-getSimulation_test html
dot-query_pubmed html
gene2pubmed_db html
getScore html
get_all_counts html
get_literature_score html
heatmapViz html
hgcn_entrez_reference html
initialize-PubScore-method html
networkViz html
plot_literature_graph html
plot_literature_score html
pubscore html
set_all_counts html
test_score html
** building package indices
** installing vignettes
** testing if installed package can be loaded from temporary location
** testing if installed package can be loaded from final location
** testing if installed package keeps a record of temporary installation path
install for x64
* installing *source* package 'PubScore' ...
** testing if installed package can be loaded
* MD5 sums
packaged installation of 'PubScore' as PubScore_1.6.0.zip
* DONE (PubScore)