| Back to Multiple platform build/check report for BioC 3.14 | 
  | 
This page was generated on 2022-04-13 12:07:07 -0400 (Wed, 13 Apr 2022).
| Hostname | OS | Arch (*) | R version | Installed pkgs | 
|---|---|---|---|---|
| nebbiolo2 | Linux (Ubuntu 20.04.4 LTS) | x86_64 | 4.1.3 (2022-03-10) -- "One Push-Up" | 4324 | 
| tokay2 | Windows Server 2012 R2 Standard | x64 | 4.1.3 (2022-03-10) -- "One Push-Up" | 4077 | 
| machv2 | macOS 10.14.6 Mojave | x86_64 | 4.1.3 (2022-03-10) -- "One Push-Up" | 4137 | 
| Click on any hostname to see more info about the system (e.g. compilers) (*) as reported by 'uname -p', except on Windows and Mac OS X | ||||
| 
To the developers/maintainers of the PrInCE package: - Please allow up to 24 hours (and sometimes 48 hours) for your latest push to git@git.bioconductor.org:packages/PrInCE.git to reflect on this report. See How and When does the builder pull? When will my changes propagate? for more information. - Make sure to use the following settings in order to reproduce any error or warning you see on this page.  | 
| Package 1456/2083 | Hostname | OS / Arch | INSTALL | BUILD | CHECK | BUILD BIN | ||||||||
| PrInCE 1.10.0  (landing page) Michael Skinnider 
  | nebbiolo2 | Linux (Ubuntu 20.04.4 LTS) / x86_64 | OK | OK | WARNINGS | |||||||||
| tokay2 | Windows Server 2012 R2 Standard / x64 | OK | OK | WARNINGS | OK | |||||||||
| machv2 | macOS 10.14.6 Mojave / x86_64 | OK | OK | WARNINGS | OK | |||||||||
| Package: PrInCE | 
| Version: 1.10.0 | 
| Command: C:\cygwin\bin\curl.exe -O http://155.52.207.166/BBS/3.14/bioc/src/contrib/PrInCE_1.10.0.tar.gz && rm -rf PrInCE.buildbin-libdir && mkdir PrInCE.buildbin-libdir && C:\Users\biocbuild\bbs-3.14-bioc\R\bin\R.exe CMD INSTALL --merge-multiarch --build --library=PrInCE.buildbin-libdir PrInCE_1.10.0.tar.gz && C:\Users\biocbuild\bbs-3.14-bioc\R\bin\R.exe CMD INSTALL PrInCE_1.10.0.zip && rm PrInCE_1.10.0.tar.gz PrInCE_1.10.0.zip | 
| StartedAt: 2022-04-12 06:16:42 -0400 (Tue, 12 Apr 2022) | 
| EndedAt: 2022-04-12 06:18:15 -0400 (Tue, 12 Apr 2022) | 
| EllapsedTime: 93.2 seconds | 
| RetCode: 0 | 
| Status: OK | 
##############################################################################
##############################################################################
###
### Running command:
###
###   C:\cygwin\bin\curl.exe -O http://155.52.207.166/BBS/3.14/bioc/src/contrib/PrInCE_1.10.0.tar.gz && rm -rf PrInCE.buildbin-libdir && mkdir PrInCE.buildbin-libdir && C:\Users\biocbuild\bbs-3.14-bioc\R\bin\R.exe CMD INSTALL --merge-multiarch --build --library=PrInCE.buildbin-libdir PrInCE_1.10.0.tar.gz && C:\Users\biocbuild\bbs-3.14-bioc\R\bin\R.exe CMD INSTALL PrInCE_1.10.0.zip && rm PrInCE_1.10.0.tar.gz PrInCE_1.10.0.zip
###
##############################################################################
##############################################################################
  % Total    % Received % Xferd  Average Speed   Time    Time     Time  Current
                                 Dload  Upload   Total   Spent    Left  Speed
  0     0    0     0    0     0      0      0 --:--:-- --:--:-- --:--:--     0
 40 1811k   40  740k    0     0  1238k      0  0:00:01 --:--:--  0:00:01 1238k
100 1811k  100 1811k    0     0  1617k      0  0:00:01  0:00:01 --:--:-- 1618k
install for i386
* installing *source* package 'PrInCE' ...
** using staged installation
** R
** data
** inst
** byte-compile and prepare package for lazy loading
** help
Loading required namespace: PrInCE
Registered S3 method overwritten by 'quantmod':
  method            from
  as.zoo.data.frame zoo 
*** installing help indices
  converting help for package 'PrInCE'
    finding HTML links ... done
    PrInCE                                  html  
    finding level-2 HTML links ... done
    adjacency_matrix_from_data_frame        html  
    adjacency_matrix_from_list              html  
    aic                                     html  
    build_gaussians                         html  
    calculate_autocorrelation               html  
    calculate_features                      html  
    calculate_precision                     html  
    check_gaussians                         html  
    choose_gaussians                        html  
    clean_profile                           html  
    clean_profiles                          html  
    co_apex                                 html  
    concatenate_features                    html  
    detect_complexes                        html  
    filter_profiles                         html  
    fit_curve                               html  
    fit_gaussians                           html  
    gold_standard                           html  
    impute_neighbors                        html  
    is_unweighted                           html  
    is_weighted                             html  
    kristensen                              html  
    kristensen_gaussians                    html  
    make_feature_from_data_frame            html  
    make_feature_from_expression            html  
    make_initial_conditions                 html  
    make_labels                             html  
    match_matrix_dimensions                 html  
    predict_ensemble                        html  
    predict_interactions                    html  
    replace_missing_data                    html  
    scott                                   html  
    scott_gaussians                         html  
    threshold_precision                     html  
** building package indices
** installing vignettes
** testing if installed package can be loaded from temporary location
** testing if installed package can be loaded from final location
** testing if installed package keeps a record of temporary installation path
install for x64
* installing *source* package 'PrInCE' ...
** testing if installed package can be loaded
* MD5 sums
packaged installation of 'PrInCE' as PrInCE_1.10.0.zip
* DONE (PrInCE)
* installing to library 'C:/Users/biocbuild/bbs-3.14-bioc/R/library'
package 'PrInCE' successfully unpacked and MD5 sums checked