| Back to Multiple platform build/check report for BioC 3.14 |
|
This page was generated on 2022-04-13 12:07:02 -0400 (Wed, 13 Apr 2022).
| Hostname | OS | Arch (*) | R version | Installed pkgs |
|---|---|---|---|---|
| nebbiolo2 | Linux (Ubuntu 20.04.4 LTS) | x86_64 | 4.1.3 (2022-03-10) -- "One Push-Up" | 4324 |
| tokay2 | Windows Server 2012 R2 Standard | x64 | 4.1.3 (2022-03-10) -- "One Push-Up" | 4077 |
| machv2 | macOS 10.14.6 Mojave | x86_64 | 4.1.3 (2022-03-10) -- "One Push-Up" | 4137 |
| Click on any hostname to see more info about the system (e.g. compilers) (*) as reported by 'uname -p', except on Windows and Mac OS X | ||||
|
To the developers/maintainers of the OrderedList package: - Please allow up to 24 hours (and sometimes 48 hours) for your latest push to git@git.bioconductor.org:packages/OrderedList.git to reflect on this report. See How and When does the builder pull? When will my changes propagate? for more information. - Make sure to use the following settings in order to reproduce any error or warning you see on this page. |
| Package 1347/2083 | Hostname | OS / Arch | INSTALL | BUILD | CHECK | BUILD BIN | ||||||||
| OrderedList 1.66.0 (landing page) Claudio Lottaz
| nebbiolo2 | Linux (Ubuntu 20.04.4 LTS) / x86_64 | OK | OK | OK | |||||||||
| tokay2 | Windows Server 2012 R2 Standard / x64 | OK | OK | OK | OK | |||||||||
| machv2 | macOS 10.14.6 Mojave / x86_64 | OK | OK | OK | OK | |||||||||
| Package: OrderedList |
| Version: 1.66.0 |
| Command: C:\cygwin\bin\curl.exe -O http://155.52.207.166/BBS/3.14/bioc/src/contrib/OrderedList_1.66.0.tar.gz && rm -rf OrderedList.buildbin-libdir && mkdir OrderedList.buildbin-libdir && C:\Users\biocbuild\bbs-3.14-bioc\R\bin\R.exe CMD INSTALL --merge-multiarch --build --library=OrderedList.buildbin-libdir OrderedList_1.66.0.tar.gz && C:\Users\biocbuild\bbs-3.14-bioc\R\bin\R.exe CMD INSTALL OrderedList_1.66.0.zip && rm OrderedList_1.66.0.tar.gz OrderedList_1.66.0.zip |
| StartedAt: 2022-04-12 04:27:25 -0400 (Tue, 12 Apr 2022) |
| EndedAt: 2022-04-12 04:28:05 -0400 (Tue, 12 Apr 2022) |
| EllapsedTime: 39.9 seconds |
| RetCode: 0 |
| Status: OK |
##############################################################################
##############################################################################
###
### Running command:
###
### C:\cygwin\bin\curl.exe -O http://155.52.207.166/BBS/3.14/bioc/src/contrib/OrderedList_1.66.0.tar.gz && rm -rf OrderedList.buildbin-libdir && mkdir OrderedList.buildbin-libdir && C:\Users\biocbuild\bbs-3.14-bioc\R\bin\R.exe CMD INSTALL --merge-multiarch --build --library=OrderedList.buildbin-libdir OrderedList_1.66.0.tar.gz && C:\Users\biocbuild\bbs-3.14-bioc\R\bin\R.exe CMD INSTALL OrderedList_1.66.0.zip && rm OrderedList_1.66.0.tar.gz OrderedList_1.66.0.zip
###
##############################################################################
##############################################################################
% Total % Received % Xferd Average Speed Time Time Time Current
Dload Upload Total Spent Left Speed
0 0 0 0 0 0 0 0 --:--:-- --:--:-- --:--:-- 0
81 492k 81 401k 0 0 823k 0 --:--:-- --:--:-- --:--:-- 823k
100 492k 100 492k 0 0 543k 0 --:--:-- --:--:-- --:--:-- 544k
install for i386
* installing *source* package 'OrderedList' ...
** using staged installation
** R
** data
** inst
** byte-compile and prepare package for lazy loading
** help
*** installing help indices
converting help for package 'OrderedList'
finding HTML links ... done
OL.data html
OL.result html
OrderedList html
check.test.args html
compareLists html
getOverlap html
overlap html
plot.OrderedList html
prepareData html
preparePermutations html
print.OrderedList html
scoreOrderComparison html
scoreRankings html
shuffledRandomScores html
** building package indices
** installing vignettes
** testing if installed package can be loaded from temporary location
** testing if installed package can be loaded from final location
** testing if installed package keeps a record of temporary installation path
install for x64
* installing *source* package 'OrderedList' ...
** testing if installed package can be loaded
* MD5 sums
packaged installation of 'OrderedList' as OrderedList_1.66.0.zip
* DONE (OrderedList)
* installing to library 'C:/Users/biocbuild/bbs-3.14-bioc/R/library'
package 'OrderedList' successfully unpacked and MD5 sums checked